{"text_format":"2","workbook":"xlsx","n_sheets":7,"sheets":["Cover","Content","Tab1.1_2013_GDP_P_Current","Tab 1.2_2013_GDP_P_Constant","Tab1.3_2013_Contribution to GDP","Tab 1.4_2013_GDP Growth","Tab 1.5_2013_Deflator"],"not_rendered":{"charts":0,"images":1,"macros":0,"external_links":0,"defined_names":0,"comments":0,"pivot_tables":0},"unopened":[],"bounds":{"document_bytes":16777216,"sheet_cells":100000,"run_cost":"one","rows_first":2000,"rows_last":500,"rows_between":2000,"halvings":0,"cell_chars":16384,"cell_head_chars":4096},"cells_cut":0,"cells_raw":0,"read":"whole","date_system":"1900"}

{"sheet":"Cover","index":0,"n_rows":34,"n_cols":5,"rows_kept":34,"cut":false,"hidden":false,"merged":[]}
[{"$nulls":4},"THE REPUBLIC OF THE GAMBIA"]
[]
[null,null,null,"Gambia National Accounts Statistics Annual Bulletin"]
{"$rows_empty":21}
[{"$nulls":4},"APRIL  2019"]
{"$rows_empty":7}
["GAMBIA BUREAU OF STATISTICS, GBoS"]
["https://www.gbosdata.org/"]

{"sheet":"Content","index":1,"n_rows":13,"n_cols":1,"rows_kept":13,"cut":false,"hidden":false,"merged":[]}
[]
["TABLE OF CONTENTS"]
[]
[]
["Table 1.1: Gross Domestic Product (GDP) at Current Market Prices by Economic Activity (GMD Million)"]
[]
["Table 1.2: Gross Domestic Product (GDP) at Constant 2013 Prices by Economic Activity (GMD Million)"]
[]
["Table 1.3: Contribution of Gross Domestic Product (at Basic Prices) by Economic Activity (percent)"]
[]
["Table 1.4: Growth Rates of Gross Domestic Product at Constant 2013 Prices (percent)"]
[]
["Table 1.5: GDP deflator "]

{"sheet":"Tab1.1_2013_GDP_P_Current","index":2,"n_rows":39,"n_cols":18,"rows_kept":39,"cut":false,"hidden":false,"merged":[[0,0,0,13]]}
["Current GDP estimates, 2013 base year"]
[]
["ISIC Rev.4","Industry","IC/GO",2004,2005,2006,2007,2008,2009,2010,2011,2012,2013,2014,2015,2016,2017,"2018*"]
[null,"Gross Domestic Product (GDP) market price",null,28885956430.048653,29367002974.555515,29584431160.091385,31830608035.575485,34659278882.047791,38638120465.079025,43230706491.82457,41531716061.731461,45389296624.903412,49463596581.155304,51309079338.932274,58581061601.176086,64389939269.001274,70142188245.350159,78622559655]
["A","Agriculture, forestry and fishing",null,9099832640.1450977,9424057143.637804,7573681214.4240551,7501263757.2041121,10320046854.166759,12261508440.434805,15214287814.766251,11297632096.101929,12433749433.499235,12970404906.372986,11523423632.768719,13010201236.767643,14076528855.379642,14731188512.645508,15619232819.293108]
[null,"Crop",{"$error":"#REF!"},6103625875.6740751,6388604412.7468739,4337161841.5057793,3686338440.2303176,6285448240.0364676,8125928371.3679199,10820644171.33106,6570670065.7539463,7432120527.1678219,7413605986.7678728,6233471130.8444071,6978245801.955389,7130316898.9636497,6525694144.2363358,7185588646.47258]
[null,"Livestock",0.14937080229605634,1279625981.4476054,1301919965.3918064,1396379508.0707309,1643344847.7820365,1735765770.5684745,1754466499.6292069,1891170734.0108032,2011972582.9241707,2156805712.7465224,2475418410,2689993822.837553,2695667992.6489897,2957402638.0821929,2936857005.4051466,2979236912.7688227]
[null,"Forestry and logging",0.1813098868136214,435122995.50859326,456270739.70696634,465062210.95298064,469351706.06247187,475970371.81942129,469310442.56024659,504817686.22517747,522334859.93719101,538266073.16527534,567908487.37412357,572346609.14021659,576784730.90630949,581257267.00192952,585764484.28457606,590306651.6810298]
[null,"Fishing and aquaculture",0.47875071254134888,1281457787.5148237,1277262025.7921579,1375077653.8945634,1702228763.129287,1822862471.7423954,1911803126.8774304,1997655223.1992097,2192654587.4866214,2306557120.4196153,2513472022.2309914,2027612069.9465415,2759502711.2569566,3407552051.3318701,4682872878.7194471,4864100608.370676]
[null,"Industry",null,3307922834.5785823,3375466699.1855006,3586784616.0999365,3781329766.0255404,3868686288.8810778,3945341428.4579716,4248785735.673995,4781405441.5800924,5427819466.3492565,5883544648.8688755,6780409791.2325153,10042816759.178852,13480415600.798618,12550369898.807072,12238923320.569038]
["B","Mining and quarrying",{"$error":"#REF!"},36274506.845976688,56818079.417711221,60720159.6029246,53528405.188113868,71263158.910806209,81876672.124353573,95772814.222762048,107615812.265669,121831258.41741516,137781650.43193999,261996810.53925866,245733019.79618621,238886001.14649963,324119267.85822022,326702264.33060646]
["C ","Manufacturing",0.56824287091235548,1520000937.5337517,1850713526.9733663,1966007715.7336667,2071878310.1506224,1937914290.1881359,1866211461.451175,1967360122.6618285,2279557229.2030025,2609049345.7869072,2775502628.6180553,3341134895.4064312,3719460591.1399741,3596987454.8837109,3134859326.8259873,3472223979.5138178]
["D ","Electricity, gas, steam and air conditioning supply",{"$error":"#REF!"},167958048.51669773,219089589.24859425,234656081.36894724,319444554.55895537,350486160.77002418,374019763.29128253,412808617.64333463,413692157.55552912,418255414.37274879,456931209.6653192,482924453.62308025,595312927.30810738,638763329.41053391,584594638.90424156,1173192462.9950581]
["E ","Water supply, sewerage, waste management and remediation activities",{"$error":"#REF!"},119743763.35159454,156197408.57594913,167295360.50582463,227744329.50892654,249875086.45102137,266653098.31769231,294307166.92131644,294937076.56299096,298190398.14691842,325763862.59145117,384209542.25981677,441799990.33675307,478908320.4736383,467552861.20009017,469203375.66929358]
["F ","Construction",{"$error":"#REF!"},1463945578.3305619,1092648094.9698796,1158105298.8885734,1108734166.6189225,1259147592.5610905,1356580433.2734678,1478537014.2247527,1685603165.9929008,1980493049.6252675,2187565297.562109,2310144089.4039283,5040510230.5978317,8526870494.8842344,8039243804.0185337,6797601238.0602636]
[null,"Services",null,14748680236.262449,14901024908.04608,16450177965.158518,18257194982.274609,18365469008.729935,19744240231.988949,21269739848.048256,22800995624.243462,24715024066.115231,27267449156.443439,28958193717.691036,30397588340.229591,31421024709.443512,37473714536.627571,44429453249.729599]
["G","Wholesale and retail trade; repair of motors and motocycles",0.56747876161860444,9089441504.9382401,8757997530.7047882,9807751698.3453979,11478334859.036821,11234800480.858631,11730062020.147661,12704775898.234507,13400116175.118692,14557545535.364389,15582509123.017822,16664041942.156315,17872062274.282906,18169200983.183376,22902452764.054211,26632425801.424805]
["H ","Transport and storage",0.49890550039527992,671682074.46285057,805938668.96221054,823936738.43093157,870241340.73323548,915768066.53505075,973535612.70227313,1139242930.0457103,1301882436.5824246,1457734317.9157696,1731429690.4392505,2088274322.4127088,1847335286.3200788,2073521441.7252955,2295478035.3956871,2812177743.697073]
["I ","Accommodation and food service activities",0.52832359896981018,447546560.69731462,562304435.88690865,643859477.030568,755195526.95875239,814097821.69310379,823330021.36928809,564007098.59719563,710264376.41321671,777803959.59521043,905782024.057971,876356310.04302621,821865164.42434478,1074571745.7528291,1154292080.7097409,1707688142.2622142]
["J ","Information and Communication",0.62328151622885875,697391564.3649646,734222670.56628895,797798779.6440587,888123794.4634099,839742900.94582558,940081190.95725513,1105450761.3414114,1213597773.4151506,1390503881.8359692,1765095127.980617,1683136520.3237123,1858931322.4216514,1821550409.026957,2320360266.1904321,2664331495.2213955]
["K ","Financial and insurance activities",0.43131288323146622,387131670.55001688,412099075.05891573,463285101.52390558,459644167.96108228,582292730.06411982,778041175.32494104,822317042.97484362,979041281.38730431,1064334526.8568006,1193253259.0400686,1346759348.2873795,1269761722.1514916,1164430371.0229499,1417064822.2845528,2571224936.499773]
["L ","Real estate activities",0.44291958578376328,682047177.93661749,723546104.65504873,791966097.98051238,839353420.75959921,873848303.28445637,928187780.5545634,965477688.24642491,997466228.59053195,1024929165.1736249,1119592412.2963271,1149392979.5751455,1284650307.6595111,1337181693.0380831,1424663272.0447769,1499808038.3808982]
["M ","Professional, scientific and technical activities",0.39988162264408178,63987240.765970521,67880522.493922174,74299442.955358908,78745153.061650068,81981340.270853683,87079276.78852731,90577683.319346055,93578734.418102384,96155209.465765804,105036178.67328271,112365383.50782304,115738164.99118775,135880704.66360065,122136146.62975943,119310344.53873934]
["N ","Administrative and support service activities",0.32999294150391784,362116658.46493715,384149522.4064343,420475483.6546936,445634650.84056967,463948884.80871117,492799132.36975479,512597318.19129002,529580869.64241165,544161659.87042761,594420849.9036119,672965539.46333206,708812912.44981837,755364486.24866176,844326020.05779076,790904237.97526693]
["O","Public administration and defence; compulsory social security",0.55570426907573778,946268941.04726017,983139339.57719922,1034827807.0263629,787805481.64273679,811178194.71779215,1107078496.7409112,1323432869.0873194,1420193420.2859797,1527385771.459475,1727435504.5621533,1592915459.0099998,1732861295.4900007,1651124041.5800004,1694960564.4100003,2234733864.1999998]
["P ","Education",0.23395733249191367,544446858.18956184,582780012.37984049,634266507.42065883,671885599.37718666,741414957.32768643,786261545.79403532,872507130.53098071,937621403.35066092,1012291402.2557324,1156209336.2711349,1109597998.3437719,1176831268.6822302,1364573976.4207377,1507407823.1920094,1485175772.1774879]
["Q ","Human health and social work activities",0.41971947764438516,243760845.16014132,249208771.71532965,294793145.0212431,294186439.31218594,296453888.65744716,361911580.59505069,404258645.06287318,419663326.7554726,421375110.33880705,461652123.48007751,440731129.84560883,421876827.68206459,486319118.23423946,448754214.32787496,511454566.06300002]
["R","Arts, entertainment and recreation",0.52754278884137584,141193428.77324355,146929806.09883463,152726156.85647348,158515003.86996108,163559714.76930675,169533813.52476802,176266206.49156415,183844671.98290008,193708350.04485652,213113661.70566288,283088135.95190603,357357463.59694248,387607013.34464681,420039952.43752885,446835418.53281844]
["S ","Other service activities",0.64954121565428069,471665710.91133076,490828447.54035497,510191529.26835704,529529544.25741571,546381724.79694605,566338585.11991823,588828575.92478836,614144926.30061638,647095175.93840122,711919865.01546574,938568648.77031064,929504330.07736278,999698725.2021327,921778574.8932054,953382888.75612164]
[null,"GDP basic price (Gross Value Added)",null,27156435710.98613,27700548750.869385,27610643795.68251,29539788505.504261,32554202151.777771,35951090100.881729,40732813398.488503,38880033161.925484,42576592965.963722,46121398711.685303,47262027141.692276,53450606336.176086,58977969165.621773,64755272948.080154,72287609389.591736]
[null,"Taxes less subsidies on products (+)",null,1729520719.0625219,1666454223.68613,1973787364.408874,2290819530.0712233,2105076730.2700191,2687030364.1972952,2497893093.3360677,2651682899.8059759,2812703658.9396877,3342197869.4699998,4047052197.2400002,5130455265.000001,5411970103.3795004,5386915297.2699995,6334950268]
[]
[null,"Items"]
[null,"Population estimates","Population estimates",{"$nulls":9},1857181,1897597,1958560,2020414,2083429,2147677]
[null,"GDP per Capita (GMD)","GDP per Capita (GMD)",{"$nulls":9},{"$f":"M4/M34","v":26633.697297762203},{"$f":"N4/N34","v":27038.975788290281},29910.271628735441,31869.675853068369,33666.704382702825,{"$f":"R4/R34","v":36608.186265904973}]
[null,"GDP per Capita (USD)","GDP per Capita (USD)",{"$nulls":9},{"$f":"M35/M37","v":685.14819572921499},651.0984081935718,703.66870071765106,727.28143631179478,722.3529594846874,742.71021030442228]
[null,"Exchange rate (1USD to GMD) annual average","Exchange rate (1USD to GMD) annual average",{"$nulls":9},38.872900000000001,41.528247417019614,42.506184513011355,43.820279553244966,46.606999999999999,49.29]
[]
[null,"2018* Provisional data"]

{"sheet":"Tab 1.2_2013_GDP_P_Constant","index":3,"n_rows":39,"n_cols":17,"rows_kept":39,"cut":false,"hidden":false,"merged":[[0,0,0,12]]}
["Constant GDP estimates, 2013 base year"]
[]
["ISIC Rev.4","Industry",2004,2005,2006,2007,2008,2009,2010,2011,2012,2013,2014,2015,2016,2017,2018]
[null,"Gross Domestic Product (GDP) market price",41405087543.558105,40431351888.665413,40206723028.053589,41430313891.321526,44022155223.360687,46956550693.710487,49730901420.444191,45687558189.818512,48082303215.728668,49463596581.155304,48767454569.021126,50746473892.19915,51732660424.362122,54227525506.803696,57777815974.646606]
["A","Agriculture, forestry and fishing",13264082360.846952,12881915110.18255,10732927906.016966,10282300302.017405,13467057409.690937,15476152588.550007,17303508922.371124,12503887025.005821,13317496463.083157,12970404906.372986,11364069476.507944,11812967622.338547,11785258709.878891,11269163904.265272,11370832601.612333]
[null,"Crop",9198950966.6508274,8823126559.3108864,6502248085.4093904,5515049554.2873821,8558084416.4766846,10646127514.135317,12314152033.746754,7333391018.641819,7954512861.3389206,7413605986.7678728,6374745231.1153831,6744770199.8487463,6566629067.4149933,5352138356.7554893,5704726584.1514473]
[null,"Livestock",1881098312.039196,1898442772.4243333,1925389216.9919231,2159754727.6663284,2222594377.1433015,2119329786.352679,2225411658.7939954,2300455464.4666605,2396842810.9988465,2475418410,2406895848.7767305,2015129064.6625142,1954384913.589349,1741489551.2233353,1643581611.719615]
[null,"Forestry and logging",485819316.06521279,500293613.22263145,515344819.38314283,494731026.60781705,499678336.87389517,500295573.4060871,515204189.83770359,533081775.22507185,549340769.3694365,567908487.37412357,544107595.07535732,549995292.69396091,461759890.48206383,408009219.19744742,333723178.83226478]
[null,"Fishing and aquaculture",1698213766.0917172,1660052165.2246983,1789945784.2325094,2112764993.4558771,2186700279.1970553,2210399714.6559243,2248741039.9926701,2336958766.6722722,2416800021.3759532,2513472022.2309914,2038320801.5404735,2503073065.1333246,2802484838.3924837,3767526777.0890002,3688801226.9090066]
[null,"Industry",4881885045.6212511,4792964166.343152,4981573908.8153591,5110575397.6212492,5058539420.549675,5021454285.294548,5167035080.4285984,5398696812.3730106,5677500219.1744213,5883544648.8688755,6446782330.5279484,7904545860.0334053,9423800546.8797951,9089466572.6772308,9318242855.6368122]
["B","Mining and quarrying",51180479.497891568,75712188.388969094,76653335.642847762,65841762.491485,85464711.076973051,95798360.426799342,109389266.24293329,117735667.25726911,128288315.11353813,137781650.43193999,272314728.26782197,252464448.19646472,231923996.72971842,243235875.18181816,295694512.63278341]
["C ","Manufacturing",2253501915.2262273,2648704216.8946538,2757778116.9034038,2865089592.5889111,2627868438.9222145,2515788943.9419374,2526283811.000668,2625269585.8894286,2690001532.548768,2775502628.6180553,2865917846.3591943,2941519748.9538317,2734259469.4325995,2519157816.9552846,2526253674.9824171]
["D ","Electricity, gas, steam and air conditioning supply",253432339.39356655,302389651.99309236,313370871.78743893,418499509.75294292,440313738.72355425,450198175.90311283,484772811.53567332,465997920.60257232,447095117.1191023,456931209.6653192,484478570.00173521,533606586.31777096,572326850.48142242,529873560.74287939,600148303.61930132]
["E ","Water supply, sewerage, waste management and remediation activities",180681678.20470506,215585232.43160981,223414167.07319894,298364423.14720464,313916627.37095577,320963623.43304145,345613213.15926009,332227870.11259007,318751333.28094608,325763862.59145117,384209542.25981677,401450867.75086117,435170133.61794055,424851756.34590673,426351531.08649021]
["F ","Construction",2143088633.2988605,1550572876.6348274,1610357417.4084702,1462780109.6407053,1590975904.4559777,1638705181.5896571,1700975978.4900639,1857465768.5111501,2093363921.1120663,2187565297.562109,2439861643.6393805,3775504208.8144765,5450120096.6181135,5372347563.4513426,5469794833.3158197]
[null,"Services",20728819186.430897,20249998902.046604,21957572241.693584,23410755461.248291,22719244812.269852,23502501960.436596,24111018585.79232,24771959903.364223,25897662232.339741,27267449156.443439,27638043390.807541,27570826424.889328,26997335477.171288,30164904395.373955,33151173982.252014]
["G","Wholesale and retail trade; repair of motors and motocycles",13123305046.871695,12301718122.654175,13498631157.230732,14992903470.984564,14050447533.687384,14029857771.067278,14428784156.811117,14577088579.127892,15241750175.526514,15582509123.017822,15795932763.676411,15846498009.29895,14984578304.968594,17533519482.359718,19207213458.401806]
["H ","Transport and storage",1261266669.2589104,1321255571.4828751,1356249097.7801893,1425986196.6155519,1457230416.5238669,1518968995.0627007,1568709793.1567392,1591705539.0092604,1643945874.6959651,1731429690.4392505,1892287523.6952958,1589452969.9306486,1798031206.9821019,1957388168.6082864,2342948672.5428209]
["I ","Accommodation and food service activities",676908140.70426095,810684987.61962068,937624985.68105602,1071552093.0107876,1102603407.6407542,1063610830.1112294,684428674.44357789,799332813.31381905,830992682.62199163,905782024.057971,837149491.73481596,729252281.53544486,880731450.75045347,870969905.1210953,1029566545.2803211]
["J ","Information and Communication",808199253.74376094,846684932.49346411,923656289.9928695,1019870486.8671269,958524314.94010055,1051293651.2832832,1205714795.7575791,1290291665.4520595,1436440591.7957573,1765095127.980617,1702702313.9153628,1864438595.8837733,1814468390.9634423,2321439742.403604,2687225092.8298655]
["K ","Financial and insurance activities",568950472.98747694,587102690.06215394,646725641.01581991,608947828.3856256,738614176.14838803,943858776.83060694,949621185.22255087,1078863461.3562827,1124992334.0743248,1193253259.0400686,1248971526.5789533,1279264823.1582065,1184649839.2957704,1197948774.5669439,1320545161.0576167]
["L ","Real estate activities",842775601.09274673,865888078.27996182,889634145.6370759,914031888.51622689,939098789.42448163,964852933.71397793,991313009.58192515,1018498910.9156753,1046430531.6025798,1119592412.2963271,1238844386.6722031,1251167305.2403202,1253129683.8963649,1286269764.6080217,1317936304.9668779]
["M ","Professional, scientific and technical activities",79066209.850689396,81234540.268755823,83462311.863414943,85751221.338089973,88102908.839423314,90519071.070838168,93001461.292538524,95551945.878289923,98172391.20185788,105036178.67328271,108194367.62610632,106535211.11646342,118173872.72817221,99902543.494318008,92113566.691602841]
["N ","Administrative and support service activities",447451575.74985909,459722593.4721247,472330000.76183063,485283399.60472715,498592071.92037213,512265619.69451588,526313964.97909987,540747669.95844948,555577296.81688941,594420849.9036119,654511188.01709187,674567269.15335512,660970981.89362681,657738327.03341103,608378455.99969542]
["O","Public administration and defence; compulsory social security",1390690048.2135556,1400643160.6020536,1444574139.4202511,1043703957.7042015,1028945894.5074633,1342983750.9031701,1528315508.5278075,1564995080.7324748,1614433470.5936813,1727435504.5621533,1503488002.3010678,1531318074.4282017,1360723520.5451097,1292970361.6402731,1600367327.4135447]
["P ","Education",583547759.65791702,605640044.75503957,668413277.74025571,707731705.84262371,779945254.48608172,821891399.31806326,908189996.24645984,950549992.63338506,1017160306.3622109,1156209336.2711349,1111075654.4063749,1168251140.7604878,1343685732.4317057,1485977023.2115779,1462791388.6538134]
["Q ","Human health and social work activities",250337427.60102278,254007128.57924047,301234584.64673746,299798614.69873923,301234584.64673746,365215023.44088024,407579966.16002238,422826541.6666609,423181113.19007105,461652123.48007751,360774061.81692719,328826495.76888055,370037627.09609795,337974701.470487,380988121.90275842]
["R","Arts, entertainment and recreation",160421768.11174113,164821212.57953042,169341260.50947696,173985354.43618092,178756822.14308897,183659106.16480118,188695763.78707117,193870581.79795897,199187346.98552465,213113661.70566288,278120846.24017352,343825151.07124811,357792379.46601039,366059388.29343283,360137359.86896247]
["S ","Other service activities",535899212.58726293,550595839.19760847,565695349.41387653,581209243.24384856,597148637.36171222,613525031.77524829,630350309.82583094,647637121.52201855,665398116.87237024,711919865.01546574,905991264.12674999,857429097.54334617,870362486.1538384,756746212.56278479,740962526.64233541]
[null,"GDP basic price (Gross Value Added)",38874786592.899101,37924878178.572304,37672074056.525909,38803631160.886948,41244841642.510468,44000108834.281151,46581562588.592041,42674543740.743057,44892658914.597321,46121398711.685303,45448895197.84343,47288339907.261276,48206394733.929977,50523534872.31646,53840249439.50116]
[null,"Taxes less subsidies on products (+)",2530300950.6590033,2506473710.0931087,2534648971.5276833,2626682730.4345775,2777313580.8502197,2956441859.4293389,3149338831.8521519,3013014449.0754528,3189644301.1313486,3342197869.4699998,3318559371.1776962,3458133984.9378757,3526265690.4321456,3703990634.4872375,3937566535.1454506]
[null,"Items"]
[null,"Growth rate"]
[null,"GDP growth rate",null,{"$f":"D4/C4-1","v":-2.3517294918609322E-2},-5.5558087998238692E-3,3.0432494148160183E-2,6.2559056125859547E-2,6.6657242369465797E-2,5.9083358674071107E-2,-8.1304442813969868E-2,5.2415693041871103E-2,2.8727687174826988E-2,-1.4073825201772583E-2,4.058073854105082E-2,1.9433597184662199E-2,4.822611213063932E-2,{"$f":"Q4/P4-1","v":6.5470265048281906E-2}]
[null,"Agriculture",null,{"$f":"D5/C5-1","v":-2.8812189208993977E-2},-0.16682202807460755,-4.198552416875323E-2,0.30973196795746949,0.14918590733958847,0.11807562140302763,-0.2773785316549312,6.5068521208664354E-2,-2.6062823269548341E-2,-0.12384620537758018,3.9501531274388491E-2,-2.3456351820737575E-3,-4.3791555053518394E-2,{"$f":"Q5/P5-1","v":9.0218491993518946E-3}]
[null,"Industry",null,{"$f":"D10/C10-1","v":-1.8214455778276739E-2},3.9351377545580268E-2,2.5895729174590709E-2,-1.0182019248907825E-2,-7.3311942780307504E-3,2.899175953077715E-2,4.4834557601880265E-2,5.1642723511058142E-2,3.6291399690058679E-2,9.5731011706923441E-2,0.22612265387065977,0.19220012303653955,-3.5477615696488995E-2,{"$f":"Q10/P10-1","v":2.5169384928184657E-2}]
[null,"Services",null,{"$f":"D16/C16-1","v":-2.309925520010947E-2},8.4324613937356796E-2,6.6181415848668657E-2,-2.9538160360655374E-2,3.4475492237476812E-2,2.5891567901157098E-2,2.7412417904292496E-2,4.5442602578354752E-2,5.2892300154921967E-2,1.3591085555449745E-2,-2.4320450245971514E-3,-2.0800644089519427E-2,0.1173289460688125,{"$f":"Q16/P16-1","v":9.8998145253065273E-2}]
[]
[null,"2018* Provisional data"]

{"sheet":"Tab1.3_2013_Contribution to GDP","index":4,"n_rows":68,"n_cols":17,"rows_kept":68,"cut":false,"hidden":false,"merged":[[0,0,0,13],[34,0,34,13]]}
["Contribution to GDP estimates, 2013 base year: market price"]
[]
["ISIC Rev.4","Industy",2004,2005,2006,2007,2008,2009,2010,2011,2012,2013,2014,2015,2016,2017,"2018*"]
[null,"Gross Domestic Product (GDP) market price",{"$f":"Tab1.1_2013_GDP_P_Current!D4/Tab1.1_2013_GDP_P_Current!D$4*100","v":100},{"$f":"Tab1.1_2013_GDP_P_Current!E4/Tab1.1_2013_GDP_P_Current!E$4*100","v":100},{"$f":"Tab1.1_2013_GDP_P_Current!F4/Tab1.1_2013_GDP_P_Current!F$4*100","v":100},{"$f":"Tab1.1_2013_GDP_P_Current!G4/Tab1.1_2013_GDP_P_Current!G$4*100","v":100},{"$f":"Tab1.1_2013_GDP_P_Current!H4/Tab1.1_2013_GDP_P_Current!H$4*100","v":100},{"$f":"Tab1.1_2013_GDP_P_Current!I4/Tab1.1_2013_GDP_P_Current!I$4*100","v":100},{"$f":"Tab1.1_2013_GDP_P_Current!J4/Tab1.1_2013_GDP_P_Current!J$4*100","v":100},{"$f":"Tab1.1_2013_GDP_P_Current!K4/Tab1.1_2013_GDP_P_Current!K$4*100","v":100},{"$f":"Tab1.1_2013_GDP_P_Current!L4/Tab1.1_2013_GDP_P_Current!L$4*100","v":100},{"$f":"Tab1.1_2013_GDP_P_Current!M4/Tab1.1_2013_GDP_P_Current!M$4*100","v":100},{"$f":"Tab1.1_2013_GDP_P_Current!N4/Tab1.1_2013_GDP_P_Current!N$4*100","v":100},{"$f":"Tab1.1_2013_GDP_P_Current!O4/Tab1.1_2013_GDP_P_Current!O$4*100","v":100},{"$f":"Tab1.1_2013_GDP_P_Current!P4/Tab1.1_2013_GDP_P_Current!P$4*100","v":100},{"$f":"Tab1.1_2013_GDP_P_Current!Q4/Tab1.1_2013_GDP_P_Current!Q$4*100","v":100},{"$f":"Tab1.1_2013_GDP_P_Current!R4/Tab1.1_2013_GDP_P_Current!R$4*100","v":100}]
["A","Agriculture, forestry and fishing",{"$f":"Tab1.1_2013_GDP_P_Current!D5/Tab1.1_2013_GDP_P_Current!D$4*100","v":31.50261845122423},{"$f":"Tab1.1_2013_GDP_P_Current!E5/Tab1.1_2013_GDP_P_Current!E$4*100","v":32.090632986291112},{"$f":"Tab1.1_2013_GDP_P_Current!F5/Tab1.1_2013_GDP_P_Current!F$4*100","v":25.600225920993037},{"$f":"Tab1.1_2013_GDP_P_Current!G5/Tab1.1_2013_GDP_P_Current!G$4*100","v":23.566196878238465},{"$f":"Tab1.1_2013_GDP_P_Current!H5/Tab1.1_2013_GDP_P_Current!H$4*100","v":29.775711402674794},{"$f":"Tab1.1_2013_GDP_P_Current!I5/Tab1.1_2013_GDP_P_Current!I$4*100","v":31.734225922083105},{"$f":"Tab1.1_2013_GDP_P_Current!J5/Tab1.1_2013_GDP_P_Current!J$4*100","v":35.193243528517051},{"$f":"Tab1.1_2013_GDP_P_Current!K5/Tab1.1_2013_GDP_P_Current!K$4*100","v":27.202420625503354},{"$f":"Tab1.1_2013_GDP_P_Current!L5/Tab1.1_2013_GDP_P_Current!L$4*100","v":27.393571520289434},{"$f":"Tab1.1_2013_GDP_P_Current!M5/Tab1.1_2013_GDP_P_Current!M$4*100","v":26.222122536302717},{"$f":"Tab1.1_2013_GDP_P_Current!N5/Tab1.1_2013_GDP_P_Current!N$4*100","v":22.458839217613836},{"$f":"Tab1.1_2013_GDP_P_Current!O5/Tab1.1_2013_GDP_P_Current!O$4*100","v":22.2088860822325},{"$f":"Tab1.1_2013_GDP_P_Current!P5/Tab1.1_2013_GDP_P_Current!P$4*100","v":21.86137930115488},{"$f":"Tab1.1_2013_GDP_P_Current!Q5/Tab1.1_2013_GDP_P_Current!Q$4*100","v":21.001894695838867},{"$f":"Tab1.1_2013_GDP_P_Current!R5/Tab1.1_2013_GDP_P_Current!R$4*100","v":19.866095542845638}]
[null,"Crop",{"$f":"Tab1.1_2013_GDP_P_Current!D6/Tab1.1_2013_GDP_P_Current!D$4*100","v":21.130080599736591},{"$f":"Tab1.1_2013_GDP_P_Current!E6/Tab1.1_2013_GDP_P_Current!E$4*100","v":21.754362943614503},{"$f":"Tab1.1_2013_GDP_P_Current!F6/Tab1.1_2013_GDP_P_Current!F$4*100","v":14.660284722176764},{"$f":"Tab1.1_2013_GDP_P_Current!G6/Tab1.1_2013_GDP_P_Current!G$4*100","v":11.581112230436442},{"$f":"Tab1.1_2013_GDP_P_Current!H6/Tab1.1_2013_GDP_P_Current!H$4*100","v":18.134965419872294},{"$f":"Tab1.1_2013_GDP_P_Current!I6/Tab1.1_2013_GDP_P_Current!I$4*100","v":21.030858317013895},{"$f":"Tab1.1_2013_GDP_P_Current!J6/Tab1.1_2013_GDP_P_Current!J$4*100","v":25.029996151872673},{"$f":"Tab1.1_2013_GDP_P_Current!K6/Tab1.1_2013_GDP_P_Current!K$4*100","v":15.820848953092872},{"$f":"Tab1.1_2013_GDP_P_Current!L6/Tab1.1_2013_GDP_P_Current!L$4*100","v":16.374169859001725},{"$f":"Tab1.1_2013_GDP_P_Current!M6/Tab1.1_2013_GDP_P_Current!M$4*100","v":14.988004308591496},{"$f":"Tab1.1_2013_GDP_P_Current!N6/Tab1.1_2013_GDP_P_Current!N$4*100","v":12.14886568060982},{"$f":"Tab1.1_2013_GDP_P_Current!O6/Tab1.1_2013_GDP_P_Current!O$4*100","v":11.912119055581083},{"$f":"Tab1.1_2013_GDP_P_Current!P6/Tab1.1_2013_GDP_P_Current!P$4*100","v":11.073650604289885},{"$f":"Tab1.1_2013_GDP_P_Current!Q6/Tab1.1_2013_GDP_P_Current!Q$4*100","v":9.3035223272620584},{"$f":"Tab1.1_2013_GDP_P_Current!R6/Tab1.1_2013_GDP_P_Current!R$4*100","v":9.1393471263252266}]
[null,"Livestock",{"$f":"Tab1.1_2013_GDP_P_Current!D7/Tab1.1_2013_GDP_P_Current!D$4*100","v":4.4299242247574426},{"$f":"Tab1.1_2013_GDP_P_Current!E7/Tab1.1_2013_GDP_P_Current!E$4*100","v":4.4332748783382163},{"$f":"Tab1.1_2013_GDP_P_Current!F7/Tab1.1_2013_GDP_P_Current!F$4*100","v":4.7199809268410409},{"$f":"Tab1.1_2013_GDP_P_Current!G7/Tab1.1_2013_GDP_P_Current!G$4*100","v":5.1627818291920526},{"$f":"Tab1.1_2013_GDP_P_Current!H7/Tab1.1_2013_GDP_P_Current!H$4*100","v":5.0080839144854119},{"$f":"Tab1.1_2013_GDP_P_Current!I7/Tab1.1_2013_GDP_P_Current!I$4*100","v":4.540765644164515},{"$f":"Tab1.1_2013_GDP_P_Current!J7/Tab1.1_2013_GDP_P_Current!J$4*100","v":4.3746005732486593},{"$f":"Tab1.1_2013_GDP_P_Current!K7/Tab1.1_2013_GDP_P_Current!K$4*100","v":4.8444243910693139},{"$f":"Tab1.1_2013_GDP_P_Current!L7/Tab1.1_2013_GDP_P_Current!L$4*100","v":4.7517936454718352},{"$f":"Tab1.1_2013_GDP_P_Current!M7/Tab1.1_2013_GDP_P_Current!M$4*100","v":5.0045257140542985},{"$f":"Tab1.1_2013_GDP_P_Current!N7/Tab1.1_2013_GDP_P_Current!N$4*100","v":5.2427247915875999},{"$f":"Tab1.1_2013_GDP_P_Current!O7/Tab1.1_2013_GDP_P_Current!O$4*100","v":4.6016031785174594},{"$f":"Tab1.1_2013_GDP_P_Current!P7/Tab1.1_2013_GDP_P_Current!P$4*100","v":4.5929576447138398},{"$f":"Tab1.1_2013_GDP_P_Current!Q7/Tab1.1_2013_GDP_P_Current!Q$4*100","v":4.1870051090113174},{"$f":"Tab1.1_2013_GDP_P_Current!R7/Tab1.1_2013_GDP_P_Current!R$4*100","v":3.7892901551944811}]
[null,"Forestry and logging",{"$f":"Tab1.1_2013_GDP_P_Current!D8/Tab1.1_2013_GDP_P_Current!D$4*100","v":1.5063478911016983},{"$f":"Tab1.1_2013_GDP_P_Current!E8/Tab1.1_2013_GDP_P_Current!E$4*100","v":1.5536850665431998},{"$f":"Tab1.1_2013_GDP_P_Current!F8/Tab1.1_2013_GDP_P_Current!F$4*100","v":1.5719829407446484},{"$f":"Tab1.1_2013_GDP_P_Current!G8/Tab1.1_2013_GDP_P_Current!G$4*100","v":1.4745295017233124},{"$f":"Tab1.1_2013_GDP_P_Current!H8/Tab1.1_2013_GDP_P_Current!H$4*100","v":1.3732841166120053},{"$f":"Tab1.1_2013_GDP_P_Current!I8/Tab1.1_2013_GDP_P_Current!I$4*100","v":1.2146306210324269},{"$f":"Tab1.1_2013_GDP_P_Current!J8/Tab1.1_2013_GDP_P_Current!J$4*100","v":1.1677294386124464},{"$f":"Tab1.1_2013_GDP_P_Current!K8/Tab1.1_2013_GDP_P_Current!K$4*100","v":1.2576770465270652},{"$f":"Tab1.1_2013_GDP_P_Current!L8/Tab1.1_2013_GDP_P_Current!L$4*100","v":1.1858876721829368},{"$f":"Tab1.1_2013_GDP_P_Current!M8/Tab1.1_2013_GDP_P_Current!M$4*100","v":1.1481342373524168},{"$f":"Tab1.1_2013_GDP_P_Current!N8/Tab1.1_2013_GDP_P_Current!N$4*100","v":1.1154879731118694},{"$f":"Tab1.1_2013_GDP_P_Current!O8/Tab1.1_2013_GDP_P_Current!O$4*100","v":0.98459248627670792},{"$f":"Tab1.1_2013_GDP_P_Current!P8/Tab1.1_2013_GDP_P_Current!P$4*100","v":0.90271442029727067},{"$f":"Tab1.1_2013_GDP_P_Current!Q8/Tab1.1_2013_GDP_P_Current!Q$4*100","v":0.83511007987893426},{"$f":"Tab1.1_2013_GDP_P_Current!R8/Tab1.1_2013_GDP_P_Current!R$4*100","v":0.7508107778115175}]
[null,"Fishing and aquaculture",{"$f":"Tab1.1_2013_GDP_P_Current!D9/Tab1.1_2013_GDP_P_Current!D$4*100","v":4.4362657356284929},{"$f":"Tab1.1_2013_GDP_P_Current!E9/Tab1.1_2013_GDP_P_Current!E$4*100","v":4.3493100977951933},{"$f":"Tab1.1_2013_GDP_P_Current!F9/Tab1.1_2013_GDP_P_Current!F$4*100","v":4.6479773312305799},{"$f":"Tab1.1_2013_GDP_P_Current!G9/Tab1.1_2013_GDP_P_Current!G$4*100","v":5.347773316886661},{"$f":"Tab1.1_2013_GDP_P_Current!H9/Tab1.1_2013_GDP_P_Current!H$4*100","v":5.2593779517050772},{"$f":"Tab1.1_2013_GDP_P_Current!I9/Tab1.1_2013_GDP_P_Current!I$4*100","v":4.9479713398722645},{"$f":"Tab1.1_2013_GDP_P_Current!J9/Tab1.1_2013_GDP_P_Current!J$4*100","v":4.6209173647832698},{"$f":"Tab1.1_2013_GDP_P_Current!K9/Tab1.1_2013_GDP_P_Current!K$4*100","v":5.2794702348141049},{"$f":"Tab1.1_2013_GDP_P_Current!L9/Tab1.1_2013_GDP_P_Current!L$4*100","v":5.0817203436329379},{"$f":"Tab1.1_2013_GDP_P_Current!M9/Tab1.1_2013_GDP_P_Current!M$4*100","v":5.0814582763045113},{"$f":"Tab1.1_2013_GDP_P_Current!N9/Tab1.1_2013_GDP_P_Current!N$4*100","v":3.9517607723045445},{"$f":"Tab1.1_2013_GDP_P_Current!O9/Tab1.1_2013_GDP_P_Current!O$4*100","v":4.7105713618572524},{"$f":"Tab1.1_2013_GDP_P_Current!P9/Tab1.1_2013_GDP_P_Current!P$4*100","v":5.2920566318538835},{"$f":"Tab1.1_2013_GDP_P_Current!Q9/Tab1.1_2013_GDP_P_Current!Q$4*100","v":6.6762571796865524},{"$f":"Tab1.1_2013_GDP_P_Current!R9/Tab1.1_2013_GDP_P_Current!R$4*100","v":6.1866474835144132}]
[null,"Industry",{"$f":"Tab1.1_2013_GDP_P_Current!D10/Tab1.1_2013_GDP_P_Current!D$4*100","v":11.451664557443946},{"$f":"Tab1.1_2013_GDP_P_Current!E10/Tab1.1_2013_GDP_P_Current!E$4*100","v":11.494079603935443},{"$f":"Tab1.1_2013_GDP_P_Current!F10/Tab1.1_2013_GDP_P_Current!F$4*100","v":12.123892451034902},{"$f":"Tab1.1_2013_GDP_P_Current!G10/Tab1.1_2013_GDP_P_Current!G$4*100","v":11.879539849817936},{"$f":"Tab1.1_2013_GDP_P_Current!H10/Tab1.1_2013_GDP_P_Current!H$4*100","v":11.16205072254089},{"$f":"Tab1.1_2013_GDP_P_Current!I10/Tab1.1_2013_GDP_P_Current!I$4*100","v":10.211007629172219},{"$f":"Tab1.1_2013_GDP_P_Current!J10/Tab1.1_2013_GDP_P_Current!J$4*100","v":9.8281663208013725},{"$f":"Tab1.1_2013_GDP_P_Current!K10/Tab1.1_2013_GDP_P_Current!K$4*100","v":11.512660431543832},{"$f":"Tab1.1_2013_GDP_P_Current!L10/Tab1.1_2013_GDP_P_Current!L$4*100","v":11.958368756415615},{"$f":"Tab1.1_2013_GDP_P_Current!M10/Tab1.1_2013_GDP_P_Current!M$4*100","v":11.894696414191595},{"$f":"Tab1.1_2013_GDP_P_Current!N10/Tab1.1_2013_GDP_P_Current!N$4*100","v":13.21483425271223},{"$f":"Tab1.1_2013_GDP_P_Current!O10/Tab1.1_2013_GDP_P_Current!O$4*100","v":17.14345299433295},{"$f":"Tab1.1_2013_GDP_P_Current!P10/Tab1.1_2013_GDP_P_Current!P$4*100","v":20.935592972811492},{"$f":"Tab1.1_2013_GDP_P_Current!Q10/Tab1.1_2013_GDP_P_Current!Q$4*100","v":17.892755006312562},{"$f":"Tab1.1_2013_GDP_P_Current!R10/Tab1.1_2013_GDP_P_Current!R$4*100","v":15.566681337104882}]
["B","Mining and quarrying",{"$f":"Tab1.1_2013_GDP_P_Current!D11/Tab1.1_2013_GDP_P_Current!D$4*100","v":0.12557834785156044},{"$f":"Tab1.1_2013_GDP_P_Current!E11/Tab1.1_2013_GDP_P_Current!E$4*100","v":0.19347592080451714},{"$f":"Tab1.1_2013_GDP_P_Current!F11/Tab1.1_2013_GDP_P_Current!F$4*100","v":0.20524362721171563},{"$f":"Tab1.1_2013_GDP_P_Current!G11/Tab1.1_2013_GDP_P_Current!G$4*100","v":0.16816645515626921},{"$f":"Tab1.1_2013_GDP_P_Current!H11/Tab1.1_2013_GDP_P_Current!H$4*100","v":0.20561062205976208},{"$f":"Tab1.1_2013_GDP_P_Current!I11/Tab1.1_2013_GDP_P_Current!I$4*100","v":0.21190645698812749},{"$f":"Tab1.1_2013_GDP_P_Current!J11/Tab1.1_2013_GDP_P_Current!J$4*100","v":0.22153885974746632},{"$f":"Tab1.1_2013_GDP_P_Current!K11/Tab1.1_2013_GDP_P_Current!K$4*100","v":0.25911718192841388},{"$f":"Tab1.1_2013_GDP_P_Current!L11/Tab1.1_2013_GDP_P_Current!L$4*100","v":0.26841407000471318},{"$f":"Tab1.1_2013_GDP_P_Current!M11/Tab1.1_2013_GDP_P_Current!M$4*100","v":0.27855162170805869},{"$f":"Tab1.1_2013_GDP_P_Current!N11/Tab1.1_2013_GDP_P_Current!N$4*100","v":0.51062465730204765},{"$f":"Tab1.1_2013_GDP_P_Current!O11/Tab1.1_2013_GDP_P_Current!O$4*100","v":0.41947519058147764},{"$f":"Tab1.1_2013_GDP_P_Current!P11/Tab1.1_2013_GDP_P_Current!P$4*100","v":0.37099895396469895},{"$f":"Tab1.1_2013_GDP_P_Current!Q11/Tab1.1_2013_GDP_P_Current!Q$4*100","v":0.46208890250826562},{"$f":"Tab1.1_2013_GDP_P_Current!R11/Tab1.1_2013_GDP_P_Current!R$4*100","v":0.41553247027849699}]
["C ","Manufacturing",{"$f":"Tab1.1_2013_GDP_P_Current!D12/Tab1.1_2013_GDP_P_Current!D$4*100","v":5.2620758506461254},{"$f":"Tab1.1_2013_GDP_P_Current!E12/Tab1.1_2013_GDP_P_Current!E$4*100","v":6.302017024266596},{"$f":"Tab1.1_2013_GDP_P_Current!F12/Tab1.1_2013_GDP_P_Current!F$4*100","v":6.6454132752964981},{"$f":"Tab1.1_2013_GDP_P_Current!G12/Tab1.1_2013_GDP_P_Current!G$4*100","v":6.5090755031603136},{"$f":"Tab1.1_2013_GDP_P_Current!H12/Tab1.1_2013_GDP_P_Current!H$4*100","v":5.5913289390215875},{"$f":"Tab1.1_2013_GDP_P_Current!I12/Tab1.1_2013_GDP_P_Current!I$4*100","v":4.8299747477050525},{"$f":"Tab1.1_2013_GDP_P_Current!J12/Tab1.1_2013_GDP_P_Current!J$4*100","v":4.5508396283874735},{"$f":"Tab1.1_2013_GDP_P_Current!K12/Tab1.1_2013_GDP_P_Current!K$4*100","v":5.4887142775770181},{"$f":"Tab1.1_2013_GDP_P_Current!L12/Tab1.1_2013_GDP_P_Current!L$4*100","v":5.7481598962593736},{"$f":"Tab1.1_2013_GDP_P_Current!M12/Tab1.1_2013_GDP_P_Current!M$4*100","v":5.6112026226484906},{"$f":"Tab1.1_2013_GDP_P_Current!N12/Tab1.1_2013_GDP_P_Current!N$4*100","v":6.5117810306747153},{"$f":"Tab1.1_2013_GDP_P_Current!O12/Tab1.1_2013_GDP_P_Current!O$4*100","v":6.3492543314805712},{"$f":"Tab1.1_2013_GDP_P_Current!P12/Tab1.1_2013_GDP_P_Current!P$4*100","v":5.586256945912945},{"$f":"Tab1.1_2013_GDP_P_Current!Q12/Tab1.1_2013_GDP_P_Current!Q$4*100","v":4.4692921695864012},{"$f":"Tab1.1_2013_GDP_P_Current!R12/Tab1.1_2013_GDP_P_Current!R$4*100","v":4.41632019454737}]
["D ","Electricity, gas, steam and air conditioning supply",{"$f":"Tab1.1_2013_GDP_P_Current!D13/Tab1.1_2013_GDP_P_Current!D$4*100","v":0.58145226703305264},{"$f":"Tab1.1_2013_GDP_P_Current!E13/Tab1.1_2013_GDP_P_Current!E$4*100","v":0.74604000087588196},{"$f":"Tab1.1_2013_GDP_P_Current!F13/Tab1.1_2013_GDP_P_Current!F$4*100","v":0.79317422092432222},{"$f":"Tab1.1_2013_GDP_P_Current!G13/Tab1.1_2013_GDP_P_Current!G$4*100","v":1.0035766649569751},{"$f":"Tab1.1_2013_GDP_P_Current!H13/Tab1.1_2013_GDP_P_Current!H$4*100","v":1.0112332745375234},{"$f":"Tab1.1_2013_GDP_P_Current!I13/Tab1.1_2013_GDP_P_Current!I$4*100","v":0.96800713593022736},{"$f":"Tab1.1_2013_GDP_P_Current!J13/Tab1.1_2013_GDP_P_Current!J$4*100","v":0.95489676469062923},{"$f":"Tab1.1_2013_GDP_P_Current!K13/Tab1.1_2013_GDP_P_Current!K$4*100","v":0.99608732020759705},{"$f":"Tab1.1_2013_GDP_P_Current!L13/Tab1.1_2013_GDP_P_Current!L$4*100","v":0.92148467915069576},{"$f":"Tab1.1_2013_GDP_P_Current!M13/Tab1.1_2013_GDP_P_Current!M$4*100","v":0.92377271619468404},{"$f":"Tab1.1_2013_GDP_P_Current!N13/Tab1.1_2013_GDP_P_Current!N$4*100","v":0.94120662433451052},{"$f":"Tab1.1_2013_GDP_P_Current!O13/Tab1.1_2013_GDP_P_Current!O$4*100","v":1.0162207905364347},{"$f":"Tab1.1_2013_GDP_P_Current!P13/Tab1.1_2013_GDP_P_Current!P$4*100","v":0.99202350035147258},{"$f":"Tab1.1_2013_GDP_P_Current!Q13/Tab1.1_2013_GDP_P_Current!Q$4*100","v":0.83344225996969135},{"$f":"Tab1.1_2013_GDP_P_Current!R13/Tab1.1_2013_GDP_P_Current!R$4*100","v":1.4921829919339811}]
["E ","Water supply, sewerage, waste management and remediation activities",{"$f":"Tab1.1_2013_GDP_P_Current!D14/Tab1.1_2013_GDP_P_Current!D$4*100","v":0.41453972154798008},{"$f":"Tab1.1_2013_GDP_P_Current!E14/Tab1.1_2013_GDP_P_Current!E$4*100","v":0.53188065772759796},{"$f":"Tab1.1_2013_GDP_P_Current!F14/Tab1.1_2013_GDP_P_Current!F$4*100","v":0.56548445904040789},{"$f":"Tab1.1_2013_GDP_P_Current!G14/Tab1.1_2013_GDP_P_Current!G$4*100","v":0.71548846712066594},{"$f":"Tab1.1_2013_GDP_P_Current!H14/Tab1.1_2013_GDP_P_Current!H$4*100","v":0.72094715906062112},{"$f":"Tab1.1_2013_GDP_P_Current!I14/Tab1.1_2013_GDP_P_Current!I$4*100","v":0.6901295795655803},{"$f":"Tab1.1_2013_GDP_P_Current!J14/Tab1.1_2013_GDP_P_Current!J$4*100","v":0.68078269083336251},{"$f":"Tab1.1_2013_GDP_P_Current!K14/Tab1.1_2013_GDP_P_Current!K$4*100","v":0.7101490247227098},{"$f":"Tab1.1_2013_GDP_P_Current!L14/Tab1.1_2013_GDP_P_Current!L$4*100","v":0.65696192785528318},{"$f":"Tab1.1_2013_GDP_P_Current!M14/Tab1.1_2013_GDP_P_Current!M$4*100","v":0.65859315761030013},{"$f":"Tab1.1_2013_GDP_P_Current!N14/Tab1.1_2013_GDP_P_Current!N$4*100","v":0.74881394718046812},{"$f":"Tab1.1_2013_GDP_P_Current!O14/Tab1.1_2013_GDP_P_Current!O$4*100","v":0.75416863105786291},{"$f":"Tab1.1_2013_GDP_P_Current!P14/Tab1.1_2013_GDP_P_Current!P$4*100","v":0.74376265284691023},{"$f":"Tab1.1_2013_GDP_P_Current!Q14/Tab1.1_2013_GDP_P_Current!Q$4*100","v":0.66657866384869313},{"$f":"Tab1.1_2013_GDP_P_Current!R14/Tab1.1_2013_GDP_P_Current!R$4*100","v":0.59677957284548244}]
["F ","Construction",{"$f":"Tab1.1_2013_GDP_P_Current!D15/Tab1.1_2013_GDP_P_Current!D$4*100","v":5.0680183703652295},{"$f":"Tab1.1_2013_GDP_P_Current!E15/Tab1.1_2013_GDP_P_Current!E$4*100","v":3.7206660002608505},{"$f":"Tab1.1_2013_GDP_P_Current!F15/Tab1.1_2013_GDP_P_Current!F$4*100","v":3.9145768685619577},{"$f":"Tab1.1_2013_GDP_P_Current!G15/Tab1.1_2013_GDP_P_Current!G$4*100","v":3.4832327594237142},{"$f":"Tab1.1_2013_GDP_P_Current!H15/Tab1.1_2013_GDP_P_Current!H$4*100","v":3.6329307278613978},{"$f":"Tab1.1_2013_GDP_P_Current!I15/Tab1.1_2013_GDP_P_Current!I$4*100","v":3.5109897089832294},{"$f":"Tab1.1_2013_GDP_P_Current!J15/Tab1.1_2013_GDP_P_Current!J$4*100","v":3.4201083771424399},{"$f":"Tab1.1_2013_GDP_P_Current!K15/Tab1.1_2013_GDP_P_Current!K$4*100","v":4.0585926271080934},{"$f":"Tab1.1_2013_GDP_P_Current!L15/Tab1.1_2013_GDP_P_Current!L$4*100","v":4.3633481831455505},{"$f":"Tab1.1_2013_GDP_P_Current!M15/Tab1.1_2013_GDP_P_Current!M$4*100","v":4.4225762960300585},{"$f":"Tab1.1_2013_GDP_P_Current!N15/Tab1.1_2013_GDP_P_Current!N$4*100","v":4.502407993220487},{"$f":"Tab1.1_2013_GDP_P_Current!O15/Tab1.1_2013_GDP_P_Current!O$4*100","v":8.6043340506766057},{"$f":"Tab1.1_2013_GDP_P_Current!P15/Tab1.1_2013_GDP_P_Current!P$4*100","v":13.242550919735463},{"$f":"Tab1.1_2013_GDP_P_Current!Q15/Tab1.1_2013_GDP_P_Current!Q$4*100","v":11.461353010399513},{"$f":"Tab1.1_2013_GDP_P_Current!R15/Tab1.1_2013_GDP_P_Current!R$4*100","v":8.645866107499554}]
[null,"Services",{"$f":"Tab1.1_2013_GDP_P_Current!D16/Tab1.1_2013_GDP_P_Current!D$4*100","v":51.058306731087214},{"$f":"Tab1.1_2013_GDP_P_Current!E16/Tab1.1_2013_GDP_P_Current!E$4*100","v":50.740706911620471},{"$f":"Tab1.1_2013_GDP_P_Current!F16/Tab1.1_2013_GDP_P_Current!F$4*100","v":55.604171924553924},{"$f":"Tab1.1_2013_GDP_P_Current!G16/Tab1.1_2013_GDP_P_Current!G$4*100","v":57.357355416740553},{"$f":"Tab1.1_2013_GDP_P_Current!H16/Tab1.1_2013_GDP_P_Current!H$4*100","v":52.988606806365382},{"$f":"Tab1.1_2013_GDP_P_Current!I16/Tab1.1_2013_GDP_P_Current!I$4*100","v":51.100415844072209},{"$f":"Tab1.1_2013_GDP_P_Current!J16/Tab1.1_2013_GDP_P_Current!J$4*100","v":49.20053724329167},{"$f":"Tab1.1_2013_GDP_P_Current!K16/Tab1.1_2013_GDP_P_Current!K$4*100","v":54.900201066463914},{"$f":"Tab1.1_2013_GDP_P_Current!L16/Tab1.1_2013_GDP_P_Current!L$4*100","v":54.451216264397942},{"$f":"Tab1.1_2013_GDP_P_Current!M16/Tab1.1_2013_GDP_P_Current!M$4*100","v":55.126296996429538},{"$f":"Tab1.1_2013_GDP_P_Current!N16/Tab1.1_2013_GDP_P_Current!N$4*100","v":56.438731879014938},{"$f":"Tab1.1_2013_GDP_P_Current!O16/Tab1.1_2013_GDP_P_Current!O$4*100","v":51.889787431949372},{"$f":"Tab1.1_2013_GDP_P_Current!P16/Tab1.1_2013_GDP_P_Current!P$4*100","v":48.798034391950857},{"$f":"Tab1.1_2013_GDP_P_Current!Q16/Tab1.1_2013_GDP_P_Current!Q$4*100","v":53.425357084025336},{"$f":"Tab1.1_2013_GDP_P_Current!R16/Tab1.1_2013_GDP_P_Current!R$4*100","v":56.509802586800049}]
["G","Wholesale and retail trade; repair of motors and motocycles",{"$f":"Tab1.1_2013_GDP_P_Current!D17/Tab1.1_2013_GDP_P_Current!D$4*100","v":31.466645485495981},{"$f":"Tab1.1_2013_GDP_P_Current!E17/Tab1.1_2013_GDP_P_Current!E$4*100","v":29.822578552850594},{"$f":"Tab1.1_2013_GDP_P_Current!F17/Tab1.1_2013_GDP_P_Current!F$4*100","v":33.151733238581905},{"$f":"Tab1.1_2013_GDP_P_Current!G17/Tab1.1_2013_GDP_P_Current!G$4*100","v":36.060683623159377},{"$f":"Tab1.1_2013_GDP_P_Current!H17/Tab1.1_2013_GDP_P_Current!H$4*100","v":32.414986241037568},{"$f":"Tab1.1_2013_GDP_P_Current!I17/Tab1.1_2013_GDP_P_Current!I$4*100","v":30.358780082869824},{"$f":"Tab1.1_2013_GDP_P_Current!J17/Tab1.1_2013_GDP_P_Current!J$4*100","v":29.388314300709212},{"$f":"Tab1.1_2013_GDP_P_Current!K17/Tab1.1_2013_GDP_P_Current!K$4*100","v":32.264778453173406},{"$f":"Tab1.1_2013_GDP_P_Current!L17/Tab1.1_2013_GDP_P_Current!L$4*100","v":32.072639626182728},{"$f":"Tab1.1_2013_GDP_P_Current!M17/Tab1.1_2013_GDP_P_Current!M$4*100","v":31.502984416936762},{"$f":"Tab1.1_2013_GDP_P_Current!N17/Tab1.1_2013_GDP_P_Current!N$4*100","v":32.477764475325486},{"$f":"Tab1.1_2013_GDP_P_Current!O17/Tab1.1_2013_GDP_P_Current!O$4*100","v":30.5082594712215},{"$f":"Tab1.1_2013_GDP_P_Current!P17/Tab1.1_2013_GDP_P_Current!P$4*100","v":28.217453206902505},{"$f":"Tab1.1_2013_GDP_P_Current!Q17/Tab1.1_2013_GDP_P_Current!Q$4*100","v":32.651466024903279},{"$f":"Tab1.1_2013_GDP_P_Current!R17/Tab1.1_2013_GDP_P_Current!R$4*100","v":33.873770986710831}]
["H ","Transport and storage",{"$f":"Tab1.1_2013_GDP_P_Current!D18/Tab1.1_2013_GDP_P_Current!D$4*100","v":2.3252893705957836},{"$f":"Tab1.1_2013_GDP_P_Current!E18/Tab1.1_2013_GDP_P_Current!E$4*100","v":2.7443681252067189},{"$f":"Tab1.1_2013_GDP_P_Current!F18/Tab1.1_2013_GDP_P_Current!F$4*100","v":2.7850349191178649},{"$f":"Tab1.1_2013_GDP_P_Current!G18/Tab1.1_2013_GDP_P_Current!G$4*100","v":2.7339764913086486},{"$f":"Tab1.1_2013_GDP_P_Current!H18/Tab1.1_2013_GDP_P_Current!H$4*100","v":2.6422017308888224},{"$f":"Tab1.1_2013_GDP_P_Current!I18/Tab1.1_2013_GDP_P_Current!I$4*100","v":2.5196246633739614},{"$f":"Tab1.1_2013_GDP_P_Current!J18/Tab1.1_2013_GDP_P_Current!J$4*100","v":2.6352632711685025},{"$f":"Tab1.1_2013_GDP_P_Current!K18/Tab1.1_2013_GDP_P_Current!K$4*100","v":3.1346704640071859},{"$f":"Tab1.1_2013_GDP_P_Current!L18/Tab1.1_2013_GDP_P_Current!L$4*100","v":3.2116257054222892},{"$f":"Tab1.1_2013_GDP_P_Current!M18/Tab1.1_2013_GDP_P_Current!M$4*100","v":3.5004120405973316},{"$f":"Tab1.1_2013_GDP_P_Current!N18/Tab1.1_2013_GDP_P_Current!N$4*100","v":4.0699898523187281},{"$f":"Tab1.1_2013_GDP_P_Current!O18/Tab1.1_2013_GDP_P_Current!O$4*100","v":3.1534684347253128},{"$f":"Tab1.1_2013_GDP_P_Current!P18/Tab1.1_2013_GDP_P_Current!P$4*100","v":3.2202568681774393},{"$f":"Tab1.1_2013_GDP_P_Current!Q18/Tab1.1_2013_GDP_P_Current!Q$4*100","v":3.2726068188325423},{"$f":"Tab1.1_2013_GDP_P_Current!R18/Tab1.1_2013_GDP_P_Current!R$4*100","v":3.5768076694997717}]
["I ","Accommodation and food service activities",{"$f":"Tab1.1_2013_GDP_P_Current!D19/Tab1.1_2013_GDP_P_Current!D$4*100","v":1.5493569055991296},{"$f":"Tab1.1_2013_GDP_P_Current!E19/Tab1.1_2013_GDP_P_Current!E$4*100","v":1.9147491365533853},{"$f":"Tab1.1_2013_GDP_P_Current!F19/Tab1.1_2013_GDP_P_Current!F$4*100","v":2.1763456378337178},{"$f":"Tab1.1_2013_GDP_P_Current!G19/Tab1.1_2013_GDP_P_Current!G$4*100","v":2.372545086523977},{"$f":"Tab1.1_2013_GDP_P_Current!H19/Tab1.1_2013_GDP_P_Current!H$4*100","v":2.3488596645753526},{"$f":"Tab1.1_2013_GDP_P_Current!I19/Tab1.1_2013_GDP_P_Current!I$4*100","v":2.1308749272972798},{"$f":"Tab1.1_2013_GDP_P_Current!J19/Tab1.1_2013_GDP_P_Current!J$4*100","v":1.3046446481365184},{"$f":"Tab1.1_2013_GDP_P_Current!K19/Tab1.1_2013_GDP_P_Current!K$4*100","v":1.7101734379516165},{"$f":"Tab1.1_2013_GDP_P_Current!L19/Tab1.1_2013_GDP_P_Current!L$4*100","v":1.7136285808149281},{"$f":"Tab1.1_2013_GDP_P_Current!M19/Tab1.1_2013_GDP_P_Current!M$4*100","v":1.8312093876389428},{"$f":"Tab1.1_2013_GDP_P_Current!N19/Tab1.1_2013_GDP_P_Current!N$4*100","v":1.7079946109616999},{"$f":"Tab1.1_2013_GDP_P_Current!O19/Tab1.1_2013_GDP_P_Current!O$4*100","v":1.4029536883774139},{"$f":"Tab1.1_2013_GDP_P_Current!P19/Tab1.1_2013_GDP_P_Current!P$4*100","v":1.6688503793482399},{"$f":"Tab1.1_2013_GDP_P_Current!Q19/Tab1.1_2013_GDP_P_Current!Q$4*100","v":1.6456459508678942},{"$f":"Tab1.1_2013_GDP_P_Current!R19/Tab1.1_2013_GDP_P_Current!R$4*100","v":2.172007817801457}]
["J ","Information and Communication",{"$f":"Tab1.1_2013_GDP_P_Current!D20/Tab1.1_2013_GDP_P_Current!D$4*100","v":2.4142927932948832},{"$f":"Tab1.1_2013_GDP_P_Current!E20/Tab1.1_2013_GDP_P_Current!E$4*100","v":2.500162073748017},{"$f":"Tab1.1_2013_GDP_P_Current!F20/Tab1.1_2013_GDP_P_Current!F$4*100","v":2.6966845342636439},{"$f":"Tab1.1_2013_GDP_P_Current!G20/Tab1.1_2013_GDP_P_Current!G$4*100","v":2.7901565482845889},{"$f":"Tab1.1_2013_GDP_P_Current!H20/Tab1.1_2013_GDP_P_Current!H$4*100","v":2.4228516230924266},{"$f":"Tab1.1_2013_GDP_P_Current!I20/Tab1.1_2013_GDP_P_Current!I$4*100","v":2.4330406853172288},{"$f":"Tab1.1_2013_GDP_P_Current!J20/Tab1.1_2013_GDP_P_Current!J$4*100","v":2.5570962194440772},{"$f":"Tab1.1_2013_GDP_P_Current!K20/Tab1.1_2013_GDP_P_Current!K$4*100","v":2.9220987921888333},{"$f":"Tab1.1_2013_GDP_P_Current!L20/Tab1.1_2013_GDP_P_Current!L$4*100","v":3.063506124201651},{"$f":"Tab1.1_2013_GDP_P_Current!M20/Tab1.1_2013_GDP_P_Current!M$4*100","v":3.5684730791555195},{"$f":"Tab1.1_2013_GDP_P_Current!N20/Tab1.1_2013_GDP_P_Current!N$4*100","v":3.280387295989899},{"$f":"Tab1.1_2013_GDP_P_Current!O20/Tab1.1_2013_GDP_P_Current!O$4*100","v":3.1732632895548805},{"$f":"Tab1.1_2013_GDP_P_Current!P20/Tab1.1_2013_GDP_P_Current!P$4*100","v":2.8289363675543817},{"$f":"Tab1.1_2013_GDP_P_Current!Q20/Tab1.1_2013_GDP_P_Current!Q$4*100","v":3.3080808059110596},{"$f":"Tab1.1_2013_GDP_P_Current!R20/Tab1.1_2013_GDP_P_Current!R$4*100","v":3.3887620892942492}]
["K ","Financial and insurance activities",{"$f":"Tab1.1_2013_GDP_P_Current!D21/Tab1.1_2013_GDP_P_Current!D$4*100","v":1.3402072092973965},{"$f":"Tab1.1_2013_GDP_P_Current!E21/Tab1.1_2013_GDP_P_Current!E$4*100","v":1.4032724940164005},{"$f":"Tab1.1_2013_GDP_P_Current!F21/Tab1.1_2013_GDP_P_Current!F$4*100","v":1.5659760331943273},{"$f":"Tab1.1_2013_GDP_P_Current!G21/Tab1.1_2013_GDP_P_Current!G$4*100","v":1.4440320067004717},{"$f":"Tab1.1_2013_GDP_P_Current!H21/Tab1.1_2013_GDP_P_Current!H$4*100","v":1.6800486012584805},{"$f":"Tab1.1_2013_GDP_P_Current!I21/Tab1.1_2013_GDP_P_Current!I$4*100","v":2.0136620673050891},{"$f":"Tab1.1_2013_GDP_P_Current!J21/Tab1.1_2013_GDP_P_Current!J$4*100","v":1.9021596214957841},{"$f":"Tab1.1_2013_GDP_P_Current!K21/Tab1.1_2013_GDP_P_Current!K$4*100","v":2.3573340430529952},{"$f":"Tab1.1_2013_GDP_P_Current!L21/Tab1.1_2013_GDP_P_Current!L$4*100","v":2.3449020055376666},{"$f":"Tab1.1_2013_GDP_P_Current!M21/Tab1.1_2013_GDP_P_Current!M$4*100","v":2.4123867682817783},{"$f":"Tab1.1_2013_GDP_P_Current!N21/Tab1.1_2013_GDP_P_Current!N$4*100","v":2.6247973373115783},{"$f":"Tab1.1_2013_GDP_P_Current!O21/Tab1.1_2013_GDP_P_Current!O$4*100","v":2.1675293814170136},{"$f":"Tab1.1_2013_GDP_P_Current!P21/Tab1.1_2013_GDP_P_Current!P$4*100","v":1.8084042076174658},{"$f":"Tab1.1_2013_GDP_P_Current!Q21/Tab1.1_2013_GDP_P_Current!Q$4*100","v":2.0202746132296383},{"$f":"Tab1.1_2013_GDP_P_Current!R21/Tab1.1_2013_GDP_P_Current!R$4*100","v":3.2703398970759099}]
["L ","Real estate activities",{"$f":"Tab1.1_2013_GDP_P_Current!D22/Tab1.1_2013_GDP_P_Current!D$4*100","v":2.3611722173309002},{"$f":"Tab1.1_2013_GDP_P_Current!E22/Tab1.1_2013_GDP_P_Current!E$4*100","v":2.4638064200216534},{"$f":"Tab1.1_2013_GDP_P_Current!F22/Tab1.1_2013_GDP_P_Current!F$4*100","v":2.6769691588623603},{"$f":"Tab1.1_2013_GDP_P_Current!G22/Tab1.1_2013_GDP_P_Current!G$4*100","v":2.6369380686083526},{"$f":"Tab1.1_2013_GDP_P_Current!H22/Tab1.1_2013_GDP_P_Current!H$4*100","v":2.5212535617325758},{"$f":"Tab1.1_2013_GDP_P_Current!I22/Tab1.1_2013_GDP_P_Current!I$4*100","v":2.4022591404089018},{"$f":"Tab1.1_2013_GDP_P_Current!J22/Tab1.1_2013_GDP_P_Current!J$4*100","v":2.2333146196188305},{"$f":"Tab1.1_2013_GDP_P_Current!K22/Tab1.1_2013_GDP_P_Current!K$4*100","v":2.4016976016785074},{"$f":"Tab1.1_2013_GDP_P_Current!L22/Tab1.1_2013_GDP_P_Current!L$4*100","v":2.2580855871013532},{"$f":"Tab1.1_2013_GDP_P_Current!M22/Tab1.1_2013_GDP_P_Current!M$4*100","v":2.263467458253674},{"$f":"Tab1.1_2013_GDP_P_Current!N22/Tab1.1_2013_GDP_P_Current!N$4*100","v":2.2401356531513708},{"$f":"Tab1.1_2013_GDP_P_Current!O22/Tab1.1_2013_GDP_P_Current!O$4*100","v":2.1929447376790456},{"$f":"Tab1.1_2013_GDP_P_Current!P22/Tab1.1_2013_GDP_P_Current!P$4*100","v":2.0766935148855339},{"$f":"Tab1.1_2013_GDP_P_Current!Q22/Tab1.1_2013_GDP_P_Current!Q$4*100","v":2.0311075369668412},{"$f":"Tab1.1_2013_GDP_P_Current!R22/Tab1.1_2013_GDP_P_Current!R$4*100","v":1.9076052025807047}]
["M ","Professional, scientific and technical activities",{"$f":"Tab1.1_2013_GDP_P_Current!D23/Tab1.1_2013_GDP_P_Current!D$4*100","v":0.22151678072673303},{"$f":"Tab1.1_2013_GDP_P_Current!E23/Tab1.1_2013_GDP_P_Current!E$4*100","v":0.2311455566396611},{"$f":"Tab1.1_2013_GDP_P_Current!F23/Tab1.1_2013_GDP_P_Current!F$4*100","v":0.25114372675715624},{"$f":"Tab1.1_2013_GDP_P_Current!G23/Tab1.1_2013_GDP_P_Current!G$4*100","v":0.24738815222643731},{"$f":"Tab1.1_2013_GDP_P_Current!H23/Tab1.1_2013_GDP_P_Current!H$4*100","v":0.23653504318382385},{"$f":"Tab1.1_2013_GDP_P_Current!I23/Tab1.1_2013_GDP_P_Current!I$4*100","v":0.22537140973828995},{"$f":"Tab1.1_2013_GDP_P_Current!J23/Tab1.1_2013_GDP_P_Current!J$4*100","v":0.20952163559130207},{"$f":"Tab1.1_2013_GDP_P_Current!K23/Tab1.1_2013_GDP_P_Current!K$4*100","v":0.22531872817152521},{"$f":"Tab1.1_2013_GDP_P_Current!L23/Tab1.1_2013_GDP_P_Current!L$4*100","v":0.21184555967101951},{"$f":"Tab1.1_2013_GDP_P_Current!M23/Tab1.1_2013_GDP_P_Current!M$4*100","v":0.21235046768374202},{"$f":"Tab1.1_2013_GDP_P_Current!N23/Tab1.1_2013_GDP_P_Current!N$4*100","v":0.21899707606439645},{"$f":"Tab1.1_2013_GDP_P_Current!O23/Tab1.1_2013_GDP_P_Current!O$4*100","v":0.19756925161094072},{"$f":"Tab1.1_2013_GDP_P_Current!P23/Tab1.1_2013_GDP_P_Current!P$4*100","v":0.21102785032290999},{"$f":"Tab1.1_2013_GDP_P_Current!Q23/Tab1.1_2013_GDP_P_Current!Q$4*100","v":0.17412651313720034},{"$f":"Tab1.1_2013_GDP_P_Current!R23/Tab1.1_2013_GDP_P_Current!R$4*100","v":0.15175077619232891}]
["N ","Administrative and support service activities",{"$f":"Tab1.1_2013_GDP_P_Current!D24/Tab1.1_2013_GDP_P_Current!D$4*100","v":1.2536079923192187},{"$f":"Tab1.1_2013_GDP_P_Current!E24/Tab1.1_2013_GDP_P_Current!E$4*100","v":1.3080991708254104},{"$f":"Tab1.1_2013_GDP_P_Current!F24/Tab1.1_2013_GDP_P_Current!F$4*100","v":1.4212728356322224},{"$f":"Tab1.1_2013_GDP_P_Current!G24/Tab1.1_2013_GDP_P_Current!G$4*100","v":1.4000192844023149},{"$f":"Tab1.1_2013_GDP_P_Current!H24/Tab1.1_2013_GDP_P_Current!H$4*100","v":1.3385993585949052},{"$f":"Tab1.1_2013_GDP_P_Current!I24/Tab1.1_2013_GDP_P_Current!I$4*100","v":1.2754221127685148},{"$f":"Tab1.1_2013_GDP_P_Current!J24/Tab1.1_2013_GDP_P_Current!J$4*100","v":1.1857250546859051},{"$f":"Tab1.1_2013_GDP_P_Current!K24/Tab1.1_2013_GDP_P_Current!K$4*100","v":1.2751239771919345},{"$f":"Tab1.1_2013_GDP_P_Current!L24/Tab1.1_2013_GDP_P_Current!L$4*100","v":1.198876608217512},{"$f":"Tab1.1_2013_GDP_P_Current!M24/Tab1.1_2013_GDP_P_Current!M$4*100","v":1.2017339841601309},{"$f":"Tab1.1_2013_GDP_P_Current!N24/Tab1.1_2013_GDP_P_Current!N$4*100","v":1.3115915314284341},{"$f":"Tab1.1_2013_GDP_P_Current!O24/Tab1.1_2013_GDP_P_Current!O$4*100","v":1.2099693878466484},{"$f":"Tab1.1_2013_GDP_P_Current!P24/Tab1.1_2013_GDP_P_Current!P$4*100","v":1.1731094870162595},{"$f":"Tab1.1_2013_GDP_P_Current!Q24/Tab1.1_2013_GDP_P_Current!Q$4*100","v":1.2037349292617237},{"$f":"Tab1.1_2013_GDP_P_Current!R24/Tab1.1_2013_GDP_P_Current!R$4*100","v":1.0059507620278418}]
["O","Public administration and defence; compulsory social security",{"$f":"Tab1.1_2013_GDP_P_Current!D25/Tab1.1_2013_GDP_P_Current!D$4*100","v":3.2758788629304405},{"$f":"Tab1.1_2013_GDP_P_Current!E25/Tab1.1_2013_GDP_P_Current!E$4*100","v":3.3477687199780712},{"$f":"Tab1.1_2013_GDP_P_Current!F25/Tab1.1_2013_GDP_P_Current!F$4*100","v":3.497879683494872},{"$f":"Tab1.1_2013_GDP_P_Current!G25/Tab1.1_2013_GDP_P_Current!G$4*100","v":2.4749935055034005},{"$f":"Tab1.1_2013_GDP_P_Current!H25/Tab1.1_2013_GDP_P_Current!H$4*100","v":2.3404358684968258},{"$f":"Tab1.1_2013_GDP_P_Current!I25/Tab1.1_2013_GDP_P_Current!I$4*100","v":2.8652493532688377},{"$f":"Tab1.1_2013_GDP_P_Current!J25/Tab1.1_2013_GDP_P_Current!J$4*100","v":3.0613260260680586},{"$f":"Tab1.1_2013_GDP_P_Current!K25/Tab1.1_2013_GDP_P_Current!K$4*100","v":3.4195394627446842},{"$f":"Tab1.1_2013_GDP_P_Current!L25/Tab1.1_2013_GDP_P_Current!L$4*100","v":3.3650791817325838},{"$f":"Tab1.1_2013_GDP_P_Current!M25/Tab1.1_2013_GDP_P_Current!M$4*100","v":3.4923370396811655},{"$f":"Tab1.1_2013_GDP_P_Current!N25/Tab1.1_2013_GDP_P_Current!N$4*100","v":3.104548901545634},{"$f":"Tab1.1_2013_GDP_P_Current!O25/Tab1.1_2013_GDP_P_Current!O$4*100","v":2.9580571743261332},{"$f":"Tab1.1_2013_GDP_P_Current!P25/Tab1.1_2013_GDP_P_Current!P$4*100","v":2.5642578022664604},{"$f":"Tab1.1_2013_GDP_P_Current!Q25/Tab1.1_2013_GDP_P_Current!Q$4*100","v":2.4164637671143114},{"$f":"Tab1.1_2013_GDP_P_Current!R25/Tab1.1_2013_GDP_P_Current!R$4*100","v":2.8423570461278946}]
["P ","Education",{"$f":"Tab1.1_2013_GDP_P_Current!D26/Tab1.1_2013_GDP_P_Current!D$4*100","v":1.8848150640537569},{"$f":"Tab1.1_2013_GDP_P_Current!E26/Tab1.1_2013_GDP_P_Current!E$4*100","v":1.9844722080928012},{"$f":"Tab1.1_2013_GDP_P_Current!F26/Tab1.1_2013_GDP_P_Current!F$4*100","v":2.1439199016145611},{"$f":"Tab1.1_2013_GDP_P_Current!G26/Tab1.1_2013_GDP_P_Current!G$4*100","v":2.1108161007362898},{"$f":"Tab1.1_2013_GDP_P_Current!H26/Tab1.1_2013_GDP_P_Current!H$4*100","v":2.139152865386682},{"$f":"Tab1.1_2013_GDP_P_Current!I26/Tab1.1_2013_GDP_P_Current!I$4*100","v":2.0349373528783712},{"$f":"Tab1.1_2013_GDP_P_Current!J26/Tab1.1_2013_GDP_P_Current!J$4*100","v":2.0182578572848029},{"$f":"Tab1.1_2013_GDP_P_Current!K26/Tab1.1_2013_GDP_P_Current!K$4*100","v":2.2576033264722541},{"$f":"Tab1.1_2013_GDP_P_Current!L26/Tab1.1_2013_GDP_P_Current!L$4*100","v":2.2302425407057882},{"$f":"Tab1.1_2013_GDP_P_Current!M26/Tab1.1_2013_GDP_P_Current!M$4*100","v":2.3374954839244921},{"$f":"Tab1.1_2013_GDP_P_Current!N26/Tab1.1_2013_GDP_P_Current!N$4*100","v":2.1625763171740089},{"$f":"Tab1.1_2013_GDP_P_Current!O26/Tab1.1_2013_GDP_P_Current!O$4*100","v":2.00889372182119},{"$f":"Tab1.1_2013_GDP_P_Current!P26/Tab1.1_2013_GDP_P_Current!P$4*100","v":2.1192347623127414},{"$f":"Tab1.1_2013_GDP_P_Current!Q26/Tab1.1_2013_GDP_P_Current!Q$4*100","v":2.1490744171243303},{"$f":"Tab1.1_2013_GDP_P_Current!R26/Tab1.1_2013_GDP_P_Current!R$4*100","v":1.8889944294544956}]
["Q ","Human health and social work activities",{"$f":"Tab1.1_2013_GDP_P_Current!D27/Tab1.1_2013_GDP_P_Current!D$4*100","v":0.84387320098069796},{"$f":"Tab1.1_2013_GDP_P_Current!E27/Tab1.1_2013_GDP_P_Current!E$4*100","v":0.84860130920152765},{"$f":"Tab1.1_2013_GDP_P_Current!F27/Tab1.1_2013_GDP_P_Current!F$4*100","v":0.99644689271197218},{"$f":"Tab1.1_2013_GDP_P_Current!G27/Tab1.1_2013_GDP_P_Current!G$4*100","v":0.92422500689709852},{"$f":"Tab1.1_2013_GDP_P_Current!H27/Tab1.1_2013_GDP_P_Current!H$4*100","v":0.85533772836514266},{"$f":"Tab1.1_2013_GDP_P_Current!I27/Tab1.1_2013_GDP_P_Current!I$4*100","v":0.93666973506681028},{"$f":"Tab1.1_2013_GDP_P_Current!J27/Tab1.1_2013_GDP_P_Current!J$4*100","v":0.93511921934313802},{"$f":"Tab1.1_2013_GDP_P_Current!K27/Tab1.1_2013_GDP_P_Current!K$4*100","v":1.0104646919277256},{"$f":"Tab1.1_2013_GDP_P_Current!L27/Tab1.1_2013_GDP_P_Current!L$4*100","v":0.92835787657395485},{"$f":"Tab1.1_2013_GDP_P_Current!M27/Tab1.1_2013_GDP_P_Current!M$4*100","v":0.933316934854588},{"$f":"Tab1.1_2013_GDP_P_Current!N27/Tab1.1_2013_GDP_P_Current!N$4*100","v":0.85897298397087218},{"$f":"Tab1.1_2013_GDP_P_Current!O27/Tab1.1_2013_GDP_P_Current!O$4*100","v":0.72015906873492863},{"$f":"Tab1.1_2013_GDP_P_Current!P27/Tab1.1_2013_GDP_P_Current!P$4*100","v":0.75527190078957585},{"$f":"Tab1.1_2013_GDP_P_Current!Q27/Tab1.1_2013_GDP_P_Current!Q$4*100","v":0.63977789338162494},{"$f":"Tab1.1_2013_GDP_P_Current!R27/Tab1.1_2013_GDP_P_Current!R$4*100","v":0.6505188438373033}]
["R","Arts, entertainment and recreation",{"$f":"Tab1.1_2013_GDP_P_Current!D28/Tab1.1_2013_GDP_P_Current!D$4*100","v":0.48879610102287246},{"$f":"Tab1.1_2013_GDP_P_Current!E28/Tab1.1_2013_GDP_P_Current!E$4*100","v":0.50032278140925446},{"$f":"Tab1.1_2013_GDP_P_Current!F28/Tab1.1_2013_GDP_P_Current!F$4*100","v":0.51623827421261026},{"$f":"Tab1.1_2013_GDP_P_Current!G28/Tab1.1_2013_GDP_P_Current!G$4*100","v":0.49799552585610923},{"$f":"Tab1.1_2013_GDP_P_Current!H28/Tab1.1_2013_GDP_P_Current!H$4*100","v":0.47190743732993407},{"$f":"Tab1.1_2013_GDP_P_Current!I28/Tab1.1_2013_GDP_P_Current!I$4*100","v":0.43877344830474346},{"$f":"Tab1.1_2013_GDP_P_Current!J28/Tab1.1_2013_GDP_P_Current!J$4*100","v":0.40773380958948274},{"$f":"Tab1.1_2013_GDP_P_Current!K28/Tab1.1_2013_GDP_P_Current!K$4*100","v":0.44266090933887497},{"$f":"Tab1.1_2013_GDP_P_Current!L28/Tab1.1_2013_GDP_P_Current!L$4*100","v":0.42677098886475356},{"$f":"Tab1.1_2013_GDP_P_Current!M28/Tab1.1_2013_GDP_P_Current!M$4*100","v":0.43084950637587716},{"$f":"Tab1.1_2013_GDP_P_Current!N28/Tab1.1_2013_GDP_P_Current!N$4*100","v":0.5517310768371253},{"$f":"Tab1.1_2013_GDP_P_Current!O28/Tab1.1_2013_GDP_P_Current!O$4*100","v":0.61002217069717302},{"$f":"Tab1.1_2013_GDP_P_Current!P28/Tab1.1_2013_GDP_P_Current!P$4*100","v":0.60196828533312396},{"$f":"Tab1.1_2013_GDP_P_Current!Q28/Tab1.1_2013_GDP_P_Current!Q$4*100","v":0.59884067341650693},{"$f":"Tab1.1_2013_GDP_P_Current!R28/Tab1.1_2013_GDP_P_Current!R$4*100","v":0.56832977772989857}]
["S ","Other service activities",{"$f":"Tab1.1_2013_GDP_P_Current!D29/Tab1.1_2013_GDP_P_Current!D$4*100","v":1.6328547474394162},{"$f":"Tab1.1_2013_GDP_P_Current!E29/Tab1.1_2013_GDP_P_Current!E$4*100","v":1.6713603630769676},{"$f":"Tab1.1_2013_GDP_P_Current!F29/Tab1.1_2013_GDP_P_Current!F$4*100","v":1.7245270882767283},{"$f":"Tab1.1_2013_GDP_P_Current!G29/Tab1.1_2013_GDP_P_Current!G$4*100","v":1.663586016533479},{"$f":"Tab1.1_2013_GDP_P_Current!H29/Tab1.1_2013_GDP_P_Current!H$4*100","v":1.5764370824228293},{"$f":"Tab1.1_2013_GDP_P_Current!I29/Tab1.1_2013_GDP_P_Current!I$4*100","v":1.4657508654743512},{"$f":"Tab1.1_2013_GDP_P_Current!J29/Tab1.1_2013_GDP_P_Current!J$4*100","v":1.3620609601560472},{"$f":"Tab1.1_2013_GDP_P_Current!K29/Tab1.1_2013_GDP_P_Current!K$4*100","v":1.4787371785643779},{"$f":"Tab1.1_2013_GDP_P_Current!L29/Tab1.1_2013_GDP_P_Current!L$4*100","v":1.4256558793717113},{"$f":"Tab1.1_2013_GDP_P_Current!M29/Tab1.1_2013_GDP_P_Current!M$4*100","v":1.4392804288855408},{"$f":"Tab1.1_2013_GDP_P_Current!N29/Tab1.1_2013_GDP_P_Current!N$4*100","v":1.8292447669357108},{"$f":"Tab1.1_2013_GDP_P_Current!O29/Tab1.1_2013_GDP_P_Current!O$4*100","v":1.5866976539371931},{"$f":"Tab1.1_2013_GDP_P_Current!P29/Tab1.1_2013_GDP_P_Current!P$4*100","v":1.5525697594242172},{"$f":"Tab1.1_2013_GDP_P_Current!Q29/Tab1.1_2013_GDP_P_Current!Q$4*100","v":1.3141571398783836},{"$f":"Tab1.1_2013_GDP_P_Current!R29/Tab1.1_2013_GDP_P_Current!R$4*100","v":1.2126072884673518}]
[null,"GDP basic price (Gross Value Added)",{"$f":"Tab1.1_2013_GDP_P_Current!D30/Tab1.1_2013_GDP_P_Current!D$4*100","v":94.012589739755384},{"$f":"Tab1.1_2013_GDP_P_Current!E30/Tab1.1_2013_GDP_P_Current!E$4*100","v":94.325419501847023},{"$f":"Tab1.1_2013_GDP_P_Current!F30/Tab1.1_2013_GDP_P_Current!F$4*100","v":93.328290296581869},{"$f":"Tab1.1_2013_GDP_P_Current!G30/Tab1.1_2013_GDP_P_Current!G$4*100","v":92.803092144796949},{"$f":"Tab1.1_2013_GDP_P_Current!H30/Tab1.1_2013_GDP_P_Current!H$4*100","v":93.926368931581067},{"$f":"Tab1.1_2013_GDP_P_Current!I30/Tab1.1_2013_GDP_P_Current!I$4*100","v":93.045649395327544},{"$f":"Tab1.1_2013_GDP_P_Current!J30/Tab1.1_2013_GDP_P_Current!J$4*100","v":94.221947092610094},{"$f":"Tab1.1_2013_GDP_P_Current!K30/Tab1.1_2013_GDP_P_Current!K$4*100","v":93.615282123511108},{"$f":"Tab1.1_2013_GDP_P_Current!L30/Tab1.1_2013_GDP_P_Current!L$4*100","v":93.803156541102979},{"$f":"Tab1.1_2013_GDP_P_Current!M30/Tab1.1_2013_GDP_P_Current!M$4*100","v":93.243115946923851},{"$f":"Tab1.1_2013_GDP_P_Current!N30/Tab1.1_2013_GDP_P_Current!N$4*100","v":92.112405349341003},{"$f":"Tab1.1_2013_GDP_P_Current!O30/Tab1.1_2013_GDP_P_Current!O$4*100","v":91.242126508514829},{"$f":"Tab1.1_2013_GDP_P_Current!P30/Tab1.1_2013_GDP_P_Current!P$4*100","v":91.595006665917239},{"$f":"Tab1.1_2013_GDP_P_Current!Q30/Tab1.1_2013_GDP_P_Current!Q$4*100","v":92.320006786176776},{"$f":"Tab1.1_2013_GDP_P_Current!R30/Tab1.1_2013_GDP_P_Current!R$4*100","v":91.942579466750544}]
[null,"Taxes less subsidies on products (+)",{"$f":"Tab1.1_2013_GDP_P_Current!D31/Tab1.1_2013_GDP_P_Current!D$4*100","v":5.987410260244614},{"$f":"Tab1.1_2013_GDP_P_Current!E31/Tab1.1_2013_GDP_P_Current!E$4*100","v":5.6745804981529711},{"$f":"Tab1.1_2013_GDP_P_Current!F31/Tab1.1_2013_GDP_P_Current!F$4*100","v":6.6717097034181316},{"$f":"Tab1.1_2013_GDP_P_Current!G31/Tab1.1_2013_GDP_P_Current!G$4*100","v":7.1969078552030439},{"$f":"Tab1.1_2013_GDP_P_Current!H31/Tab1.1_2013_GDP_P_Current!H$4*100","v":6.0736310684189396},{"$f":"Tab1.1_2013_GDP_P_Current!I31/Tab1.1_2013_GDP_P_Current!I$4*100","v":6.9543506046724559},{"$f":"Tab1.1_2013_GDP_P_Current!J31/Tab1.1_2013_GDP_P_Current!J$4*100","v":5.7780529073899096},{"$f":"Tab1.1_2013_GDP_P_Current!K31/Tab1.1_2013_GDP_P_Current!K$4*100","v":6.3847178764888897},{"$f":"Tab1.1_2013_GDP_P_Current!L31/Tab1.1_2013_GDP_P_Current!L$4*100","v":6.1968434588970087},{"$f":"Tab1.1_2013_GDP_P_Current!M31/Tab1.1_2013_GDP_P_Current!M$4*100","v":6.7568840530761438},{"$f":"Tab1.1_2013_GDP_P_Current!N31/Tab1.1_2013_GDP_P_Current!N$4*100","v":7.8875946506589925},{"$f":"Tab1.1_2013_GDP_P_Current!O31/Tab1.1_2013_GDP_P_Current!O$4*100","v":8.7578734914851744},{"$f":"Tab1.1_2013_GDP_P_Current!P31/Tab1.1_2013_GDP_P_Current!P$4*100","v":8.4049933340827696},{"$f":"Tab1.1_2013_GDP_P_Current!Q31/Tab1.1_2013_GDP_P_Current!Q$4*100","v":7.6799932138232192},{"$f":"Tab1.1_2013_GDP_P_Current!R31/Tab1.1_2013_GDP_P_Current!R$4*100","v":8.0574205365458731}]
[]
[null,"2018* Provisional data"]
[]
["Contribution to GDP estimates, 2013 base year: basic price"]
[]
["ISIC Rev.4","Industry",2004,2005,2006,2007,2008,2009,2010,2011,2012,2013,2014,2015,2016,2017,"2018*"]
[null,"Gross Domestic Product (GDP) market price",{"$nulls":9},106.25184766579403,107.6885802210259,108.81494955269957,108.81848067922051,108.07974922747351]
["A","Agriculture, forestry and fishing",{"$f":"'Tab 1.2_2013_GDP_P_Constant'!C5/'Tab 1.2_2013_GDP_P_Constant'!C$30*100","v":34.120013312869943},{"$f":"'Tab 1.2_2013_GDP_P_Constant'!D5/'Tab 1.2_2013_GDP_P_Constant'!D$30*100","v":33.966925482336499},{"$f":"'Tab 1.2_2013_GDP_P_Constant'!E5/'Tab 1.2_2013_GDP_P_Constant'!E$30*100","v":28.490408810283459},{"$f":"'Tab 1.2_2013_GDP_P_Constant'!F5/'Tab 1.2_2013_GDP_P_Constant'!F$30*100","v":26.49829408847102},{"$f":"'Tab 1.2_2013_GDP_P_Constant'!G5/'Tab 1.2_2013_GDP_P_Constant'!G$30*100","v":32.651495007343257},{"$f":"'Tab 1.2_2013_GDP_P_Constant'!H5/'Tab 1.2_2013_GDP_P_Constant'!H$30*100","v":35.172987064278125},{"$f":"'Tab 1.2_2013_GDP_P_Constant'!I5/'Tab 1.2_2013_GDP_P_Constant'!I$30*100","v":37.14669058055344},{"$f":"'Tab 1.2_2013_GDP_P_Constant'!J5/'Tab 1.2_2013_GDP_P_Constant'!J$30*100","v":29.300575774095204},{"$f":"'Tab 1.2_2013_GDP_P_Constant'!K5/'Tab 1.2_2013_GDP_P_Constant'!K$30*100","v":29.665198687424667},{"$f":"'Tab 1.2_2013_GDP_P_Constant'!L5/'Tab 1.2_2013_GDP_P_Constant'!L$30*100","v":28.122314736059401},{"$f":"'Tab 1.2_2013_GDP_P_Constant'!M5/'Tab 1.2_2013_GDP_P_Constant'!M$30*100","v":25.004060994308119},{"$f":"'Tab 1.2_2013_GDP_P_Constant'!N5/'Tab 1.2_2013_GDP_P_Constant'!N$30*100","v":24.980719656273294},{"$f":"'Tab 1.2_2013_GDP_P_Constant'!O5/'Tab 1.2_2013_GDP_P_Constant'!O$30*100","v":24.447500741190794},{"$f":"'Tab 1.2_2013_GDP_P_Constant'!P5/'Tab 1.2_2013_GDP_P_Constant'!P$30*100","v":22.304781193051529},{"$f":"'Tab 1.2_2013_GDP_P_Constant'!Q5/'Tab 1.2_2013_GDP_P_Constant'!Q$30*100","v":21.119576376386277}]
[null,"Crop",{"$f":"'Tab 1.2_2013_GDP_P_Constant'!C6/'Tab 1.2_2013_GDP_P_Constant'!C$30*100","v":23.663026277116888},{"$f":"'Tab 1.2_2013_GDP_P_Constant'!D6/'Tab 1.2_2013_GDP_P_Constant'!D$30*100","v":23.264745947940803},{"$f":"'Tab 1.2_2013_GDP_P_Constant'!E6/'Tab 1.2_2013_GDP_P_Constant'!E$30*100","v":17.260127689420408},{"$f":"'Tab 1.2_2013_GDP_P_Constant'!F6/'Tab 1.2_2013_GDP_P_Constant'!F$30*100","v":14.212715123027994},{"$f":"'Tab 1.2_2013_GDP_P_Constant'!G6/'Tab 1.2_2013_GDP_P_Constant'!G$30*100","v":20.749466056031572},{"$f":"'Tab 1.2_2013_GDP_P_Constant'!H6/'Tab 1.2_2013_GDP_P_Constant'!H$30*100","v":24.195684502127317},{"$f":"'Tab 1.2_2013_GDP_P_Constant'!I6/'Tab 1.2_2013_GDP_P_Constant'!I$30*100","v":26.435678301531528},{"$f":"'Tab 1.2_2013_GDP_P_Constant'!J6/'Tab 1.2_2013_GDP_P_Constant'!J$30*100","v":17.184462622948544},{"$f":"'Tab 1.2_2013_GDP_P_Constant'!K6/'Tab 1.2_2013_GDP_P_Constant'!K$30*100","v":17.718961303832302},{"$f":"'Tab 1.2_2013_GDP_P_Constant'!L6/'Tab 1.2_2013_GDP_P_Constant'!L$30*100","v":16.07411352182076},{"$f":"'Tab 1.2_2013_GDP_P_Constant'!M6/'Tab 1.2_2013_GDP_P_Constant'!M$30*100","v":14.026183042218083},{"$f":"'Tab 1.2_2013_GDP_P_Constant'!N6/'Tab 1.2_2013_GDP_P_Constant'!N$30*100","v":14.263072489066305},{"$f":"'Tab 1.2_2013_GDP_P_Constant'!O6/'Tab 1.2_2013_GDP_P_Constant'!O$30*100","v":13.621904528763865},{"$f":"'Tab 1.2_2013_GDP_P_Constant'!P6/'Tab 1.2_2013_GDP_P_Constant'!P$30*100","v":10.593356878693191},{"$f":"'Tab 1.2_2013_GDP_P_Constant'!Q6/'Tab 1.2_2013_GDP_P_Constant'!Q$30*100","v":10.595654075788961}]
[null,"Livestock",{"$f":"'Tab 1.2_2013_GDP_P_Constant'!C7/'Tab 1.2_2013_GDP_P_Constant'!C$30*100","v":4.8388646650032001},{"$f":"'Tab 1.2_2013_GDP_P_Constant'!D7/'Tab 1.2_2013_GDP_P_Constant'!D$30*100","v":5.0057979447827483},{"$f":"'Tab 1.2_2013_GDP_P_Constant'!E7/'Tab 1.2_2013_GDP_P_Constant'!E$30*100","v":5.1109190699267835},{"$f":"'Tab 1.2_2013_GDP_P_Constant'!F7/'Tab 1.2_2013_GDP_P_Constant'!F$30*100","v":5.5658572743143306},{"$f":"'Tab 1.2_2013_GDP_P_Constant'!G7/'Tab 1.2_2013_GDP_P_Constant'!G$30*100","v":5.3887814539515775},{"$f":"'Tab 1.2_2013_GDP_P_Constant'!H7/'Tab 1.2_2013_GDP_P_Constant'!H$30*100","v":4.8166466913406296},{"$f":"'Tab 1.2_2013_GDP_P_Constant'!I7/'Tab 1.2_2013_GDP_P_Constant'!I$30*100","v":4.777451710774093},{"$f":"'Tab 1.2_2013_GDP_P_Constant'!J7/'Tab 1.2_2013_GDP_P_Constant'!J$30*100","v":5.3906972701159201},{"$f":"'Tab 1.2_2013_GDP_P_Constant'!K7/'Tab 1.2_2013_GDP_P_Constant'!K$30*100","v":5.3390529074219923},{"$f":"'Tab 1.2_2013_GDP_P_Constant'!L7/'Tab 1.2_2013_GDP_P_Constant'!L$30*100","v":5.3671798322387581},{"$f":"'Tab 1.2_2013_GDP_P_Constant'!M7/'Tab 1.2_2013_GDP_P_Constant'!M$30*100","v":5.2958291687823884},{"$f":"'Tab 1.2_2013_GDP_P_Constant'!N7/'Tab 1.2_2013_GDP_P_Constant'!N$30*100","v":4.2613656318120929},{"$f":"'Tab 1.2_2013_GDP_P_Constant'!O7/'Tab 1.2_2013_GDP_P_Constant'!O$30*100","v":4.0542026102063158},{"$f":"'Tab 1.2_2013_GDP_P_Constant'!P7/'Tab 1.2_2013_GDP_P_Constant'!P$30*100","v":3.4468877833359119},{"$f":"'Tab 1.2_2013_GDP_P_Constant'!Q7/'Tab 1.2_2013_GDP_P_Constant'!Q$30*100","v":3.0527005889273666}]
[null,"Forestry and logging",{"$f":"'Tab 1.2_2013_GDP_P_Constant'!C8/'Tab 1.2_2013_GDP_P_Constant'!C$30*100","v":1.2497028502117951},{"$f":"'Tab 1.2_2013_GDP_P_Constant'!D8/'Tab 1.2_2013_GDP_P_Constant'!D$30*100","v":1.3191699940787132},{"$f":"'Tab 1.2_2013_GDP_P_Constant'!E8/'Tab 1.2_2013_GDP_P_Constant'!E$30*100","v":1.367975701602949},{"$f":"'Tab 1.2_2013_GDP_P_Constant'!F8/'Tab 1.2_2013_GDP_P_Constant'!F$30*100","v":1.2749606462255343},{"$f":"'Tab 1.2_2013_GDP_P_Constant'!G8/'Tab 1.2_2013_GDP_P_Constant'!G$30*100","v":1.2114929212357162},{"$f":"'Tab 1.2_2013_GDP_P_Constant'!H8/'Tab 1.2_2013_GDP_P_Constant'!H$30*100","v":1.1370325816473874},{"$f":"'Tab 1.2_2013_GDP_P_Constant'!I8/'Tab 1.2_2013_GDP_P_Constant'!I$30*100","v":1.1060259922750608},{"$f":"'Tab 1.2_2013_GDP_P_Constant'!J8/'Tab 1.2_2013_GDP_P_Constant'!J$30*100","v":1.2491797884557529},{"$f":"'Tab 1.2_2013_GDP_P_Constant'!K8/'Tab 1.2_2013_GDP_P_Constant'!K$30*100","v":1.2236761703388717},{"$f":"'Tab 1.2_2013_GDP_P_Constant'!L8/'Tab 1.2_2013_GDP_P_Constant'!L$30*100","v":1.2313340515196443},{"$f":"'Tab 1.2_2013_GDP_P_Constant'!M8/'Tab 1.2_2013_GDP_P_Constant'!M$30*100","v":1.1971855260877178},{"$f":"'Tab 1.2_2013_GDP_P_Constant'!N8/'Tab 1.2_2013_GDP_P_Constant'!N$30*100","v":1.163067457585897},{"$f":"'Tab 1.2_2013_GDP_P_Constant'!O8/'Tab 1.2_2013_GDP_P_Constant'!O$30*100","v":0.95788098867525351},{"$f":"'Tab 1.2_2013_GDP_P_Constant'!P8/'Tab 1.2_2013_GDP_P_Constant'!P$30*100","v":0.80756269375959544},{"$f":"'Tab 1.2_2013_GDP_P_Constant'!Q8/'Tab 1.2_2013_GDP_P_Constant'!Q$30*100","v":0.61983958526652172}]
[null,"Fishing and aquaculture",{"$f":"'Tab 1.2_2013_GDP_P_Constant'!C9/'Tab 1.2_2013_GDP_P_Constant'!C$30*100","v":4.3684195205380609},{"$f":"'Tab 1.2_2013_GDP_P_Constant'!D9/'Tab 1.2_2013_GDP_P_Constant'!D$30*100","v":4.3772115955342317},{"$f":"'Tab 1.2_2013_GDP_P_Constant'!E9/'Tab 1.2_2013_GDP_P_Constant'!E$30*100","v":4.7513863493333153},{"$f":"'Tab 1.2_2013_GDP_P_Constant'!F9/'Tab 1.2_2013_GDP_P_Constant'!F$30*100","v":5.4447610449031618},{"$f":"'Tab 1.2_2013_GDP_P_Constant'!G9/'Tab 1.2_2013_GDP_P_Constant'!G$30*100","v":5.3017545761243863},{"$f":"'Tab 1.2_2013_GDP_P_Constant'!H9/'Tab 1.2_2013_GDP_P_Constant'!H$30*100","v":5.0236232891627948},{"$f":"'Tab 1.2_2013_GDP_P_Constant'!I9/'Tab 1.2_2013_GDP_P_Constant'!I$30*100","v":4.8275345759727548},{"$f":"'Tab 1.2_2013_GDP_P_Constant'!J9/'Tab 1.2_2013_GDP_P_Constant'!J$30*100","v":5.4762360925749887},{"$f":"'Tab 1.2_2013_GDP_P_Constant'!K9/'Tab 1.2_2013_GDP_P_Constant'!K$30*100","v":5.3835083058315023},{"$f":"'Tab 1.2_2013_GDP_P_Constant'!L9/'Tab 1.2_2013_GDP_P_Constant'!L$30*100","v":5.4496873304802413},{"$f":"'Tab 1.2_2013_GDP_P_Constant'!M9/'Tab 1.2_2013_GDP_P_Constant'!M$30*100","v":4.4848632572199305},{"$f":"'Tab 1.2_2013_GDP_P_Constant'!N9/'Tab 1.2_2013_GDP_P_Constant'!N$30*100","v":5.2932140778089982},{"$f":"'Tab 1.2_2013_GDP_P_Constant'!O9/'Tab 1.2_2013_GDP_P_Constant'!O$30*100","v":5.813512613545357},{"$f":"'Tab 1.2_2013_GDP_P_Constant'!P9/'Tab 1.2_2013_GDP_P_Constant'!P$30*100","v":7.4569738372628285},{"$f":"'Tab 1.2_2013_GDP_P_Constant'!Q9/'Tab 1.2_2013_GDP_P_Constant'!Q$30*100","v":6.8513821264034327}]
[null,"Industry",{"$f":"'Tab 1.2_2013_GDP_P_Constant'!C10/'Tab 1.2_2013_GDP_P_Constant'!C$30*100","v":12.557972592222487},{"$f":"'Tab 1.2_2013_GDP_P_Constant'!D10/'Tab 1.2_2013_GDP_P_Constant'!D$30*100","v":12.63804762608623},{"$f":"'Tab 1.2_2013_GDP_P_Constant'!E10/'Tab 1.2_2013_GDP_P_Constant'!E$30*100","v":13.223519101551576},{"$f":"'Tab 1.2_2013_GDP_P_Constant'!F10/'Tab 1.2_2013_GDP_P_Constant'!F$30*100","v":13.170353507463952},{"$f":"'Tab 1.2_2013_GDP_P_Constant'!G10/'Tab 1.2_2013_GDP_P_Constant'!G$30*100","v":12.26465957705584},{"$f":"'Tab 1.2_2013_GDP_P_Constant'!H10/'Tab 1.2_2013_GDP_P_Constant'!H$30*100","v":11.412367874377296},{"$f":"'Tab 1.2_2013_GDP_P_Constant'!I10/'Tab 1.2_2013_GDP_P_Constant'!I$30*100","v":11.092446868010434},{"$f":"'Tab 1.2_2013_GDP_P_Constant'!J10/'Tab 1.2_2013_GDP_P_Constant'!J$30*100","v":12.65086006583045},{"$f":"'Tab 1.2_2013_GDP_P_Constant'!K10/'Tab 1.2_2013_GDP_P_Constant'!K$30*100","v":12.646834374357635},{"$f":"'Tab 1.2_2013_GDP_P_Constant'!L10/'Tab 1.2_2013_GDP_P_Constant'!L$30*100","v":12.756648352423497},{"$f":"'Tab 1.2_2013_GDP_P_Constant'!M10/'Tab 1.2_2013_GDP_P_Constant'!M$30*100","v":14.184684363535091},{"$f":"'Tab 1.2_2013_GDP_P_Constant'!N10/'Tab 1.2_2013_GDP_P_Constant'!N$30*100","v":16.715634077100763},{"$f":"'Tab 1.2_2013_GDP_P_Constant'!O10/'Tab 1.2_2013_GDP_P_Constant'!O$30*100","v":19.548859853331599},{"$f":"'Tab 1.2_2013_GDP_P_Constant'!P10/'Tab 1.2_2013_GDP_P_Constant'!P$30*100","v":17.990559440562134},{"$f":"'Tab 1.2_2013_GDP_P_Constant'!Q10/'Tab 1.2_2013_GDP_P_Constant'!Q$30*100","v":17.307205952133394}]
["B","Mining and quarrying",{"$f":"'Tab 1.2_2013_GDP_P_Constant'!C11/'Tab 1.2_2013_GDP_P_Constant'!C$30*100","v":0.13165468928192198},{"$f":"'Tab 1.2_2013_GDP_P_Constant'!D11/'Tab 1.2_2013_GDP_P_Constant'!D$30*100","v":0.19963726193785578},{"$f":"'Tab 1.2_2013_GDP_P_Constant'!E11/'Tab 1.2_2013_GDP_P_Constant'!E$30*100","v":0.20347522020643605},{"$f":"'Tab 1.2_2013_GDP_P_Constant'!F11/'Tab 1.2_2013_GDP_P_Constant'!F$30*100","v":0.16967938443310374},{"$f":"'Tab 1.2_2013_GDP_P_Constant'!G11/'Tab 1.2_2013_GDP_P_Constant'!G$30*100","v":0.20721309059139603},{"$f":"'Tab 1.2_2013_GDP_P_Constant'!H11/'Tab 1.2_2013_GDP_P_Constant'!H$30*100","v":0.21772300788529278},{"$f":"'Tab 1.2_2013_GDP_P_Constant'!I11/'Tab 1.2_2013_GDP_P_Constant'!I$30*100","v":0.23483382729999497},{"$f":"'Tab 1.2_2013_GDP_P_Constant'!J11/'Tab 1.2_2013_GDP_P_Constant'!J$30*100","v":0.27589203524362993},{"$f":"'Tab 1.2_2013_GDP_P_Constant'!K11/'Tab 1.2_2013_GDP_P_Constant'!K$30*100","v":0.28576680066464905},{"$f":"'Tab 1.2_2013_GDP_P_Constant'!L11/'Tab 1.2_2013_GDP_P_Constant'!L$30*100","v":0.29873692966954984},{"$f":"'Tab 1.2_2013_GDP_P_Constant'!M11/'Tab 1.2_2013_GDP_P_Constant'!M$30*100","v":0.59916688201640478},{"$f":"'Tab 1.2_2013_GDP_P_Constant'!N11/'Tab 1.2_2013_GDP_P_Constant'!N$30*100","v":0.53388308553774788},{"$f":"'Tab 1.2_2013_GDP_P_Constant'!O11/'Tab 1.2_2013_GDP_P_Constant'!O$30*100","v":0.4811062889265999},{"$f":"'Tab 1.2_2013_GDP_P_Constant'!P11/'Tab 1.2_2013_GDP_P_Constant'!P$30*100","v":0.48143083376198059},{"$f":"'Tab 1.2_2013_GDP_P_Constant'!Q11/'Tab 1.2_2013_GDP_P_Constant'!Q$30*100","v":0.54920717439291844}]
["C ","Manufacturing",{"$f":"'Tab 1.2_2013_GDP_P_Constant'!C12/'Tab 1.2_2013_GDP_P_Constant'!C$30*100","v":5.7968213146097467},{"$f":"'Tab 1.2_2013_GDP_P_Constant'!D12/'Tab 1.2_2013_GDP_P_Constant'!D$30*100","v":6.9840810151664021},{"$f":"'Tab 1.2_2013_GDP_P_Constant'!E12/'Tab 1.2_2013_GDP_P_Constant'!E$30*100","v":7.3204839021218575},{"$f":"'Tab 1.2_2013_GDP_P_Constant'!F12/'Tab 1.2_2013_GDP_P_Constant'!F$30*100","v":7.3835605248120357},{"$f":"'Tab 1.2_2013_GDP_P_Constant'!G12/'Tab 1.2_2013_GDP_P_Constant'!G$30*100","v":6.3713869038442574},{"$f":"'Tab 1.2_2013_GDP_P_Constant'!H12/'Tab 1.2_2013_GDP_P_Constant'!H$30*100","v":5.7176880025847758},{"$f":"'Tab 1.2_2013_GDP_P_Constant'!I12/'Tab 1.2_2013_GDP_P_Constant'!I$30*100","v":5.423355659647541},{"$f":"'Tab 1.2_2013_GDP_P_Constant'!J12/'Tab 1.2_2013_GDP_P_Constant'!J$30*100","v":6.1518398458774399},{"$f":"'Tab 1.2_2013_GDP_P_Constant'!K12/'Tab 1.2_2013_GDP_P_Constant'!K$30*100","v":5.9920744228274838},{"$f":"'Tab 1.2_2013_GDP_P_Constant'!L12/'Tab 1.2_2013_GDP_P_Constant'!L$30*100","v":6.0178197239166877},{"$f":"'Tab 1.2_2013_GDP_P_Constant'!M12/'Tab 1.2_2013_GDP_P_Constant'!M$30*100","v":6.3058031089283402},{"$f":"'Tab 1.2_2013_GDP_P_Constant'!N12/'Tab 1.2_2013_GDP_P_Constant'!N$30*100","v":6.2203912311629947},{"$f":"'Tab 1.2_2013_GDP_P_Constant'!O12/'Tab 1.2_2013_GDP_P_Constant'!O$30*100","v":5.6719849815030789},{"$f":"'Tab 1.2_2013_GDP_P_Constant'!P12/'Tab 1.2_2013_GDP_P_Constant'!P$30*100","v":4.9861076096946171},{"$f":"'Tab 1.2_2013_GDP_P_Constant'!Q12/'Tab 1.2_2013_GDP_P_Constant'!Q$30*100","v":4.6921284750381789}]
["D ","Electricity, gas, steam and air conditioning supply",{"$f":"'Tab 1.2_2013_GDP_P_Constant'!C13/'Tab 1.2_2013_GDP_P_Constant'!C$30*100","v":0.65191956433751508},{"$f":"'Tab 1.2_2013_GDP_P_Constant'!D13/'Tab 1.2_2013_GDP_P_Constant'!D$30*100","v":0.79733849260969714},{"$f":"'Tab 1.2_2013_GDP_P_Constant'!E13/'Tab 1.2_2013_GDP_P_Constant'!E$30*100","v":0.83183864874876423},{"$f":"'Tab 1.2_2013_GDP_P_Constant'!F13/'Tab 1.2_2013_GDP_P_Constant'!F$30*100","v":1.0785060501625929},{"$f":"'Tab 1.2_2013_GDP_P_Constant'!G13/'Tab 1.2_2013_GDP_P_Constant'!G$30*100","v":1.0675607450259408},{"$f":"'Tab 1.2_2013_GDP_P_Constant'!H13/'Tab 1.2_2013_GDP_P_Constant'!H$30*100","v":1.0231751416768238},{"$f":"'Tab 1.2_2013_GDP_P_Constant'!I13/'Tab 1.2_2013_GDP_P_Constant'!I$30*100","v":1.040696757678961},{"$f":"'Tab 1.2_2013_GDP_P_Constant'!J13/'Tab 1.2_2013_GDP_P_Constant'!J$30*100","v":1.0919810260505864},{"$f":"'Tab 1.2_2013_GDP_P_Constant'!K13/'Tab 1.2_2013_GDP_P_Constant'!K$30*100","v":0.99592033069292007},{"$f":"'Tab 1.2_2013_GDP_P_Constant'!L13/'Tab 1.2_2013_GDP_P_Constant'!L$30*100","v":0.99071412062260655},{"$f":"'Tab 1.2_2013_GDP_P_Constant'!M13/'Tab 1.2_2013_GDP_P_Constant'!M$30*100","v":1.065985362004408},{"$f":"'Tab 1.2_2013_GDP_P_Constant'!N13/'Tab 1.2_2013_GDP_P_Constant'!N$30*100","v":1.1284104863149023},{"$f":"'Tab 1.2_2013_GDP_P_Constant'!O13/'Tab 1.2_2013_GDP_P_Constant'!O$30*100","v":1.1872425922749856},{"$f":"'Tab 1.2_2013_GDP_P_Constant'!P13/'Tab 1.2_2013_GDP_P_Constant'!P$30*100","v":1.0487658119764991},{"$f":"'Tab 1.2_2013_GDP_P_Constant'!Q13/'Tab 1.2_2013_GDP_P_Constant'!Q$30*100","v":1.1146833639648566}]
["E ","Water supply, sewerage, waste management and remediation activities",{"$f":"'Tab 1.2_2013_GDP_P_Constant'!C14/'Tab 1.2_2013_GDP_P_Constant'!C$30*100","v":0.46477857254066191},{"$f":"'Tab 1.2_2013_GDP_P_Constant'!D14/'Tab 1.2_2013_GDP_P_Constant'!D$30*100","v":0.56845332875298793},{"$f":"'Tab 1.2_2013_GDP_P_Constant'!E14/'Tab 1.2_2013_GDP_P_Constant'!E$30*100","v":0.59304981917898159},{"$f":"'Tab 1.2_2013_GDP_P_Constant'!F14/'Tab 1.2_2013_GDP_P_Constant'!F$30*100","v":0.76890851247949243},{"$f":"'Tab 1.2_2013_GDP_P_Constant'!G14/'Tab 1.2_2013_GDP_P_Constant'!G$30*100","v":0.76110518278098171},{"$f":"'Tab 1.2_2013_GDP_P_Constant'!H14/'Tab 1.2_2013_GDP_P_Constant'!H$30*100","v":0.7294609762032539},{"$f":"'Tab 1.2_2013_GDP_P_Constant'!I14/'Tab 1.2_2013_GDP_P_Constant'!I$30*100","v":0.74195281126937063},{"$f":"'Tab 1.2_2013_GDP_P_Constant'!J14/'Tab 1.2_2013_GDP_P_Constant'!J$30*100","v":0.77851534191190219},{"$f":"'Tab 1.2_2013_GDP_P_Constant'!K14/'Tab 1.2_2013_GDP_P_Constant'!K$30*100","v":0.71002997146444524},{"$f":"'Tab 1.2_2013_GDP_P_Constant'!L14/'Tab 1.2_2013_GDP_P_Constant'!L$30*100","v":0.70631826373668882},{"$f":"'Tab 1.2_2013_GDP_P_Constant'!M14/'Tab 1.2_2013_GDP_P_Constant'!M$30*100","v":0.84536607674909492},{"$f":"'Tab 1.2_2013_GDP_P_Constant'!N14/'Tab 1.2_2013_GDP_P_Constant'!N$30*100","v":0.84894261151514239},{"$f":"'Tab 1.2_2013_GDP_P_Constant'!O14/'Tab 1.2_2013_GDP_P_Constant'!O$30*100","v":0.90272283588062419},{"$f":"'Tab 1.2_2013_GDP_P_Constant'!P14/'Tab 1.2_2013_GDP_P_Constant'!P$30*100","v":0.84089871664679827},{"$f":"'Tab 1.2_2013_GDP_P_Constant'!Q14/'Tab 1.2_2013_GDP_P_Constant'!Q$30*100","v":0.79188253309556078}]
["F ","Construction",{"$f":"'Tab 1.2_2013_GDP_P_Constant'!C15/'Tab 1.2_2013_GDP_P_Constant'!C$30*100","v":5.5127984514526416},{"$f":"'Tab 1.2_2013_GDP_P_Constant'!D15/'Tab 1.2_2013_GDP_P_Constant'!D$30*100","v":4.0885375276192892},{"$f":"'Tab 1.2_2013_GDP_P_Constant'!E15/'Tab 1.2_2013_GDP_P_Constant'!E$30*100","v":4.2746715112955371},{"$f":"'Tab 1.2_2013_GDP_P_Constant'!F15/'Tab 1.2_2013_GDP_P_Constant'!F$30*100","v":3.7696990355767261},{"$f":"'Tab 1.2_2013_GDP_P_Constant'!G15/'Tab 1.2_2013_GDP_P_Constant'!G$30*100","v":3.8573936548132641},{"$f":"'Tab 1.2_2013_GDP_P_Constant'!H15/'Tab 1.2_2013_GDP_P_Constant'!H$30*100","v":3.724320746027149},{"$f":"'Tab 1.2_2013_GDP_P_Constant'!I15/'Tab 1.2_2013_GDP_P_Constant'!I$30*100","v":3.6516078121145679},{"$f":"'Tab 1.2_2013_GDP_P_Constant'!J15/'Tab 1.2_2013_GDP_P_Constant'!J$30*100","v":4.3526318167468885},{"$f":"'Tab 1.2_2013_GDP_P_Constant'!K15/'Tab 1.2_2013_GDP_P_Constant'!K$30*100","v":4.6630428487081366},{"$f":"'Tab 1.2_2013_GDP_P_Constant'!L15/'Tab 1.2_2013_GDP_P_Constant'!L$30*100","v":4.7430593144779634},{"$f":"'Tab 1.2_2013_GDP_P_Constant'!M15/'Tab 1.2_2013_GDP_P_Constant'!M$30*100","v":5.3683629338368446},{"$f":"'Tab 1.2_2013_GDP_P_Constant'!N15/'Tab 1.2_2013_GDP_P_Constant'!N$30*100","v":7.9840066625699739},{"$f":"'Tab 1.2_2013_GDP_P_Constant'!O15/'Tab 1.2_2013_GDP_P_Constant'!O$30*100","v":11.305803154746307},{"$f":"'Tab 1.2_2013_GDP_P_Constant'!P15/'Tab 1.2_2013_GDP_P_Constant'!P$30*100","v":10.633356468482241},{"$f":"'Tab 1.2_2013_GDP_P_Constant'!Q15/'Tab 1.2_2013_GDP_P_Constant'!Q$30*100","v":10.159304405641882}]
[null,"Services",{"$f":"'Tab 1.2_2013_GDP_P_Constant'!C16/'Tab 1.2_2013_GDP_P_Constant'!C$30*100","v":53.322014094907566},{"$f":"'Tab 1.2_2013_GDP_P_Constant'!D16/'Tab 1.2_2013_GDP_P_Constant'!D$30*100","v":53.395026891577281},{"$f":"'Tab 1.2_2013_GDP_P_Constant'!E16/'Tab 1.2_2013_GDP_P_Constant'!E$30*100","v":58.286072088164964},{"$f":"'Tab 1.2_2013_GDP_P_Constant'!F16/'Tab 1.2_2013_GDP_P_Constant'!F$30*100","v":60.331352404065022},{"$f":"'Tab 1.2_2013_GDP_P_Constant'!G16/'Tab 1.2_2013_GDP_P_Constant'!G$30*100","v":55.083845415600898},{"$f":"'Tab 1.2_2013_GDP_P_Constant'!H16/'Tab 1.2_2013_GDP_P_Constant'!H$30*100","v":53.414645061344579},{"$f":"'Tab 1.2_2013_GDP_P_Constant'!I16/'Tab 1.2_2013_GDP_P_Constant'!I$30*100","v":51.760862551436126},{"$f":"'Tab 1.2_2013_GDP_P_Constant'!J16/'Tab 1.2_2013_GDP_P_Constant'!J$30*100","v":58.048564160074342},{"$f":"'Tab 1.2_2013_GDP_P_Constant'!K16/'Tab 1.2_2013_GDP_P_Constant'!K$30*100","v":57.687966938217691},{"$f":"'Tab 1.2_2013_GDP_P_Constant'!L16/'Tab 1.2_2013_GDP_P_Constant'!L$30*100","v":59.121036911517102},{"$f":"'Tab 1.2_2013_GDP_P_Constant'!M16/'Tab 1.2_2013_GDP_P_Constant'!M$30*100","v":60.811254642156797},{"$f":"'Tab 1.2_2013_GDP_P_Constant'!N16/'Tab 1.2_2013_GDP_P_Constant'!N$30*100","v":58.303646266625954},{"$f":"'Tab 1.2_2013_GDP_P_Constant'!O16/'Tab 1.2_2013_GDP_P_Constant'!O$30*100","v":56.0036394054776},{"$f":"'Tab 1.2_2013_GDP_P_Constant'!P16/'Tab 1.2_2013_GDP_P_Constant'!P$30*100","v":59.704659366386338},{"$f":"'Tab 1.2_2013_GDP_P_Constant'!Q16/'Tab 1.2_2013_GDP_P_Constant'!Q$30*100","v":61.573217671480329}]
["G","Wholesale and retail trade; repair of motors and motocycles",{"$f":"'Tab 1.2_2013_GDP_P_Constant'!C17/'Tab 1.2_2013_GDP_P_Constant'!C$30*100","v":33.757883186087525},{"$f":"'Tab 1.2_2013_GDP_P_Constant'!D17/'Tab 1.2_2013_GDP_P_Constant'!D$30*100","v":32.437066942523998},{"$f":"'Tab 1.2_2013_GDP_P_Constant'!E17/'Tab 1.2_2013_GDP_P_Constant'!E$30*100","v":35.831929871916287},{"$f":"'Tab 1.2_2013_GDP_P_Constant'!F17/'Tab 1.2_2013_GDP_P_Constant'!F$30*100","v":38.637887801843199},{"$f":"'Tab 1.2_2013_GDP_P_Constant'!G17/'Tab 1.2_2013_GDP_P_Constant'!G$30*100","v":34.065950975080938},{"$f":"'Tab 1.2_2013_GDP_P_Constant'!H17/'Tab 1.2_2013_GDP_P_Constant'!H$30*100","v":31.885961518659705},{"$f":"'Tab 1.2_2013_GDP_P_Constant'!I17/'Tab 1.2_2013_GDP_P_Constant'!I$30*100","v":30.975311593228451},{"$f":"'Tab 1.2_2013_GDP_P_Constant'!J17/'Tab 1.2_2013_GDP_P_Constant'!J$30*100","v":34.158745006594117},{"$f":"'Tab 1.2_2013_GDP_P_Constant'!K17/'Tab 1.2_2013_GDP_P_Constant'!K$30*100","v":33.951542510596312},{"$f":"'Tab 1.2_2013_GDP_P_Constant'!L17/'Tab 1.2_2013_GDP_P_Constant'!L$30*100","v":33.785855499368978},{"$f":"'Tab 1.2_2013_GDP_P_Constant'!M17/'Tab 1.2_2013_GDP_P_Constant'!M$30*100","v":34.755372369152624},{"$f":"'Tab 1.2_2013_GDP_P_Constant'!N17/'Tab 1.2_2013_GDP_P_Constant'!N$30*100","v":33.510370717974112},{"$f":"'Tab 1.2_2013_GDP_P_Constant'!O17/'Tab 1.2_2013_GDP_P_Constant'!O$30*100","v":31.084212764041713},{"$f":"'Tab 1.2_2013_GDP_P_Constant'!P17/'Tab 1.2_2013_GDP_P_Constant'!P$30*100","v":34.703667363478409},{"$f":"'Tab 1.2_2013_GDP_P_Constant'!Q17/'Tab 1.2_2013_GDP_P_Constant'!Q$30*100","v":35.674451099979457}]
["H ","Transport and storage",{"$f":"'Tab 1.2_2013_GDP_P_Constant'!C18/'Tab 1.2_2013_GDP_P_Constant'!C$30*100","v":3.2444336800276981},{"$f":"'Tab 1.2_2013_GDP_P_Constant'!D18/'Tab 1.2_2013_GDP_P_Constant'!D$30*100","v":3.4838755849435779},{"$f":"'Tab 1.2_2013_GDP_P_Constant'!E18/'Tab 1.2_2013_GDP_P_Constant'!E$30*100","v":3.600144488315602},{"$f":"'Tab 1.2_2013_GDP_P_Constant'!F18/'Tab 1.2_2013_GDP_P_Constant'!F$30*100","v":3.6748782367896258},{"$f":"'Tab 1.2_2013_GDP_P_Constant'!G18/'Tab 1.2_2013_GDP_P_Constant'!G$30*100","v":3.5331216183454082},{"$f":"'Tab 1.2_2013_GDP_P_Constant'!H18/'Tab 1.2_2013_GDP_P_Constant'!H$30*100","v":3.4521937224829067},{"$f":"'Tab 1.2_2013_GDP_P_Constant'!I18/'Tab 1.2_2013_GDP_P_Constant'!I$30*100","v":3.3676624526565813},{"$f":"'Tab 1.2_2013_GDP_P_Constant'!J18/'Tab 1.2_2013_GDP_P_Constant'!J$30*100","v":3.7298712522369555},{"$f":"'Tab 1.2_2013_GDP_P_Constant'!K18/'Tab 1.2_2013_GDP_P_Constant'!K$30*100","v":3.6619481100982836},{"$f":"'Tab 1.2_2013_GDP_P_Constant'!L18/'Tab 1.2_2013_GDP_P_Constant'!L$30*100","v":3.7540702120999985},{"$f":"'Tab 1.2_2013_GDP_P_Constant'!M18/'Tab 1.2_2013_GDP_P_Constant'!M$30*100","v":4.1635501049211108},{"$f":"'Tab 1.2_2013_GDP_P_Constant'!N18/'Tab 1.2_2013_GDP_P_Constant'!N$30*100","v":3.3611942670175718},{"$f":"'Tab 1.2_2013_GDP_P_Constant'!O18/'Tab 1.2_2013_GDP_P_Constant'!O$30*100","v":3.7298603575441436},{"$f":"'Tab 1.2_2013_GDP_P_Constant'!P18/'Tab 1.2_2013_GDP_P_Constant'!P$30*100","v":3.8742106496606294},{"$f":"'Tab 1.2_2013_GDP_P_Constant'!Q18/'Tab 1.2_2013_GDP_P_Constant'!Q$30*100","v":4.3516675664282154}]
["I ","Accommodation and food service activities",{"$f":"'Tab 1.2_2013_GDP_P_Constant'!C19/'Tab 1.2_2013_GDP_P_Constant'!C$30*100","v":1.7412523643998743},{"$f":"'Tab 1.2_2013_GDP_P_Constant'!D19/'Tab 1.2_2013_GDP_P_Constant'!D$30*100","v":2.1376073610637478},{"$f":"'Tab 1.2_2013_GDP_P_Constant'!E19/'Tab 1.2_2013_GDP_P_Constant'!E$30*100","v":2.4889125676334558},{"$f":"'Tab 1.2_2013_GDP_P_Constant'!F19/'Tab 1.2_2013_GDP_P_Constant'!F$30*100","v":2.7614737614836531},{"$f":"'Tab 1.2_2013_GDP_P_Constant'!G19/'Tab 1.2_2013_GDP_P_Constant'!G$30*100","v":2.6733122585305713},{"$f":"'Tab 1.2_2013_GDP_P_Constant'!H19/'Tab 1.2_2013_GDP_P_Constant'!H$30*100","v":2.4172913619762553},{"$f":"'Tab 1.2_2013_GDP_P_Constant'!I19/'Tab 1.2_2013_GDP_P_Constant'!I$30*100","v":1.4693123983161451},{"$f":"'Tab 1.2_2013_GDP_P_Constant'!J19/'Tab 1.2_2013_GDP_P_Constant'!J$30*100","v":1.8730904732571627},{"$f":"'Tab 1.2_2013_GDP_P_Constant'!K19/'Tab 1.2_2013_GDP_P_Constant'!K$30*100","v":1.8510658595714979},{"$f":"'Tab 1.2_2013_GDP_P_Constant'!L19/'Tab 1.2_2013_GDP_P_Constant'!L$30*100","v":1.9639084012178545},{"$f":"'Tab 1.2_2013_GDP_P_Constant'!M19/'Tab 1.2_2013_GDP_P_Constant'!M$30*100","v":1.8419578475794043},{"$f":"'Tab 1.2_2013_GDP_P_Constant'!N19/'Tab 1.2_2013_GDP_P_Constant'!N$30*100","v":1.5421397388142732},{"$f":"'Tab 1.2_2013_GDP_P_Constant'!O19/'Tab 1.2_2013_GDP_P_Constant'!O$30*100","v":1.8270012839822523},{"$f":"'Tab 1.2_2013_GDP_P_Constant'!P19/'Tab 1.2_2013_GDP_P_Constant'!P$30*100","v":1.7238894850137039},{"$f":"'Tab 1.2_2013_GDP_P_Constant'!Q19/'Tab 1.2_2013_GDP_P_Constant'!Q$30*100","v":1.9122618412777181}]
["J ","Information and Communication",{"$f":"'Tab 1.2_2013_GDP_P_Constant'!C20/'Tab 1.2_2013_GDP_P_Constant'!C$30*100","v":2.0789805541759225},{"$f":"'Tab 1.2_2013_GDP_P_Constant'!D20/'Tab 1.2_2013_GDP_P_Constant'!D$30*100","v":2.2325317131060536},{"$f":"'Tab 1.2_2013_GDP_P_Constant'!E20/'Tab 1.2_2013_GDP_P_Constant'!E$30*100","v":2.4518328579598476},{"$f":"'Tab 1.2_2013_GDP_P_Constant'!F20/'Tab 1.2_2013_GDP_P_Constant'!F$30*100","v":2.6282862102223308},{"$f":"'Tab 1.2_2013_GDP_P_Constant'!G20/'Tab 1.2_2013_GDP_P_Constant'!G$30*100","v":2.3239859259204025},{"$f":"'Tab 1.2_2013_GDP_P_Constant'!H20/'Tab 1.2_2013_GDP_P_Constant'!H$30*100","v":2.3892978429730714},{"$f":"'Tab 1.2_2013_GDP_P_Constant'!I20/'Tab 1.2_2013_GDP_P_Constant'!I$30*100","v":2.5883949115370855},{"$f":"'Tab 1.2_2013_GDP_P_Constant'!J20/'Tab 1.2_2013_GDP_P_Constant'!J$30*100","v":3.02356288397799},{"$f":"'Tab 1.2_2013_GDP_P_Constant'!K20/'Tab 1.2_2013_GDP_P_Constant'!K$30*100","v":3.1997226863492454},{"$f":"'Tab 1.2_2013_GDP_P_Constant'!L20/'Tab 1.2_2013_GDP_P_Constant'!L$30*100","v":3.8270633096246778},{"$f":"'Tab 1.2_2013_GDP_P_Constant'!M20/'Tab 1.2_2013_GDP_P_Constant'!M$30*100","v":3.7464107906327211},{"$f":"'Tab 1.2_2013_GDP_P_Constant'!N20/'Tab 1.2_2013_GDP_P_Constant'!N$30*100","v":3.9427025764494701},{"$f":"'Tab 1.2_2013_GDP_P_Constant'!O20/'Tab 1.2_2013_GDP_P_Constant'!O$30*100","v":3.763957875253285},{"$f":"'Tab 1.2_2013_GDP_P_Constant'!P20/'Tab 1.2_2013_GDP_P_Constant'!P$30*100","v":4.5947690482670458},{"$f":"'Tab 1.2_2013_GDP_P_Constant'!Q20/'Tab 1.2_2013_GDP_P_Constant'!Q$30*100","v":4.9911081779987443}]
["K ","Financial and insurance activities",{"$f":"'Tab 1.2_2013_GDP_P_Constant'!C21/'Tab 1.2_2013_GDP_P_Constant'!C$30*100","v":1.463546228422002},{"$f":"'Tab 1.2_2013_GDP_P_Constant'!D21/'Tab 1.2_2013_GDP_P_Constant'!D$30*100","v":1.5480674382070108},{"$f":"'Tab 1.2_2013_GDP_P_Constant'!E21/'Tab 1.2_2013_GDP_P_Constant'!E$30*100","v":1.7167242771009259},{"$f":"'Tab 1.2_2013_GDP_P_Constant'!F21/'Tab 1.2_2013_GDP_P_Constant'!F$30*100","v":1.5693062998687328},{"$f":"'Tab 1.2_2013_GDP_P_Constant'!G21/'Tab 1.2_2013_GDP_P_Constant'!G$30*100","v":1.7908037629294931},{"$f":"'Tab 1.2_2013_GDP_P_Constant'!H21/'Tab 1.2_2013_GDP_P_Constant'!H$30*100","v":2.145128277717423},{"$f":"'Tab 1.2_2013_GDP_P_Constant'!I21/'Tab 1.2_2013_GDP_P_Constant'!I$30*100","v":2.0386202876223734},{"$f":"'Tab 1.2_2013_GDP_P_Constant'!J21/'Tab 1.2_2013_GDP_P_Constant'!J$30*100","v":2.528119498853012},{"$f":"'Tab 1.2_2013_GDP_P_Constant'!K21/'Tab 1.2_2013_GDP_P_Constant'!K$30*100","v":2.5059605763483117},{"$f":"'Tab 1.2_2013_GDP_P_Constant'!L21/'Tab 1.2_2013_GDP_P_Constant'!L$30*100","v":2.5872009357290944},{"$f":"'Tab 1.2_2013_GDP_P_Constant'!M21/'Tab 1.2_2013_GDP_P_Constant'!M$30*100","v":2.7480789602080744},{"$f":"'Tab 1.2_2013_GDP_P_Constant'!N21/'Tab 1.2_2013_GDP_P_Constant'!N$30*100","v":2.7052436724719344},{"$f":"'Tab 1.2_2013_GDP_P_Constant'!O21/'Tab 1.2_2013_GDP_P_Constant'!O$30*100","v":2.4574537171558215},{"$f":"'Tab 1.2_2013_GDP_P_Constant'!P21/'Tab 1.2_2013_GDP_P_Constant'!P$30*100","v":2.3710707843273653},{"$f":"'Tab 1.2_2013_GDP_P_Constant'!Q21/'Tab 1.2_2013_GDP_P_Constant'!Q$30*100","v":2.4527099610514953}]
["L ","Real estate activities",{"$f":"'Tab 1.2_2013_GDP_P_Constant'!C22/'Tab 1.2_2013_GDP_P_Constant'!C$30*100","v":2.1679234150360296},{"$f":"'Tab 1.2_2013_GDP_P_Constant'!D22/'Tab 1.2_2013_GDP_P_Constant'!D$30*100","v":2.2831664065019774},{"$f":"'Tab 1.2_2013_GDP_P_Constant'!E22/'Tab 1.2_2013_GDP_P_Constant'!E$30*100","v":2.3615215459127743},{"$f":"'Tab 1.2_2013_GDP_P_Constant'!F22/'Tab 1.2_2013_GDP_P_Constant'!F$30*100","v":2.3555318437248398},{"$f":"'Tab 1.2_2013_GDP_P_Constant'!G22/'Tab 1.2_2013_GDP_P_Constant'!G$30*100","v":2.2768878531868721},{"$f":"'Tab 1.2_2013_GDP_P_Constant'!H22/'Tab 1.2_2013_GDP_P_Constant'!H$30*100","v":2.192842152613601},{"$f":"'Tab 1.2_2013_GDP_P_Constant'!I22/'Tab 1.2_2013_GDP_P_Constant'!I$30*100","v":2.1281231339042725},{"$f":"'Tab 1.2_2013_GDP_P_Constant'!J22/'Tab 1.2_2013_GDP_P_Constant'!J$30*100","v":2.3866661987138587},{"$f":"'Tab 1.2_2013_GDP_P_Constant'!K22/'Tab 1.2_2013_GDP_P_Constant'!K$30*100","v":2.3309613573864789},{"$f":"'Tab 1.2_2013_GDP_P_Constant'!L22/'Tab 1.2_2013_GDP_P_Constant'!L$30*100","v":2.4274901533128648},{"$f":"'Tab 1.2_2013_GDP_P_Constant'!M22/'Tab 1.2_2013_GDP_P_Constant'!M$30*100","v":2.7257964825754155},{"$f":"'Tab 1.2_2013_GDP_P_Constant'!N22/'Tab 1.2_2013_GDP_P_Constant'!N$30*100","v":2.6458262389714373},{"$f":"'Tab 1.2_2013_GDP_P_Constant'!O22/'Tab 1.2_2013_GDP_P_Constant'!O$30*100","v":2.5995092369236068},{"$f":"'Tab 1.2_2013_GDP_P_Constant'!P22/'Tab 1.2_2013_GDP_P_Constant'!P$30*100","v":2.5458823652357152},{"$f":"'Tab 1.2_2013_GDP_P_Constant'!Q22/'Tab 1.2_2013_GDP_P_Constant'!Q$30*100","v":2.4478644112669046}]
["M ","Professional, scientific and technical activities",{"$f":"'Tab 1.2_2013_GDP_P_Constant'!C23/'Tab 1.2_2013_GDP_P_Constant'!C$30*100","v":0.20338686531884831},{"$f":"'Tab 1.2_2013_GDP_P_Constant'!D23/'Tab 1.2_2013_GDP_P_Constant'!D$30*100","v":0.21419855295581053},{"$f":"'Tab 1.2_2013_GDP_P_Constant'!E23/'Tab 1.2_2013_GDP_P_Constant'!E$30*100","v":0.22154955349201649},{"$f":"'Tab 1.2_2013_GDP_P_Constant'!F23/'Tab 1.2_2013_GDP_P_Constant'!F$30*100","v":0.22098762093307645},{"$f":"'Tab 1.2_2013_GDP_P_Constant'!G23/'Tab 1.2_2013_GDP_P_Constant'!G$30*100","v":0.21360952141131975},{"$f":"'Tab 1.2_2013_GDP_P_Constant'!H23/'Tab 1.2_2013_GDP_P_Constant'!H$30*100","v":0.20572465266338932},{"$f":"'Tab 1.2_2013_GDP_P_Constant'!I23/'Tab 1.2_2013_GDP_P_Constant'!I$30*100","v":0.19965294447918508},{"$f":"'Tab 1.2_2013_GDP_P_Constant'!J23/'Tab 1.2_2013_GDP_P_Constant'!J$30*100","v":0.22390853539943709},{"$f":"'Tab 1.2_2013_GDP_P_Constant'!K23/'Tab 1.2_2013_GDP_P_Constant'!K$30*100","v":0.21868250528136149},{"$f":"'Tab 1.2_2013_GDP_P_Constant'!L23/'Tab 1.2_2013_GDP_P_Constant'!L$30*100","v":0.22773849364345228},{"$f":"'Tab 1.2_2013_GDP_P_Constant'!M23/'Tab 1.2_2013_GDP_P_Constant'!M$30*100","v":0.23805720063188729},{"$f":"'Tab 1.2_2013_GDP_P_Constant'!N23/'Tab 1.2_2013_GDP_P_Constant'!N$30*100","v":0.22528854116129504},{"$f":"'Tab 1.2_2013_GDP_P_Constant'!O23/'Tab 1.2_2013_GDP_P_Constant'!O$30*100","v":0.24514148668536659},{"$f":"'Tab 1.2_2013_GDP_P_Constant'!P23/'Tab 1.2_2013_GDP_P_Constant'!P$30*100","v":0.19773466711462814},{"$f":"'Tab 1.2_2013_GDP_P_Constant'!Q23/'Tab 1.2_2013_GDP_P_Constant'!Q$30*100","v":0.17108681265510922}]
["N ","Administrative and support service activities",{"$f":"'Tab 1.2_2013_GDP_P_Constant'!C24/'Tab 1.2_2013_GDP_P_Constant'!C$30*100","v":1.1510071564781037},{"$f":"'Tab 1.2_2013_GDP_P_Constant'!D24/'Tab 1.2_2013_GDP_P_Constant'!D$30*100","v":1.2121926702242374},{"$f":"'Tab 1.2_2013_GDP_P_Constant'!E24/'Tab 1.2_2013_GDP_P_Constant'!E$30*100","v":1.2537934599860694},{"$f":"'Tab 1.2_2013_GDP_P_Constant'!F24/'Tab 1.2_2013_GDP_P_Constant'!F$30*100","v":1.250613370673104},{"$f":"'Tab 1.2_2013_GDP_P_Constant'!G24/'Tab 1.2_2013_GDP_P_Constant'!G$30*100","v":1.2088592223044941},{"$f":"'Tab 1.2_2013_GDP_P_Constant'!H24/'Tab 1.2_2013_GDP_P_Constant'!H$30*100","v":1.1642371650121965},{"$f":"'Tab 1.2_2013_GDP_P_Constant'!I24/'Tab 1.2_2013_GDP_P_Constant'!I$30*100","v":1.1298761478387926},{"$f":"'Tab 1.2_2013_GDP_P_Constant'!J24/'Tab 1.2_2013_GDP_P_Constant'!J$30*100","v":1.2671434128121128},{"$f":"'Tab 1.2_2013_GDP_P_Constant'!K24/'Tab 1.2_2013_GDP_P_Constant'!K$30*100","v":1.2375682578165081},{"$f":"'Tab 1.2_2013_GDP_P_Constant'!L24/'Tab 1.2_2013_GDP_P_Constant'!L$30*100","v":1.2888179164284748},{"$f":"'Tab 1.2_2013_GDP_P_Constant'!M24/'Tab 1.2_2013_GDP_P_Constant'!M$30*100","v":1.4401036266513001},{"$f":"'Tab 1.2_2013_GDP_P_Constant'!N24/'Tab 1.2_2013_GDP_P_Constant'!N$30*100","v":1.4264980975781159},{"$f":"'Tab 1.2_2013_GDP_P_Constant'!O24/'Tab 1.2_2013_GDP_P_Constant'!O$30*100","v":1.3711271824864424},{"$f":"'Tab 1.2_2013_GDP_P_Constant'!P24/'Tab 1.2_2013_GDP_P_Constant'!P$30*100","v":1.3018454245049427},{"$f":"'Tab 1.2_2013_GDP_P_Constant'!Q24/'Tab 1.2_2013_GDP_P_Constant'!Q$30*100","v":1.1299696088579863}]
["O","Public administration and defence; compulsory social security",{"$f":"'Tab 1.2_2013_GDP_P_Constant'!C25/'Tab 1.2_2013_GDP_P_Constant'!C$30*100","v":3.5773573827607326},{"$f":"'Tab 1.2_2013_GDP_P_Constant'!D25/'Tab 1.2_2013_GDP_P_Constant'!D$30*100","v":3.6932041126329107},{"$f":"'Tab 1.2_2013_GDP_P_Constant'!E25/'Tab 1.2_2013_GDP_P_Constant'!E$30*100","v":3.8346020908026128},{"$f":"'Tab 1.2_2013_GDP_P_Constant'!F25/'Tab 1.2_2013_GDP_P_Constant'!F$30*100","v":2.6897069332939849},{"$f":"'Tab 1.2_2013_GDP_P_Constant'!G25/'Tab 1.2_2013_GDP_P_Constant'!G$30*100","v":2.4947262579545062},{"$f":"'Tab 1.2_2013_GDP_P_Constant'!H25/'Tab 1.2_2013_GDP_P_Constant'!H$30*100","v":3.0522282478011311},{"$f":"'Tab 1.2_2013_GDP_P_Constant'!I25/'Tab 1.2_2013_GDP_P_Constant'!I$30*100","v":3.280945128496175},{"$f":"'Tab 1.2_2013_GDP_P_Constant'!J25/'Tab 1.2_2013_GDP_P_Constant'!J$30*100","v":3.6672801711487608},{"$f":"'Tab 1.2_2013_GDP_P_Constant'!K25/'Tab 1.2_2013_GDP_P_Constant'!K$30*100","v":3.5962081766307037},{"$f":"'Tab 1.2_2013_GDP_P_Constant'!L25/'Tab 1.2_2013_GDP_P_Constant'!L$30*100","v":3.7454100543670004},{"$f":"'Tab 1.2_2013_GDP_P_Constant'!M25/'Tab 1.2_2013_GDP_P_Constant'!M$30*100","v":3.3080848186875378},{"$f":"'Tab 1.2_2013_GDP_P_Constant'!N25/'Tab 1.2_2013_GDP_P_Constant'!N$30*100","v":3.2382572055422547},{"$f":"'Tab 1.2_2013_GDP_P_Constant'!O25/'Tab 1.2_2013_GDP_P_Constant'!O$30*100","v":2.8227033530623418},{"$f":"'Tab 1.2_2013_GDP_P_Constant'!P25/'Tab 1.2_2013_GDP_P_Constant'!P$30*100","v":2.5591446934738031},{"$f":"'Tab 1.2_2013_GDP_P_Constant'!Q25/'Tab 1.2_2013_GDP_P_Constant'!Q$30*100","v":2.972436688302929}]
["P ","Education",{"$f":"'Tab 1.2_2013_GDP_P_Constant'!C26/'Tab 1.2_2013_GDP_P_Constant'!C$30*100","v":1.5010957250232426},{"$f":"'Tab 1.2_2013_GDP_P_Constant'!D26/'Tab 1.2_2013_GDP_P_Constant'!D$30*100","v":1.5969465792436701},{"$f":"'Tab 1.2_2013_GDP_P_Constant'!E26/'Tab 1.2_2013_GDP_P_Constant'!E$30*100","v":1.7742938090887166},{"$f":"'Tab 1.2_2013_GDP_P_Constant'!F26/'Tab 1.2_2013_GDP_P_Constant'!F$30*100","v":1.8238800974791216},{"$f":"'Tab 1.2_2013_GDP_P_Constant'!G26/'Tab 1.2_2013_GDP_P_Constant'!G$30*100","v":1.8910128477307653},{"$f":"'Tab 1.2_2013_GDP_P_Constant'!H26/'Tab 1.2_2013_GDP_P_Constant'!H$30*100","v":1.8679303781124177},{"$f":"'Tab 1.2_2013_GDP_P_Constant'!I26/'Tab 1.2_2013_GDP_P_Constant'!I$30*100","v":1.9496769661155124},{"$f":"'Tab 1.2_2013_GDP_P_Constant'!J26/'Tab 1.2_2013_GDP_P_Constant'!J$30*100","v":2.2274403176005322},{"$f":"'Tab 1.2_2013_GDP_P_Constant'!K26/'Tab 1.2_2013_GDP_P_Constant'!K$30*100","v":2.265760885977441},{"$f":"'Tab 1.2_2013_GDP_P_Constant'!L26/'Tab 1.2_2013_GDP_P_Constant'!L$30*100","v":2.5068826370571413},{"$f":"'Tab 1.2_2013_GDP_P_Constant'!M26/'Tab 1.2_2013_GDP_P_Constant'!M$30*100","v":2.4446703260216895},{"$f":"'Tab 1.2_2013_GDP_P_Constant'!N26/'Tab 1.2_2013_GDP_P_Constant'!N$30*100","v":2.4704845698782907},{"$f":"'Tab 1.2_2013_GDP_P_Constant'!O26/'Tab 1.2_2013_GDP_P_Constant'!O$30*100","v":2.787359933983935},{"$f":"'Tab 1.2_2013_GDP_P_Constant'!P26/'Tab 1.2_2013_GDP_P_Constant'!P$30*100","v":2.9411580701290054},{"$f":"'Tab 1.2_2013_GDP_P_Constant'!Q26/'Tab 1.2_2013_GDP_P_Constant'!Q$30*100","v":2.7169104970390467}]
["Q ","Human health and social work activities",{"$f":"'Tab 1.2_2013_GDP_P_Constant'!C27/'Tab 1.2_2013_GDP_P_Constant'!C$30*100","v":0.64395833274297543},{"$f":"'Tab 1.2_2013_GDP_P_Constant'!D27/'Tab 1.2_2013_GDP_P_Constant'!D$30*100","v":0.66976386155606804},{"$f":"'Tab 1.2_2013_GDP_P_Constant'!E27/'Tab 1.2_2013_GDP_P_Constant'!E$30*100","v":0.7996230422427586},{"$f":"'Tab 1.2_2013_GDP_P_Constant'!F27/'Tab 1.2_2013_GDP_P_Constant'!F$30*100","v":0.77260453655927042},{"$f":"'Tab 1.2_2013_GDP_P_Constant'!G27/'Tab 1.2_2013_GDP_P_Constant'!G$30*100","v":0.73035699168804491},{"$f":"'Tab 1.2_2013_GDP_P_Constant'!H27/'Tab 1.2_2013_GDP_P_Constant'!H$30*100","v":0.83003209109413756},{"$f":"'Tab 1.2_2013_GDP_P_Constant'!I27/'Tab 1.2_2013_GDP_P_Constant'!I$30*100","v":0.87498130914964167},{"$f":"'Tab 1.2_2013_GDP_P_Constant'!J27/'Tab 1.2_2013_GDP_P_Constant'!J$30*100","v":0.99081678350311653},{"$f":"'Tab 1.2_2013_GDP_P_Constant'!K27/'Tab 1.2_2013_GDP_P_Constant'!K$30*100","v":0.94265103342424039},{"$f":"'Tab 1.2_2013_GDP_P_Constant'!L27/'Tab 1.2_2013_GDP_P_Constant'!L$30*100","v":1.0009499633043728},{"$f":"'Tab 1.2_2013_GDP_P_Constant'!M27/'Tab 1.2_2013_GDP_P_Constant'!M$30*100","v":0.79380161002031591},{"$f":"'Tab 1.2_2013_GDP_P_Constant'!N27/'Tab 1.2_2013_GDP_P_Constant'!N$30*100","v":0.69536485402903347},{"$f":"'Tab 1.2_2013_GDP_P_Constant'!O27/'Tab 1.2_2013_GDP_P_Constant'!O$30*100","v":0.76761107968866149},{"$f":"'Tab 1.2_2013_GDP_P_Constant'!P27/'Tab 1.2_2013_GDP_P_Constant'!P$30*100","v":0.66894508138557562},{"$f":"'Tab 1.2_2013_GDP_P_Constant'!Q27/'Tab 1.2_2013_GDP_P_Constant'!Q$30*100","v":0.7076269628558548}]
["R","Arts, entertainment and recreation",{"$f":"'Tab 1.2_2013_GDP_P_Constant'!C28/'Tab 1.2_2013_GDP_P_Constant'!C$30*100","v":0.41266276209229119},{"$f":"'Tab 1.2_2013_GDP_P_Constant'!D28/'Tab 1.2_2013_GDP_P_Constant'!D$30*100","v":0.43459918790894103},{"$f":"'Tab 1.2_2013_GDP_P_Constant'!E28/'Tab 1.2_2013_GDP_P_Constant'!E$30*100","v":0.44951403592853706},{"$f":"'Tab 1.2_2013_GDP_P_Constant'!F28/'Tab 1.2_2013_GDP_P_Constant'!F$30*100","v":0.4483739001507509},{"$f":"'Tab 1.2_2013_GDP_P_Constant'!G28/'Tab 1.2_2013_GDP_P_Constant'!G$30*100","v":0.43340406951362098},{"$f":"'Tab 1.2_2013_GDP_P_Constant'!H28/'Tab 1.2_2013_GDP_P_Constant'!H$30*100","v":0.41740602700898233},{"$f":"'Tab 1.2_2013_GDP_P_Constant'!I28/'Tab 1.2_2013_GDP_P_Constant'!I$30*100","v":0.40508680538184288},{"$f":"'Tab 1.2_2013_GDP_P_Constant'!J28/'Tab 1.2_2013_GDP_P_Constant'!J$30*100","v":0.45430030365588447},{"$f":"'Tab 1.2_2013_GDP_P_Constant'!K28/'Tab 1.2_2013_GDP_P_Constant'!K$30*100","v":0.44369692462291827},{"$f":"'Tab 1.2_2013_GDP_P_Constant'!L28/'Tab 1.2_2013_GDP_P_Constant'!L$30*100","v":0.46207111592144423},{"$f":"'Tab 1.2_2013_GDP_P_Constant'!M28/'Tab 1.2_2013_GDP_P_Constant'!M$30*100","v":0.61194192956613491},{"$f":"'Tab 1.2_2013_GDP_P_Constant'!N28/'Tab 1.2_2013_GDP_P_Constant'!N$30*100","v":0.72708230347171199},{"$f":"'Tab 1.2_2013_GDP_P_Constant'!O28/'Tab 1.2_2013_GDP_P_Constant'!O$30*100","v":0.74220937168358481},{"$f":"'Tab 1.2_2013_GDP_P_Constant'!P28/'Tab 1.2_2013_GDP_P_Constant'!P$30*100","v":0.72453241685986824},{"$f":"'Tab 1.2_2013_GDP_P_Constant'!Q28/'Tab 1.2_2013_GDP_P_Constant'!Q$30*100","v":0.66889987252685212}]
["S ","Other service activities",{"$f":"'Tab 1.2_2013_GDP_P_Constant'!C29/'Tab 1.2_2013_GDP_P_Constant'!C$30*100","v":1.3785264423423245},{"$f":"'Tab 1.2_2013_GDP_P_Constant'!D29/'Tab 1.2_2013_GDP_P_Constant'!D$30*100","v":1.4518064807092701},{"$f":"'Tab 1.2_2013_GDP_P_Constant'!E29/'Tab 1.2_2013_GDP_P_Constant'!E$30*100","v":1.5016304877853719},{"$f":"'Tab 1.2_2013_GDP_P_Constant'!F29/'Tab 1.2_2013_GDP_P_Constant'!F$30*100","v":1.4978217910433402},{"$f":"'Tab 1.2_2013_GDP_P_Constant'!G29/'Tab 1.2_2013_GDP_P_Constant'!G$30*100","v":1.4478141110044649},{"$f":"'Tab 1.2_2013_GDP_P_Constant'!H29/'Tab 1.2_2013_GDP_P_Constant'!H$30*100","v":1.3943716232293535},{"$f":"'Tab 1.2_2013_GDP_P_Constant'!I29/'Tab 1.2_2013_GDP_P_Constant'!I$30*100","v":1.3532184727100709},{"$f":"'Tab 1.2_2013_GDP_P_Constant'!J29/'Tab 1.2_2013_GDP_P_Constant'!J$30*100","v":1.5176193223214101},{"$f":"'Tab 1.2_2013_GDP_P_Constant'!K29/'Tab 1.2_2013_GDP_P_Constant'!K$30*100","v":1.4821980541143869},{"$f":"'Tab 1.2_2013_GDP_P_Constant'!L29/'Tab 1.2_2013_GDP_P_Constant'!L$30*100","v":1.5435782194417575},{"$f":"'Tab 1.2_2013_GDP_P_Constant'!M29/'Tab 1.2_2013_GDP_P_Constant'!M$30*100","v":1.9934285755085628},{"$f":"'Tab 1.2_2013_GDP_P_Constant'!N29/'Tab 1.2_2013_GDP_P_Constant'!N$30*100","v":1.8131934832664429},{"$f":"'Tab 1.2_2013_GDP_P_Constant'!O29/'Tab 1.2_2013_GDP_P_Constant'!O$30*100","v":1.8054917629864478},{"$f":"'Tab 1.2_2013_GDP_P_Constant'!P29/'Tab 1.2_2013_GDP_P_Constant'!P$30*100","v":1.4978093169356435},{"$f":"'Tab 1.2_2013_GDP_P_Constant'!Q29/'Tab 1.2_2013_GDP_P_Constant'!Q$30*100","v":1.3762241712400221}]
[null,"GDP basic price (Gross Value Added)",{"$f":"'Tab 1.2_2013_GDP_P_Constant'!C30/'Tab 1.2_2013_GDP_P_Constant'!C$30*100","v":100},{"$f":"'Tab 1.2_2013_GDP_P_Constant'!D30/'Tab 1.2_2013_GDP_P_Constant'!D$30*100","v":100},{"$f":"'Tab 1.2_2013_GDP_P_Constant'!E30/'Tab 1.2_2013_GDP_P_Constant'!E$30*100","v":100},{"$f":"'Tab 1.2_2013_GDP_P_Constant'!F30/'Tab 1.2_2013_GDP_P_Constant'!F$30*100","v":100},{"$f":"'Tab 1.2_2013_GDP_P_Constant'!G30/'Tab 1.2_2013_GDP_P_Constant'!G$30*100","v":100},{"$f":"'Tab 1.2_2013_GDP_P_Constant'!H30/'Tab 1.2_2013_GDP_P_Constant'!H$30*100","v":100},{"$f":"'Tab 1.2_2013_GDP_P_Constant'!I30/'Tab 1.2_2013_GDP_P_Constant'!I$30*100","v":100},{"$f":"'Tab 1.2_2013_GDP_P_Constant'!J30/'Tab 1.2_2013_GDP_P_Constant'!J$30*100","v":100},{"$f":"'Tab 1.2_2013_GDP_P_Constant'!K30/'Tab 1.2_2013_GDP_P_Constant'!K$30*100","v":100},{"$f":"'Tab 1.2_2013_GDP_P_Constant'!L30/'Tab 1.2_2013_GDP_P_Constant'!L$30*100","v":100},{"$f":"'Tab 1.2_2013_GDP_P_Constant'!M30/'Tab 1.2_2013_GDP_P_Constant'!M$30*100","v":100},{"$f":"'Tab 1.2_2013_GDP_P_Constant'!N30/'Tab 1.2_2013_GDP_P_Constant'!N$30*100","v":100},{"$f":"'Tab 1.2_2013_GDP_P_Constant'!O30/'Tab 1.2_2013_GDP_P_Constant'!O$30*100","v":100},{"$f":"'Tab 1.2_2013_GDP_P_Constant'!P30/'Tab 1.2_2013_GDP_P_Constant'!P$30*100","v":100},{"$f":"'Tab 1.2_2013_GDP_P_Constant'!Q30/'Tab 1.2_2013_GDP_P_Constant'!Q$30*100","v":100}]
[null,"Taxes less subsidies on products (+)",{"$nulls":9},6.2518476657940445,7.6885802210258927,8.8149495526995594,8.8184806792204924,8.0797492274735276]
[]
[]
[null,"2018* Provisional data"]

{"sheet":"Tab 1.4_2013_GDP Growth","index":5,"n_rows":34,"n_cols":17,"rows_kept":34,"cut":false,"hidden":false,"merged":[[0,0,0,13]]}
["GDP Growth, 2013 base year"]
[]
["ISIC Rev.4","Industry",2004,2005,2006,2007,2008,2009,2010,2011,2012,2013,2014,2015,2016,2017,"2018 *"]
[null,"Gross Domestic Product (GDP) market price",null,{"$f":"'Tab 1.2_2013_GDP_P_Constant'!D4/'Tab 1.2_2013_GDP_P_Constant'!C4-1","v":-2.3517294918609322E-2},{"$f":"'Tab 1.2_2013_GDP_P_Constant'!E4/'Tab 1.2_2013_GDP_P_Constant'!D4-1","v":-5.5558087998238692E-3},{"$f":"'Tab 1.2_2013_GDP_P_Constant'!F4/'Tab 1.2_2013_GDP_P_Constant'!E4-1","v":3.0432494148160183E-2},{"$f":"'Tab 1.2_2013_GDP_P_Constant'!G4/'Tab 1.2_2013_GDP_P_Constant'!F4-1","v":6.2559056125859547E-2},{"$f":"'Tab 1.2_2013_GDP_P_Constant'!H4/'Tab 1.2_2013_GDP_P_Constant'!G4-1","v":6.6657242369465797E-2},{"$f":"'Tab 1.2_2013_GDP_P_Constant'!I4/'Tab 1.2_2013_GDP_P_Constant'!H4-1","v":5.9083358674071107E-2},{"$f":"'Tab 1.2_2013_GDP_P_Constant'!J4/'Tab 1.2_2013_GDP_P_Constant'!I4-1","v":-8.1304442813969868E-2},{"$f":"'Tab 1.2_2013_GDP_P_Constant'!K4/'Tab 1.2_2013_GDP_P_Constant'!J4-1","v":5.2415693041871103E-2},{"$f":"'Tab 1.2_2013_GDP_P_Constant'!L4/'Tab 1.2_2013_GDP_P_Constant'!K4-1","v":2.8727687174826988E-2},{"$f":"'Tab 1.2_2013_GDP_P_Constant'!M4/'Tab 1.2_2013_GDP_P_Constant'!L4-1","v":-1.4073825201772583E-2},{"$f":"'Tab 1.2_2013_GDP_P_Constant'!N4/'Tab 1.2_2013_GDP_P_Constant'!M4-1","v":4.058073854105082E-2},{"$f":"'Tab 1.2_2013_GDP_P_Constant'!O4/'Tab 1.2_2013_GDP_P_Constant'!N4-1","v":1.9433597184662199E-2},{"$f":"'Tab 1.2_2013_GDP_P_Constant'!P4/'Tab 1.2_2013_GDP_P_Constant'!O4-1","v":4.822611213063932E-2},{"$f":"'Tab 1.2_2013_GDP_P_Constant'!Q4/'Tab 1.2_2013_GDP_P_Constant'!P4-1","v":6.5470265048281906E-2}]
["A","Agriculture, forestry and fishing",null,{"$f":"'Tab 1.2_2013_GDP_P_Constant'!D5/'Tab 1.2_2013_GDP_P_Constant'!C5-1","v":-2.8812189208993977E-2},{"$f":"'Tab 1.2_2013_GDP_P_Constant'!E5/'Tab 1.2_2013_GDP_P_Constant'!D5-1","v":-0.16682202807460755},{"$f":"'Tab 1.2_2013_GDP_P_Constant'!F5/'Tab 1.2_2013_GDP_P_Constant'!E5-1","v":-4.198552416875323E-2},{"$f":"'Tab 1.2_2013_GDP_P_Constant'!G5/'Tab 1.2_2013_GDP_P_Constant'!F5-1","v":0.30973196795746949},{"$f":"'Tab 1.2_2013_GDP_P_Constant'!H5/'Tab 1.2_2013_GDP_P_Constant'!G5-1","v":0.14918590733958847},{"$f":"'Tab 1.2_2013_GDP_P_Constant'!I5/'Tab 1.2_2013_GDP_P_Constant'!H5-1","v":0.11807562140302763},{"$f":"'Tab 1.2_2013_GDP_P_Constant'!J5/'Tab 1.2_2013_GDP_P_Constant'!I5-1","v":-0.2773785316549312},{"$f":"'Tab 1.2_2013_GDP_P_Constant'!K5/'Tab 1.2_2013_GDP_P_Constant'!J5-1","v":6.5068521208664354E-2},{"$f":"'Tab 1.2_2013_GDP_P_Constant'!L5/'Tab 1.2_2013_GDP_P_Constant'!K5-1","v":-2.6062823269548341E-2},{"$f":"'Tab 1.2_2013_GDP_P_Constant'!M5/'Tab 1.2_2013_GDP_P_Constant'!L5-1","v":-0.12384620537758018},{"$f":"'Tab 1.2_2013_GDP_P_Constant'!N5/'Tab 1.2_2013_GDP_P_Constant'!M5-1","v":3.9501531274388491E-2},{"$f":"'Tab 1.2_2013_GDP_P_Constant'!O5/'Tab 1.2_2013_GDP_P_Constant'!N5-1","v":-2.3456351820737575E-3},{"$f":"'Tab 1.2_2013_GDP_P_Constant'!P5/'Tab 1.2_2013_GDP_P_Constant'!O5-1","v":-4.3791555053518394E-2},{"$f":"'Tab 1.2_2013_GDP_P_Constant'!Q5/'Tab 1.2_2013_GDP_P_Constant'!P5-1","v":9.0218491993518946E-3}]
[null,"Crop",null,{"$f":"'Tab 1.2_2013_GDP_P_Constant'!D6/'Tab 1.2_2013_GDP_P_Constant'!C6-1","v":-4.0855137580624756E-2},{"$f":"'Tab 1.2_2013_GDP_P_Constant'!E6/'Tab 1.2_2013_GDP_P_Constant'!D6-1","v":-0.26304490344778231},{"$f":"'Tab 1.2_2013_GDP_P_Constant'!F6/'Tab 1.2_2013_GDP_P_Constant'!E6-1","v":-0.15182418728950309},{"$f":"'Tab 1.2_2013_GDP_P_Constant'!G6/'Tab 1.2_2013_GDP_P_Constant'!F6-1","v":0.55176926920333047},{"$f":"'Tab 1.2_2013_GDP_P_Constant'!H6/'Tab 1.2_2013_GDP_P_Constant'!G6-1","v":0.24398486811354303},{"$f":"'Tab 1.2_2013_GDP_P_Constant'!I6/'Tab 1.2_2013_GDP_P_Constant'!H6-1","v":0.15667899124791895},{"$f":"'Tab 1.2_2013_GDP_P_Constant'!J6/'Tab 1.2_2013_GDP_P_Constant'!I6-1","v":-0.40447454290439422},{"$f":"'Tab 1.2_2013_GDP_P_Constant'!K6/'Tab 1.2_2013_GDP_P_Constant'!J6-1","v":8.4697766847312783E-2},{"$f":"'Tab 1.2_2013_GDP_P_Constant'!L6/'Tab 1.2_2013_GDP_P_Constant'!K6-1","v":-6.8000000000000171E-2},{"$f":"'Tab 1.2_2013_GDP_P_Constant'!M6/'Tab 1.2_2013_GDP_P_Constant'!L6-1","v":-0.14012894096431527},{"$f":"'Tab 1.2_2013_GDP_P_Constant'!N6/'Tab 1.2_2013_GDP_P_Constant'!M6-1","v":5.8045452064069414E-2},{"$f":"'Tab 1.2_2013_GDP_P_Constant'!O6/'Tab 1.2_2013_GDP_P_Constant'!N6-1","v":-2.6411742306320263E-2},{"$f":"'Tab 1.2_2013_GDP_P_Constant'!P6/'Tab 1.2_2013_GDP_P_Constant'!O6-1","v":-0.18494888293387313},{"$f":"'Tab 1.2_2013_GDP_P_Constant'!Q6/'Tab 1.2_2013_GDP_P_Constant'!P6-1","v":6.587801059943077E-2}]
[null,"Livestock",null,{"$f":"'Tab 1.2_2013_GDP_P_Constant'!D7/'Tab 1.2_2013_GDP_P_Constant'!C7-1","v":9.2203901700040891E-3},{"$f":"'Tab 1.2_2013_GDP_P_Constant'!E7/'Tab 1.2_2013_GDP_P_Constant'!D7-1","v":1.4193972533171895E-2},{"$f":"'Tab 1.2_2013_GDP_P_Constant'!F7/'Tab 1.2_2013_GDP_P_Constant'!E7-1","v":0.12172370583884318},{"$f":"'Tab 1.2_2013_GDP_P_Constant'!G7/'Tab 1.2_2013_GDP_P_Constant'!F7-1","v":2.9095734192406519E-2},{"$f":"'Tab 1.2_2013_GDP_P_Constant'!H7/'Tab 1.2_2013_GDP_P_Constant'!G7-1","v":-4.6461284997646901E-2},{"$f":"'Tab 1.2_2013_GDP_P_Constant'!I7/'Tab 1.2_2013_GDP_P_Constant'!H7-1","v":5.0054443213333411E-2},{"$f":"'Tab 1.2_2013_GDP_P_Constant'!J7/'Tab 1.2_2013_GDP_P_Constant'!I7-1","v":3.3721314156021531E-2},{"$f":"'Tab 1.2_2013_GDP_P_Constant'!K7/'Tab 1.2_2013_GDP_P_Constant'!J7-1","v":4.1899244745662756E-2},{"$f":"'Tab 1.2_2013_GDP_P_Constant'!L7/'Tab 1.2_2013_GDP_P_Constant'!K7-1","v":3.2782958749142388E-2},{"$f":"'Tab 1.2_2013_GDP_P_Constant'!M7/'Tab 1.2_2013_GDP_P_Constant'!L7-1","v":-2.7681203689225775E-2},{"$f":"'Tab 1.2_2013_GDP_P_Constant'!N7/'Tab 1.2_2013_GDP_P_Constant'!M7-1","v":-0.16276848219806683},{"$f":"'Tab 1.2_2013_GDP_P_Constant'!O7/'Tab 1.2_2013_GDP_P_Constant'!N7-1","v":-3.0144049896545178E-2},{"$f":"'Tab 1.2_2013_GDP_P_Constant'!P7/'Tab 1.2_2013_GDP_P_Constant'!O7-1","v":-0.10893215603829964},{"$f":"'Tab 1.2_2013_GDP_P_Constant'!Q7/'Tab 1.2_2013_GDP_P_Constant'!P7-1","v":-5.6220802148909454E-2}]
[null,"Forestry and logging",null,{"$f":"'Tab 1.2_2013_GDP_P_Constant'!D8/'Tab 1.2_2013_GDP_P_Constant'!C8-1","v":2.9793581026481331E-2},{"$f":"'Tab 1.2_2013_GDP_P_Constant'!E8/'Tab 1.2_2013_GDP_P_Constant'!D8-1","v":3.0084745762711806E-2},{"$f":"'Tab 1.2_2013_GDP_P_Constant'!F8/'Tab 1.2_2013_GDP_P_Constant'!E8-1","v":-4.0000000000000147E-2},{"$f":"'Tab 1.2_2013_GDP_P_Constant'!G8/'Tab 1.2_2013_GDP_P_Constant'!F8-1","v":9.9999999999997868E-3},{"$f":"'Tab 1.2_2013_GDP_P_Constant'!H8/'Tab 1.2_2013_GDP_P_Constant'!G8-1","v":1.2352677445524041E-3},{"$f":"'Tab 1.2_2013_GDP_P_Constant'!I8/'Tab 1.2_2013_GDP_P_Constant'!H8-1","v":2.9799616914689908E-2},{"$f":"'Tab 1.2_2013_GDP_P_Constant'!J8/'Tab 1.2_2013_GDP_P_Constant'!I8-1","v":3.4699999999999953E-2},{"$f":"'Tab 1.2_2013_GDP_P_Constant'!K8/'Tab 1.2_2013_GDP_P_Constant'!J8-1","v":3.0499999999999972E-2},{"$f":"'Tab 1.2_2013_GDP_P_Constant'!L8/'Tab 1.2_2013_GDP_P_Constant'!K8-1","v":3.3800000000000274E-2},{"$f":"'Tab 1.2_2013_GDP_P_Constant'!M8/'Tab 1.2_2013_GDP_P_Constant'!L8-1","v":-4.1909731634432901E-2},{"$f":"'Tab 1.2_2013_GDP_P_Constant'!N8/'Tab 1.2_2013_GDP_P_Constant'!M8-1","v":1.0820833364379334E-2},{"$f":"'Tab 1.2_2013_GDP_P_Constant'!O8/'Tab 1.2_2013_GDP_P_Constant'!N8-1","v":-0.16042937709467764},{"$f":"'Tab 1.2_2013_GDP_P_Constant'!P8/'Tab 1.2_2013_GDP_P_Constant'!O8-1","v":-0.11640394151276823},{"$f":"'Tab 1.2_2013_GDP_P_Constant'!Q8/'Tab 1.2_2013_GDP_P_Constant'!P8-1","v":-0.18206951429015006}]
[null,"Fishing and aquaculture",null,{"$f":"'Tab 1.2_2013_GDP_P_Constant'!D9/'Tab 1.2_2013_GDP_P_Constant'!C9-1","v":-2.247161201315917E-2},{"$f":"'Tab 1.2_2013_GDP_P_Constant'!E9/'Tab 1.2_2013_GDP_P_Constant'!D9-1","v":7.8246709187135277E-2},{"$f":"'Tab 1.2_2013_GDP_P_Constant'!F9/'Tab 1.2_2013_GDP_P_Constant'!E9-1","v":0.18035138944824847},{"$f":"'Tab 1.2_2013_GDP_P_Constant'!G9/'Tab 1.2_2013_GDP_P_Constant'!F9-1","v":3.4994562088157988E-2},{"$f":"'Tab 1.2_2013_GDP_P_Constant'!H9/'Tab 1.2_2013_GDP_P_Constant'!G9-1","v":1.0837989862776842E-2},{"$f":"'Tab 1.2_2013_GDP_P_Constant'!I9/'Tab 1.2_2013_GDP_P_Constant'!H9-1","v":1.7345878703532991E-2},{"$f":"'Tab 1.2_2013_GDP_P_Constant'!J9/'Tab 1.2_2013_GDP_P_Constant'!I9-1","v":3.9229829095790203E-2},{"$f":"'Tab 1.2_2013_GDP_P_Constant'!K9/'Tab 1.2_2013_GDP_P_Constant'!J9-1","v":3.416459710043207E-2},{"$f":"'Tab 1.2_2013_GDP_P_Constant'!L9/'Tab 1.2_2013_GDP_P_Constant'!K9-1","v":4.0000000000000036E-2},{"$f":"'Tab 1.2_2013_GDP_P_Constant'!M9/'Tab 1.2_2013_GDP_P_Constant'!L9-1","v":-0.18904177826048263},{"$f":"'Tab 1.2_2013_GDP_P_Constant'!N9/'Tab 1.2_2013_GDP_P_Constant'!M9-1","v":0.22800741828352611},{"$f":"'Tab 1.2_2013_GDP_P_Constant'!O9/'Tab 1.2_2013_GDP_P_Constant'!N9-1","v":0.11961767214462471},{"$f":"'Tab 1.2_2013_GDP_P_Constant'!P9/'Tab 1.2_2013_GDP_P_Constant'!O9-1","v":0.34435224250849772},{"$f":"'Tab 1.2_2013_GDP_P_Constant'!Q9/'Tab 1.2_2013_GDP_P_Constant'!P9-1","v":-2.0895817027429708E-2}]
[null,"Industry",null,{"$f":"'Tab 1.2_2013_GDP_P_Constant'!D10/'Tab 1.2_2013_GDP_P_Constant'!C10-1","v":-1.8214455778276739E-2},{"$f":"'Tab 1.2_2013_GDP_P_Constant'!E10/'Tab 1.2_2013_GDP_P_Constant'!D10-1","v":3.9351377545580268E-2},{"$f":"'Tab 1.2_2013_GDP_P_Constant'!F10/'Tab 1.2_2013_GDP_P_Constant'!E10-1","v":2.5895729174590709E-2},{"$f":"'Tab 1.2_2013_GDP_P_Constant'!G10/'Tab 1.2_2013_GDP_P_Constant'!F10-1","v":-1.0182019248907825E-2},{"$f":"'Tab 1.2_2013_GDP_P_Constant'!H10/'Tab 1.2_2013_GDP_P_Constant'!G10-1","v":-7.3311942780307504E-3},{"$f":"'Tab 1.2_2013_GDP_P_Constant'!I10/'Tab 1.2_2013_GDP_P_Constant'!H10-1","v":2.899175953077715E-2},{"$f":"'Tab 1.2_2013_GDP_P_Constant'!J10/'Tab 1.2_2013_GDP_P_Constant'!I10-1","v":4.4834557601880265E-2},{"$f":"'Tab 1.2_2013_GDP_P_Constant'!K10/'Tab 1.2_2013_GDP_P_Constant'!J10-1","v":5.1642723511058142E-2},{"$f":"'Tab 1.2_2013_GDP_P_Constant'!L10/'Tab 1.2_2013_GDP_P_Constant'!K10-1","v":3.6291399690058679E-2},{"$f":"'Tab 1.2_2013_GDP_P_Constant'!M10/'Tab 1.2_2013_GDP_P_Constant'!L10-1","v":9.5731011706923441E-2},{"$f":"'Tab 1.2_2013_GDP_P_Constant'!N10/'Tab 1.2_2013_GDP_P_Constant'!M10-1","v":0.22612265387065977},{"$f":"'Tab 1.2_2013_GDP_P_Constant'!O10/'Tab 1.2_2013_GDP_P_Constant'!N10-1","v":0.19220012303653955},{"$f":"'Tab 1.2_2013_GDP_P_Constant'!P10/'Tab 1.2_2013_GDP_P_Constant'!O10-1","v":-3.5477615696488995E-2},{"$f":"'Tab 1.2_2013_GDP_P_Constant'!Q10/'Tab 1.2_2013_GDP_P_Constant'!P10-1","v":2.5169384928184657E-2}]
["B","Mining and quarrying",null,{"$f":"'Tab 1.2_2013_GDP_P_Constant'!D11/'Tab 1.2_2013_GDP_P_Constant'!C11-1","v":0.4793176838463995},{"$f":"'Tab 1.2_2013_GDP_P_Constant'!E11/'Tab 1.2_2013_GDP_P_Constant'!D11-1","v":1.2430591083215647E-2},{"$f":"'Tab 1.2_2013_GDP_P_Constant'!F11/'Tab 1.2_2013_GDP_P_Constant'!E11-1","v":-0.14104504468973555},{"$f":"'Tab 1.2_2013_GDP_P_Constant'!G11/'Tab 1.2_2013_GDP_P_Constant'!F11-1","v":0.29803194572784708},{"$f":"'Tab 1.2_2013_GDP_P_Constant'!H11/'Tab 1.2_2013_GDP_P_Constant'!G11-1","v":0.12091130034382713},{"$f":"'Tab 1.2_2013_GDP_P_Constant'!I11/'Tab 1.2_2013_GDP_P_Constant'!H11-1","v":0.14186992090035733},{"$f":"'Tab 1.2_2013_GDP_P_Constant'!J11/'Tab 1.2_2013_GDP_P_Constant'!I11-1","v":7.6300000000000257E-2},{"$f":"'Tab 1.2_2013_GDP_P_Constant'!K11/'Tab 1.2_2013_GDP_P_Constant'!J11-1","v":8.9629999999999876E-2},{"$f":"'Tab 1.2_2013_GDP_P_Constant'!L11/'Tab 1.2_2013_GDP_P_Constant'!K11-1","v":7.4000000000000288E-2},{"$f":"'Tab 1.2_2013_GDP_P_Constant'!M11/'Tab 1.2_2013_GDP_P_Constant'!L11-1","v":0.97642231323348305},{"$f":"'Tab 1.2_2013_GDP_P_Constant'!N11/'Tab 1.2_2013_GDP_P_Constant'!M11-1","v":-7.2894625265492285E-2},{"$f":"'Tab 1.2_2013_GDP_P_Constant'!O11/'Tab 1.2_2013_GDP_P_Constant'!N11-1","v":-8.135977803402239E-2},{"$f":"'Tab 1.2_2013_GDP_P_Constant'!P11/'Tab 1.2_2013_GDP_P_Constant'!O11-1","v":4.8774075178095844E-2},{"$f":"'Tab 1.2_2013_GDP_P_Constant'!Q11/'Tab 1.2_2013_GDP_P_Constant'!P11-1","v":0.21566982013550651}]
["C ","Manufacturing",null,{"$f":"'Tab 1.2_2013_GDP_P_Constant'!D12/'Tab 1.2_2013_GDP_P_Constant'!C12-1","v":0.17537251643682428},{"$f":"'Tab 1.2_2013_GDP_P_Constant'!E12/'Tab 1.2_2013_GDP_P_Constant'!D12-1","v":4.1180098295999334E-2},{"$f":"'Tab 1.2_2013_GDP_P_Constant'!F12/'Tab 1.2_2013_GDP_P_Constant'!E12-1","v":3.8912295020312682E-2},{"$f":"'Tab 1.2_2013_GDP_P_Constant'!G12/'Tab 1.2_2013_GDP_P_Constant'!F12-1","v":-8.2797115413184019E-2},{"$f":"'Tab 1.2_2013_GDP_P_Constant'!H12/'Tab 1.2_2013_GDP_P_Constant'!G12-1","v":-4.2650344789043171E-2},{"$f":"'Tab 1.2_2013_GDP_P_Constant'!I12/'Tab 1.2_2013_GDP_P_Constant'!H12-1","v":4.1716007553027623E-3},{"$f":"'Tab 1.2_2013_GDP_P_Constant'!J12/'Tab 1.2_2013_GDP_P_Constant'!I12-1","v":3.918236520288354E-2},{"$f":"'Tab 1.2_2013_GDP_P_Constant'!K12/'Tab 1.2_2013_GDP_P_Constant'!J12-1","v":2.4657256918400927E-2},{"$f":"'Tab 1.2_2013_GDP_P_Constant'!L12/'Tab 1.2_2013_GDP_P_Constant'!K12-1","v":3.1784775969356138E-2},{"$f":"'Tab 1.2_2013_GDP_P_Constant'!M12/'Tab 1.2_2013_GDP_P_Constant'!L12-1","v":3.2576160011117405E-2},{"$f":"'Tab 1.2_2013_GDP_P_Constant'!N12/'Tab 1.2_2013_GDP_P_Constant'!M12-1","v":2.6379647515256011E-2},{"$f":"'Tab 1.2_2013_GDP_P_Constant'!O12/'Tab 1.2_2013_GDP_P_Constant'!N12-1","v":-7.0460271291717613E-2},{"$f":"'Tab 1.2_2013_GDP_P_Constant'!P12/'Tab 1.2_2013_GDP_P_Constant'!O12-1","v":-7.8669071052701489E-2},{"$f":"'Tab 1.2_2013_GDP_P_Constant'!Q12/'Tab 1.2_2013_GDP_P_Constant'!P12-1","v":2.8167580369016232E-3}]
["D ","Electricity, gas, steam and air conditioning supply",null,{"$f":"'Tab 1.2_2013_GDP_P_Constant'!D13/'Tab 1.2_2013_GDP_P_Constant'!C13-1","v":0.19317705355470749},{"$f":"'Tab 1.2_2013_GDP_P_Constant'!E13/'Tab 1.2_2013_GDP_P_Constant'!D13-1","v":3.6314800198908426E-2},{"$f":"'Tab 1.2_2013_GDP_P_Constant'!F13/'Tab 1.2_2013_GDP_P_Constant'!E13-1","v":0.33547673836390657},{"$f":"'Tab 1.2_2013_GDP_P_Constant'!G13/'Tab 1.2_2013_GDP_P_Constant'!F13-1","v":5.2124861468748618E-2},{"$f":"'Tab 1.2_2013_GDP_P_Constant'!H13/'Tab 1.2_2013_GDP_P_Constant'!G13-1","v":2.2448623129982304E-2},{"$f":"'Tab 1.2_2013_GDP_P_Constant'!I13/'Tab 1.2_2013_GDP_P_Constant'!H13-1","v":7.6798702178662914E-2},{"$f":"'Tab 1.2_2013_GDP_P_Constant'!J13/'Tab 1.2_2013_GDP_P_Constant'!I13-1","v":-3.8729257265120776E-2},{"$f":"'Tab 1.2_2013_GDP_P_Constant'!K13/'Tab 1.2_2013_GDP_P_Constant'!J13-1","v":-4.0564136979468035E-2},{"$f":"'Tab 1.2_2013_GDP_P_Constant'!L13/'Tab 1.2_2013_GDP_P_Constant'!K13-1","v":2.1999999931997971E-2},{"$f":"'Tab 1.2_2013_GDP_P_Constant'!M13/'Tab 1.2_2013_GDP_P_Constant'!L13-1","v":6.0287762695380609E-2},{"$f":"'Tab 1.2_2013_GDP_P_Constant'!N13/'Tab 1.2_2013_GDP_P_Constant'!M13-1","v":0.10140389969335439},{"$f":"'Tab 1.2_2013_GDP_P_Constant'!O13/'Tab 1.2_2013_GDP_P_Constant'!N13-1","v":7.2563317538575145E-2},{"$f":"'Tab 1.2_2013_GDP_P_Constant'!P13/'Tab 1.2_2013_GDP_P_Constant'!O13-1","v":-7.4176652209891447E-2},{"$f":"'Tab 1.2_2013_GDP_P_Constant'!Q13/'Tab 1.2_2013_GDP_P_Constant'!P13-1","v":0.1326254942365821}]
["E ","Water supply, sewerage, waste management and remediation activities",null,{"$f":"'Tab 1.2_2013_GDP_P_Constant'!D14/'Tab 1.2_2013_GDP_P_Constant'!C14-1","v":0.19317705355470749},{"$f":"'Tab 1.2_2013_GDP_P_Constant'!E14/'Tab 1.2_2013_GDP_P_Constant'!D14-1","v":3.6314800198908426E-2},{"$f":"'Tab 1.2_2013_GDP_P_Constant'!F14/'Tab 1.2_2013_GDP_P_Constant'!E14-1","v":0.33547673836390657},{"$f":"'Tab 1.2_2013_GDP_P_Constant'!G14/'Tab 1.2_2013_GDP_P_Constant'!F14-1","v":5.2124861468748618E-2},{"$f":"'Tab 1.2_2013_GDP_P_Constant'!H14/'Tab 1.2_2013_GDP_P_Constant'!G14-1","v":2.2448623129982304E-2},{"$f":"'Tab 1.2_2013_GDP_P_Constant'!I14/'Tab 1.2_2013_GDP_P_Constant'!H14-1","v":7.6798702178662914E-2},{"$f":"'Tab 1.2_2013_GDP_P_Constant'!J14/'Tab 1.2_2013_GDP_P_Constant'!I14-1","v":-3.8729257265120776E-2},{"$f":"'Tab 1.2_2013_GDP_P_Constant'!K14/'Tab 1.2_2013_GDP_P_Constant'!J14-1","v":-4.0564136979467924E-2},{"$f":"'Tab 1.2_2013_GDP_P_Constant'!L14/'Tab 1.2_2013_GDP_P_Constant'!K14-1","v":2.1999999931997971E-2},{"$f":"'Tab 1.2_2013_GDP_P_Constant'!M14/'Tab 1.2_2013_GDP_P_Constant'!L14-1","v":0.17941118208579154},{"$f":"'Tab 1.2_2013_GDP_P_Constant'!N14/'Tab 1.2_2013_GDP_P_Constant'!M14-1","v":4.4874797720107606E-2},{"$f":"'Tab 1.2_2013_GDP_P_Constant'!O14/'Tab 1.2_2013_GDP_P_Constant'!N14-1","v":8.3993505994874207E-2},{"$f":"'Tab 1.2_2013_GDP_P_Constant'!P14/'Tab 1.2_2013_GDP_P_Constant'!O14-1","v":-2.3711133818509866E-2},{"$f":"'Tab 1.2_2013_GDP_P_Constant'!Q14/'Tab 1.2_2013_GDP_P_Constant'!P14-1","v":3.5301130763418787E-3}]
["F ","Construction",null,{"$f":"'Tab 1.2_2013_GDP_P_Constant'!D15/'Tab 1.2_2013_GDP_P_Constant'!C15-1","v":-0.27647748555876217},{"$f":"'Tab 1.2_2013_GDP_P_Constant'!E15/'Tab 1.2_2013_GDP_P_Constant'!D15-1","v":3.8556421097337701E-2},{"$f":"'Tab 1.2_2013_GDP_P_Constant'!F15/'Tab 1.2_2013_GDP_P_Constant'!E15-1","v":-9.1642579574203631E-2},{"$f":"'Tab 1.2_2013_GDP_P_Constant'!G15/'Tab 1.2_2013_GDP_P_Constant'!F15-1","v":8.7638459102892918E-2},{"$f":"'Tab 1.2_2013_GDP_P_Constant'!H15/'Tab 1.2_2013_GDP_P_Constant'!G15-1","v":3.0000000000000027E-2},{"$f":"'Tab 1.2_2013_GDP_P_Constant'!I15/'Tab 1.2_2013_GDP_P_Constant'!H15-1","v":3.7999999999999812E-2},{"$f":"'Tab 1.2_2013_GDP_P_Constant'!J15/'Tab 1.2_2013_GDP_P_Constant'!I15-1","v":9.2000000000000304E-2},{"$f":"'Tab 1.2_2013_GDP_P_Constant'!K15/'Tab 1.2_2013_GDP_P_Constant'!J15-1","v":0.127},{"$f":"'Tab 1.2_2013_GDP_P_Constant'!L15/'Tab 1.2_2013_GDP_P_Constant'!K15-1","v":4.4999999999999929E-2},{"$f":"'Tab 1.2_2013_GDP_P_Constant'!M15/'Tab 1.2_2013_GDP_P_Constant'!L15-1","v":0.115332029795151},{"$f":"'Tab 1.2_2013_GDP_P_Constant'!N15/'Tab 1.2_2013_GDP_P_Constant'!M15-1","v":0.547425534827789},{"$f":"'Tab 1.2_2013_GDP_P_Constant'!O15/'Tab 1.2_2013_GDP_P_Constant'!N15-1","v":0.44354761514872565},{"$f":"'Tab 1.2_2013_GDP_P_Constant'!P15/'Tab 1.2_2013_GDP_P_Constant'!O15-1","v":-1.4269875119821696E-2},{"$f":"'Tab 1.2_2013_GDP_P_Constant'!Q15/'Tab 1.2_2013_GDP_P_Constant'!P15-1","v":1.8138675637336066E-2}]
[null,"Services",null,{"$f":"'Tab 1.2_2013_GDP_P_Constant'!D16/'Tab 1.2_2013_GDP_P_Constant'!C16-1","v":-2.309925520010947E-2},{"$f":"'Tab 1.2_2013_GDP_P_Constant'!E16/'Tab 1.2_2013_GDP_P_Constant'!D16-1","v":8.4324613937356796E-2},{"$f":"'Tab 1.2_2013_GDP_P_Constant'!F16/'Tab 1.2_2013_GDP_P_Constant'!E16-1","v":6.6181415848668657E-2},{"$f":"'Tab 1.2_2013_GDP_P_Constant'!G16/'Tab 1.2_2013_GDP_P_Constant'!F16-1","v":-2.9538160360655374E-2},{"$f":"'Tab 1.2_2013_GDP_P_Constant'!H16/'Tab 1.2_2013_GDP_P_Constant'!G16-1","v":3.4475492237476812E-2},{"$f":"'Tab 1.2_2013_GDP_P_Constant'!I16/'Tab 1.2_2013_GDP_P_Constant'!H16-1","v":2.5891567901157098E-2},{"$f":"'Tab 1.2_2013_GDP_P_Constant'!J16/'Tab 1.2_2013_GDP_P_Constant'!I16-1","v":2.7412417904292496E-2},{"$f":"'Tab 1.2_2013_GDP_P_Constant'!K16/'Tab 1.2_2013_GDP_P_Constant'!J16-1","v":4.5442602578354752E-2},{"$f":"'Tab 1.2_2013_GDP_P_Constant'!L16/'Tab 1.2_2013_GDP_P_Constant'!K16-1","v":5.2892300154921967E-2},{"$f":"'Tab 1.2_2013_GDP_P_Constant'!M16/'Tab 1.2_2013_GDP_P_Constant'!L16-1","v":1.3591085555449745E-2},{"$f":"'Tab 1.2_2013_GDP_P_Constant'!N16/'Tab 1.2_2013_GDP_P_Constant'!M16-1","v":-2.4320450245971514E-3},{"$f":"'Tab 1.2_2013_GDP_P_Constant'!O16/'Tab 1.2_2013_GDP_P_Constant'!N16-1","v":-2.0800644089519427E-2},{"$f":"'Tab 1.2_2013_GDP_P_Constant'!P16/'Tab 1.2_2013_GDP_P_Constant'!O16-1","v":0.1173289460688125},{"$f":"'Tab 1.2_2013_GDP_P_Constant'!Q16/'Tab 1.2_2013_GDP_P_Constant'!P16-1","v":9.8998145253065273E-2}]
["G","Wholesale and retail trade; repair of motors and motocycles",null,{"$f":"'Tab 1.2_2013_GDP_P_Constant'!D17/'Tab 1.2_2013_GDP_P_Constant'!C17-1","v":-6.2605183776732187E-2},{"$f":"'Tab 1.2_2013_GDP_P_Constant'!E17/'Tab 1.2_2013_GDP_P_Constant'!D17-1","v":9.7296411984305387E-2},{"$f":"'Tab 1.2_2013_GDP_P_Constant'!F17/'Tab 1.2_2013_GDP_P_Constant'!E17-1","v":0.11069806237007995},{"$f":"'Tab 1.2_2013_GDP_P_Constant'!G17/'Tab 1.2_2013_GDP_P_Constant'!F17-1","v":-6.2860135071308498E-2},{"$f":"'Tab 1.2_2013_GDP_P_Constant'!H17/'Tab 1.2_2013_GDP_P_Constant'!G17-1","v":-1.4654168538574819E-3},{"$f":"'Tab 1.2_2013_GDP_P_Constant'!I17/'Tab 1.2_2013_GDP_P_Constant'!H17-1","v":2.8434100491490089E-2},{"$f":"'Tab 1.2_2013_GDP_P_Constant'!J17/'Tab 1.2_2013_GDP_P_Constant'!I17-1","v":1.0278372779370049E-2},{"$f":"'Tab 1.2_2013_GDP_P_Constant'!K17/'Tab 1.2_2013_GDP_P_Constant'!J17-1","v":4.5596320060119044E-2},{"$f":"'Tab 1.2_2013_GDP_P_Constant'!L17/'Tab 1.2_2013_GDP_P_Constant'!K17-1","v":2.2356943498421877E-2},{"$f":"'Tab 1.2_2013_GDP_P_Constant'!M17/'Tab 1.2_2013_GDP_P_Constant'!L17-1","v":1.3696359101970756E-2},{"$f":"'Tab 1.2_2013_GDP_P_Constant'!N17/'Tab 1.2_2013_GDP_P_Constant'!M17-1","v":3.2011560430806885E-3},{"$f":"'Tab 1.2_2013_GDP_P_Constant'!O17/'Tab 1.2_2013_GDP_P_Constant'!N17-1","v":-5.4391809712440509E-2},{"$f":"'Tab 1.2_2013_GDP_P_Constant'!P17/'Tab 1.2_2013_GDP_P_Constant'!O17-1","v":0.17010429826683504},{"$f":"'Tab 1.2_2013_GDP_P_Constant'!Q17/'Tab 1.2_2013_GDP_P_Constant'!P17-1","v":9.5456817881086176E-2}]
["H ","Transport and storage",null,{"$f":"'Tab 1.2_2013_GDP_P_Constant'!D18/'Tab 1.2_2013_GDP_P_Constant'!C18-1","v":4.7562425683707943E-2},{"$f":"'Tab 1.2_2013_GDP_P_Constant'!E18/'Tab 1.2_2013_GDP_P_Constant'!D18-1","v":2.6485054861899338E-2},{"$f":"'Tab 1.2_2013_GDP_P_Constant'!F18/'Tab 1.2_2013_GDP_P_Constant'!E18-1","v":5.1419093254700288E-2},{"$f":"'Tab 1.2_2013_GDP_P_Constant'!G18/'Tab 1.2_2013_GDP_P_Constant'!F18-1","v":2.1910604732689798E-2},{"$f":"'Tab 1.2_2013_GDP_P_Constant'!H18/'Tab 1.2_2013_GDP_P_Constant'!G18-1","v":4.236706689536951E-2},{"$f":"'Tab 1.2_2013_GDP_P_Constant'!I18/'Tab 1.2_2013_GDP_P_Constant'!H18-1","v":3.2746420931379916E-2},{"$f":"'Tab 1.2_2013_GDP_P_Constant'!J18/'Tab 1.2_2013_GDP_P_Constant'!I18-1","v":1.4659018483110575E-2},{"$f":"'Tab 1.2_2013_GDP_P_Constant'!K18/'Tab 1.2_2013_GDP_P_Constant'!J18-1","v":3.2820351758793942E-2},{"$f":"'Tab 1.2_2013_GDP_P_Constant'!L18/'Tab 1.2_2013_GDP_P_Constant'!K18-1","v":5.3215751862551341E-2},{"$f":"'Tab 1.2_2013_GDP_P_Constant'!M18/'Tab 1.2_2013_GDP_P_Constant'!L18-1","v":9.2904629130644567E-2},{"$f":"'Tab 1.2_2013_GDP_P_Constant'!N18/'Tab 1.2_2013_GDP_P_Constant'!M18-1","v":-0.16003622598180323},{"$f":"'Tab 1.2_2013_GDP_P_Constant'!O18/'Tab 1.2_2013_GDP_P_Constant'!N18-1","v":0.13122642883894464},{"$f":"'Tab 1.2_2013_GDP_P_Constant'!P18/'Tab 1.2_2013_GDP_P_Constant'!O18-1","v":8.8628584980822822E-2},{"$f":"'Tab 1.2_2013_GDP_P_Constant'!Q18/'Tab 1.2_2013_GDP_P_Constant'!P18-1","v":0.19697702791811089}]
["I ","Accommodation and food service activities",null,{"$f":"'Tab 1.2_2013_GDP_P_Constant'!D19/'Tab 1.2_2013_GDP_P_Constant'!C19-1","v":0.19762924815201233},{"$f":"'Tab 1.2_2013_GDP_P_Constant'!E19/'Tab 1.2_2013_GDP_P_Constant'!D19-1","v":0.1565836298932386},{"$f":"'Tab 1.2_2013_GDP_P_Constant'!F19/'Tab 1.2_2013_GDP_P_Constant'!E19-1","v":0.14283653846153843},{"$f":"'Tab 1.2_2013_GDP_P_Constant'!G19/'Tab 1.2_2013_GDP_P_Constant'!F19-1","v":2.8977886219903937E-2},{"$f":"'Tab 1.2_2013_GDP_P_Constant'!H19/'Tab 1.2_2013_GDP_P_Constant'!G19-1","v":-3.5364100327748282E-2},{"$f":"'Tab 1.2_2013_GDP_P_Constant'!I19/'Tab 1.2_2013_GDP_P_Constant'!H19-1","v":-0.35650460199619982},{"$f":"'Tab 1.2_2013_GDP_P_Constant'!J19/'Tab 1.2_2013_GDP_P_Constant'!I19-1","v":0.16788329180342298},{"$f":"'Tab 1.2_2013_GDP_P_Constant'!K19/'Tab 1.2_2013_GDP_P_Constant'!J19-1","v":3.9607868938745572E-2},{"$f":"'Tab 1.2_2013_GDP_P_Constant'!L19/'Tab 1.2_2013_GDP_P_Constant'!K19-1","v":9.000000000000008E-2},{"$f":"'Tab 1.2_2013_GDP_P_Constant'!M19/'Tab 1.2_2013_GDP_P_Constant'!L19-1","v":-7.5771576936000784E-2},{"$f":"'Tab 1.2_2013_GDP_P_Constant'!N19/'Tab 1.2_2013_GDP_P_Constant'!M19-1","v":-0.1288864309954687},{"$f":"'Tab 1.2_2013_GDP_P_Constant'!O19/'Tab 1.2_2013_GDP_P_Constant'!N19-1","v":0.20771847144045719},{"$f":"'Tab 1.2_2013_GDP_P_Constant'!P19/'Tab 1.2_2013_GDP_P_Constant'!O19-1","v":-1.1083452987900588E-2},{"$f":"'Tab 1.2_2013_GDP_P_Constant'!Q19/'Tab 1.2_2013_GDP_P_Constant'!P19-1","v":0.18209198644719571}]
["J ","Information and Communication",null,{"$f":"'Tab 1.2_2013_GDP_P_Constant'!D20/'Tab 1.2_2013_GDP_P_Constant'!C20-1","v":4.7619047619047894E-2},{"$f":"'Tab 1.2_2013_GDP_P_Constant'!E20/'Tab 1.2_2013_GDP_P_Constant'!D20-1","v":9.0909090909090384E-2},{"$f":"'Tab 1.2_2013_GDP_P_Constant'!F20/'Tab 1.2_2013_GDP_P_Constant'!E20-1","v":0.10416666666666696},{"$f":"'Tab 1.2_2013_GDP_P_Constant'!G20/'Tab 1.2_2013_GDP_P_Constant'!F20-1","v":-6.0150943396226397E-2},{"$f":"'Tab 1.2_2013_GDP_P_Constant'!H20/'Tab 1.2_2013_GDP_P_Constant'!G20-1","v":9.6783498234971788E-2},{"$f":"'Tab 1.2_2013_GDP_P_Constant'!I20/'Tab 1.2_2013_GDP_P_Constant'!H20-1","v":0.14688678494899921},{"$f":"'Tab 1.2_2013_GDP_P_Constant'!J20/'Tab 1.2_2013_GDP_P_Constant'!I20-1","v":7.0146663201009041E-2},{"$f":"'Tab 1.2_2013_GDP_P_Constant'!K20/'Tab 1.2_2013_GDP_P_Constant'!J20-1","v":0.1132681317386437},{"$f":"'Tab 1.2_2013_GDP_P_Constant'!L20/'Tab 1.2_2013_GDP_P_Constant'!K20-1","v":0.22879786192479723},{"$f":"'Tab 1.2_2013_GDP_P_Constant'!M20/'Tab 1.2_2013_GDP_P_Constant'!L20-1","v":-3.5348131143863926E-2},{"$f":"'Tab 1.2_2013_GDP_P_Constant'!N20/'Tab 1.2_2013_GDP_P_Constant'!M20-1","v":9.4987996813428843E-2},{"$f":"'Tab 1.2_2013_GDP_P_Constant'!O20/'Tab 1.2_2013_GDP_P_Constant'!N20-1","v":-2.6801743447412596E-2},{"$f":"'Tab 1.2_2013_GDP_P_Constant'!P20/'Tab 1.2_2013_GDP_P_Constant'!O20-1","v":0.27940489565154181},{"$f":"'Tab 1.2_2013_GDP_P_Constant'!Q20/'Tab 1.2_2013_GDP_P_Constant'!P20-1","v":0.1575683157933403}]
["K ","Financial and insurance activities",null,{"$f":"'Tab 1.2_2013_GDP_P_Constant'!D21/'Tab 1.2_2013_GDP_P_Constant'!C21-1","v":3.1904740283213551E-2},{"$f":"'Tab 1.2_2013_GDP_P_Constant'!E21/'Tab 1.2_2013_GDP_P_Constant'!D21-1","v":0.10155455248783474},{"$f":"'Tab 1.2_2013_GDP_P_Constant'!F21/'Tab 1.2_2013_GDP_P_Constant'!E21-1","v":-5.8413970676740479E-2},{"$f":"'Tab 1.2_2013_GDP_P_Constant'!G21/'Tab 1.2_2013_GDP_P_Constant'!F21-1","v":0.21293506884903324},{"$f":"'Tab 1.2_2013_GDP_P_Constant'!H21/'Tab 1.2_2013_GDP_P_Constant'!G21-1","v":0.27787796025320954},{"$f":"'Tab 1.2_2013_GDP_P_Constant'!I21/'Tab 1.2_2013_GDP_P_Constant'!H21-1","v":6.1051595147461057E-3},{"$f":"'Tab 1.2_2013_GDP_P_Constant'!J21/'Tab 1.2_2013_GDP_P_Constant'!I21-1","v":0.13609877090457179},{"$f":"'Tab 1.2_2013_GDP_P_Constant'!K21/'Tab 1.2_2013_GDP_P_Constant'!J21-1","v":4.2756914447775962E-2},{"$f":"'Tab 1.2_2013_GDP_P_Constant'!L21/'Tab 1.2_2013_GDP_P_Constant'!K21-1","v":6.0676791208458036E-2},{"$f":"'Tab 1.2_2013_GDP_P_Constant'!M21/'Tab 1.2_2013_GDP_P_Constant'!L21-1","v":4.6694418906266355E-2},{"$f":"'Tab 1.2_2013_GDP_P_Constant'!N21/'Tab 1.2_2013_GDP_P_Constant'!M21-1","v":2.4254593427144977E-2},{"$f":"'Tab 1.2_2013_GDP_P_Constant'!O21/'Tab 1.2_2013_GDP_P_Constant'!N21-1","v":-7.3960435829739879E-2},{"$f":"'Tab 1.2_2013_GDP_P_Constant'!P21/'Tab 1.2_2013_GDP_P_Constant'!O21-1","v":1.122604741927713E-2},{"$f":"'Tab 1.2_2013_GDP_P_Constant'!Q21/'Tab 1.2_2013_GDP_P_Constant'!P21-1","v":0.10233858833821263}]
["L ","Real estate activities",null,{"$f":"'Tab 1.2_2013_GDP_P_Constant'!D22/'Tab 1.2_2013_GDP_P_Constant'!C22-1","v":2.7424236246573086E-2},{"$f":"'Tab 1.2_2013_GDP_P_Constant'!E22/'Tab 1.2_2013_GDP_P_Constant'!D22-1","v":2.7423945372113678E-2},{"$f":"'Tab 1.2_2013_GDP_P_Constant'!F22/'Tab 1.2_2013_GDP_P_Constant'!E22-1","v":2.7424467685735587E-2},{"$f":"'Tab 1.2_2013_GDP_P_Constant'!G22/'Tab 1.2_2013_GDP_P_Constant'!F22-1","v":2.7424536521309495E-2},{"$f":"'Tab 1.2_2013_GDP_P_Constant'!H22/'Tab 1.2_2013_GDP_P_Constant'!G22-1","v":2.7424318484405186E-2},{"$f":"'Tab 1.2_2013_GDP_P_Constant'!I22/'Tab 1.2_2013_GDP_P_Constant'!H22-1","v":2.7423947156480333E-2},{"$f":"'Tab 1.2_2013_GDP_P_Constant'!J22/'Tab 1.2_2013_GDP_P_Constant'!I22-1","v":2.7424134527615607E-2},{"$f":"'Tab 1.2_2013_GDP_P_Constant'!K22/'Tab 1.2_2013_GDP_P_Constant'!J22-1","v":2.7424300986039096E-2},{"$f":"'Tab 1.2_2013_GDP_P_Constant'!L22/'Tab 1.2_2013_GDP_P_Constant'!K22-1","v":6.9915659457777668E-2},{"$f":"'Tab 1.2_2013_GDP_P_Constant'!M22/'Tab 1.2_2013_GDP_P_Constant'!L22-1","v":0.10651373934491537},{"$f":"'Tab 1.2_2013_GDP_P_Constant'!N22/'Tab 1.2_2013_GDP_P_Constant'!M22-1","v":9.9471077244972506E-3},{"$f":"'Tab 1.2_2013_GDP_P_Constant'!O22/'Tab 1.2_2013_GDP_P_Constant'!N22-1","v":1.5684382478871051E-3},{"$f":"'Tab 1.2_2013_GDP_P_Constant'!P22/'Tab 1.2_2013_GDP_P_Constant'!O22-1","v":2.6445850846509522E-2},{"$f":"'Tab 1.2_2013_GDP_P_Constant'!Q22/'Tab 1.2_2013_GDP_P_Constant'!P22-1","v":2.4618895063980739E-2}]
["M ","Professional, scientific and technical activities",null,{"$f":"'Tab 1.2_2013_GDP_P_Constant'!D23/'Tab 1.2_2013_GDP_P_Constant'!C23-1","v":2.7424236246573086E-2},{"$f":"'Tab 1.2_2013_GDP_P_Constant'!E23/'Tab 1.2_2013_GDP_P_Constant'!D23-1","v":2.7423945372113678E-2},{"$f":"'Tab 1.2_2013_GDP_P_Constant'!F23/'Tab 1.2_2013_GDP_P_Constant'!E23-1","v":2.7424467685735809E-2},{"$f":"'Tab 1.2_2013_GDP_P_Constant'!G23/'Tab 1.2_2013_GDP_P_Constant'!F23-1","v":2.7424536521309495E-2},{"$f":"'Tab 1.2_2013_GDP_P_Constant'!H23/'Tab 1.2_2013_GDP_P_Constant'!G23-1","v":2.7424318484405186E-2},{"$f":"'Tab 1.2_2013_GDP_P_Constant'!I23/'Tab 1.2_2013_GDP_P_Constant'!H23-1","v":2.7423947156480333E-2},{"$f":"'Tab 1.2_2013_GDP_P_Constant'!J23/'Tab 1.2_2013_GDP_P_Constant'!I23-1","v":2.7424134527615385E-2},{"$f":"'Tab 1.2_2013_GDP_P_Constant'!K23/'Tab 1.2_2013_GDP_P_Constant'!J23-1","v":2.7424300986039318E-2},{"$f":"'Tab 1.2_2013_GDP_P_Constant'!L23/'Tab 1.2_2013_GDP_P_Constant'!K23-1","v":6.9915659457777668E-2},{"$f":"'Tab 1.2_2013_GDP_P_Constant'!M23/'Tab 1.2_2013_GDP_P_Constant'!L23-1","v":3.0067629960598863E-2},{"$f":"'Tab 1.2_2013_GDP_P_Constant'!N23/'Tab 1.2_2013_GDP_P_Constant'!M23-1","v":-1.5334961939761471E-2},{"$f":"'Tab 1.2_2013_GDP_P_Constant'!O23/'Tab 1.2_2013_GDP_P_Constant'!N23-1","v":0.10924708826066443},{"$f":"'Tab 1.2_2013_GDP_P_Constant'!P23/'Tab 1.2_2013_GDP_P_Constant'!O23-1","v":-0.15461394986929622},{"$f":"'Tab 1.2_2013_GDP_P_Constant'!Q23/'Tab 1.2_2013_GDP_P_Constant'!P23-1","v":-7.7965750723435479E-2}]
["N ","Administrative and support service activities",null,{"$f":"'Tab 1.2_2013_GDP_P_Constant'!D24/'Tab 1.2_2013_GDP_P_Constant'!C24-1","v":2.7424236246573308E-2},{"$f":"'Tab 1.2_2013_GDP_P_Constant'!E24/'Tab 1.2_2013_GDP_P_Constant'!D24-1","v":2.7423945372113678E-2},{"$f":"'Tab 1.2_2013_GDP_P_Constant'!F24/'Tab 1.2_2013_GDP_P_Constant'!E24-1","v":2.7424467685736031E-2},{"$f":"'Tab 1.2_2013_GDP_P_Constant'!G24/'Tab 1.2_2013_GDP_P_Constant'!F24-1","v":2.7424536521309273E-2},{"$f":"'Tab 1.2_2013_GDP_P_Constant'!H24/'Tab 1.2_2013_GDP_P_Constant'!G24-1","v":2.7424318484405186E-2},{"$f":"'Tab 1.2_2013_GDP_P_Constant'!I24/'Tab 1.2_2013_GDP_P_Constant'!H24-1","v":2.7423947156480111E-2},{"$f":"'Tab 1.2_2013_GDP_P_Constant'!J24/'Tab 1.2_2013_GDP_P_Constant'!I24-1","v":2.7424134527615607E-2},{"$f":"'Tab 1.2_2013_GDP_P_Constant'!K24/'Tab 1.2_2013_GDP_P_Constant'!J24-1","v":2.7424300986039318E-2},{"$f":"'Tab 1.2_2013_GDP_P_Constant'!L24/'Tab 1.2_2013_GDP_P_Constant'!K24-1","v":6.9915659457778112E-2},{"$f":"'Tab 1.2_2013_GDP_P_Constant'!M24/'Tab 1.2_2013_GDP_P_Constant'!L24-1","v":0.10109056255887383},{"$f":"'Tab 1.2_2013_GDP_P_Constant'!N24/'Tab 1.2_2013_GDP_P_Constant'!M24-1","v":3.0642839272198241E-2},{"$f":"'Tab 1.2_2013_GDP_P_Constant'!O24/'Tab 1.2_2013_GDP_P_Constant'!N24-1","v":-2.0155569179620803E-2},{"$f":"'Tab 1.2_2013_GDP_P_Constant'!P24/'Tab 1.2_2013_GDP_P_Constant'!O24-1","v":-4.8907666883567513E-3},{"$f":"'Tab 1.2_2013_GDP_P_Constant'!Q24/'Tab 1.2_2013_GDP_P_Constant'!P24-1","v":-7.5044845351103118E-2}]
["O","Public administration and defence; compulsory social security",null,{"$f":"'Tab 1.2_2013_GDP_P_Constant'!D25/'Tab 1.2_2013_GDP_P_Constant'!C25-1","v":7.1569595261600227E-3},{"$f":"'Tab 1.2_2013_GDP_P_Constant'!E25/'Tab 1.2_2013_GDP_P_Constant'!D25-1","v":3.1364861553540901E-2},{"$f":"'Tab 1.2_2013_GDP_P_Constant'!F25/'Tab 1.2_2013_GDP_P_Constant'!E25-1","v":-0.27750059396531235},{"$f":"'Tab 1.2_2013_GDP_P_Constant'!G25/'Tab 1.2_2013_GDP_P_Constant'!F25-1","v":-1.4140085498191346E-2},{"$f":"'Tab 1.2_2013_GDP_P_Constant'!H25/'Tab 1.2_2013_GDP_P_Constant'!G25-1","v":0.30520346897931949},{"$f":"'Tab 1.2_2013_GDP_P_Constant'!I25/'Tab 1.2_2013_GDP_P_Constant'!H25-1","v":0.1379999999999999},{"$f":"'Tab 1.2_2013_GDP_P_Constant'!J25/'Tab 1.2_2013_GDP_P_Constant'!I25-1","v":2.4000000000000021E-2},{"$f":"'Tab 1.2_2013_GDP_P_Constant'!K25/'Tab 1.2_2013_GDP_P_Constant'!J25-1","v":3.1590124767719718E-2},{"$f":"'Tab 1.2_2013_GDP_P_Constant'!L25/'Tab 1.2_2013_GDP_P_Constant'!K25-1","v":6.9994853319609085E-2},{"$f":"'Tab 1.2_2013_GDP_P_Constant'!M25/'Tab 1.2_2013_GDP_P_Constant'!L25-1","v":-0.12964159974114264},{"$f":"'Tab 1.2_2013_GDP_P_Constant'!N25/'Tab 1.2_2013_GDP_P_Constant'!M25-1","v":1.8510338682144578E-2},{"$f":"'Tab 1.2_2013_GDP_P_Constant'!O25/'Tab 1.2_2013_GDP_P_Constant'!N25-1","v":-0.11140373559999439},{"$f":"'Tab 1.2_2013_GDP_P_Constant'!P25/'Tab 1.2_2013_GDP_P_Constant'!O25-1","v":-4.9792009825548211E-2},{"$f":"'Tab 1.2_2013_GDP_P_Constant'!Q25/'Tab 1.2_2013_GDP_P_Constant'!P25-1","v":0.23774478897049511}]
["P ","Education",null,{"$f":"'Tab 1.2_2013_GDP_P_Constant'!D26/'Tab 1.2_2013_GDP_P_Constant'!C26-1","v":3.785857238158763E-2},{"$f":"'Tab 1.2_2013_GDP_P_Constant'!E26/'Tab 1.2_2013_GDP_P_Constant'!D26-1","v":0.10364775831592477},{"$f":"'Tab 1.2_2013_GDP_P_Constant'!F26/'Tab 1.2_2013_GDP_P_Constant'!E26-1","v":5.8823529411764719E-2},{"$f":"'Tab 1.2_2013_GDP_P_Constant'!G26/'Tab 1.2_2013_GDP_P_Constant'!F26-1","v":0.102035203520352},{"$f":"'Tab 1.2_2013_GDP_P_Constant'!H26/'Tab 1.2_2013_GDP_P_Constant'!G26-1","v":5.3780883453955486E-2},{"$f":"'Tab 1.2_2013_GDP_P_Constant'!I26/'Tab 1.2_2013_GDP_P_Constant'!H26-1","v":0.10499999999999998},{"$f":"'Tab 1.2_2013_GDP_P_Constant'!J26/'Tab 1.2_2013_GDP_P_Constant'!I26-1","v":4.6642218656887557E-2},{"$f":"'Tab 1.2_2013_GDP_P_Constant'!K26/'Tab 1.2_2013_GDP_P_Constant'!J26-1","v":7.0075550202562065E-2},{"$f":"'Tab 1.2_2013_GDP_P_Constant'!L26/'Tab 1.2_2013_GDP_P_Constant'!K26-1","v":0.13670316177222963},{"$f":"'Tab 1.2_2013_GDP_P_Constant'!M26/'Tab 1.2_2013_GDP_P_Constant'!L26-1","v":-3.9035908506256822E-2},{"$f":"'Tab 1.2_2013_GDP_P_Constant'!N26/'Tab 1.2_2013_GDP_P_Constant'!M26-1","v":5.1459579847117132E-2},{"$f":"'Tab 1.2_2013_GDP_P_Constant'!O26/'Tab 1.2_2013_GDP_P_Constant'!N26-1","v":0.15016856012399571},{"$f":"'Tab 1.2_2013_GDP_P_Constant'!P26/'Tab 1.2_2013_GDP_P_Constant'!O26-1","v":0.10589625784175261},{"$f":"'Tab 1.2_2013_GDP_P_Constant'!Q26/'Tab 1.2_2013_GDP_P_Constant'!P26-1","v":-1.5602956301204673E-2}]
["Q ","Human health and social work activities",null,{"$f":"'Tab 1.2_2013_GDP_P_Constant'!D27/'Tab 1.2_2013_GDP_P_Constant'!C27-1","v":1.4659018483110353E-2},{"$f":"'Tab 1.2_2013_GDP_P_Constant'!E27/'Tab 1.2_2013_GDP_P_Constant'!D27-1","v":0.18592964824120606},{"$f":"'Tab 1.2_2013_GDP_P_Constant'!F27/'Tab 1.2_2013_GDP_P_Constant'!E27-1","v":-4.7669491525423879E-3},{"$f":"'Tab 1.2_2013_GDP_P_Constant'!G27/'Tab 1.2_2013_GDP_P_Constant'!F27-1","v":4.7897817988291624E-3},{"$f":"'Tab 1.2_2013_GDP_P_Constant'!H27/'Tab 1.2_2013_GDP_P_Constant'!G27-1","v":0.21239406779660985},{"$f":"'Tab 1.2_2013_GDP_P_Constant'!I27/'Tab 1.2_2013_GDP_P_Constant'!H27-1","v":0.1160000000000001},{"$f":"'Tab 1.2_2013_GDP_P_Constant'!J27/'Tab 1.2_2013_GDP_P_Constant'!I27-1","v":3.7407568508047051E-2},{"$f":"'Tab 1.2_2013_GDP_P_Constant'!K27/'Tab 1.2_2013_GDP_P_Constant'!J27-1","v":8.3857442348000966E-4},{"$f":"'Tab 1.2_2013_GDP_P_Constant'!L27/'Tab 1.2_2013_GDP_P_Constant'!K27-1","v":9.0909090909090828E-2},{"$f":"'Tab 1.2_2013_GDP_P_Constant'!M27/'Tab 1.2_2013_GDP_P_Constant'!L27-1","v":-0.2185153203730551},{"$f":"'Tab 1.2_2013_GDP_P_Constant'!N27/'Tab 1.2_2013_GDP_P_Constant'!M27-1","v":-8.8552835220893078E-2},{"$f":"'Tab 1.2_2013_GDP_P_Constant'!O27/'Tab 1.2_2013_GDP_P_Constant'!N27-1","v":0.12532789132717315},{"$f":"'Tab 1.2_2013_GDP_P_Constant'!P27/'Tab 1.2_2013_GDP_P_Constant'!O27-1","v":-8.6647744115179615E-2},{"$f":"'Tab 1.2_2013_GDP_P_Constant'!Q27/'Tab 1.2_2013_GDP_P_Constant'!P27-1","v":0.12726816606428004}]
["R","Arts, entertainment and recreation",null,{"$f":"'Tab 1.2_2013_GDP_P_Constant'!D28/'Tab 1.2_2013_GDP_P_Constant'!C28-1","v":2.7424236246572642E-2},{"$f":"'Tab 1.2_2013_GDP_P_Constant'!E28/'Tab 1.2_2013_GDP_P_Constant'!D28-1","v":2.7423945372113456E-2},{"$f":"'Tab 1.2_2013_GDP_P_Constant'!F28/'Tab 1.2_2013_GDP_P_Constant'!E28-1","v":2.7424467685736031E-2},{"$f":"'Tab 1.2_2013_GDP_P_Constant'!G28/'Tab 1.2_2013_GDP_P_Constant'!F28-1","v":2.7424536521309717E-2},{"$f":"'Tab 1.2_2013_GDP_P_Constant'!H28/'Tab 1.2_2013_GDP_P_Constant'!G28-1","v":2.7424318484404964E-2},{"$f":"'Tab 1.2_2013_GDP_P_Constant'!I28/'Tab 1.2_2013_GDP_P_Constant'!H28-1","v":2.7423947156480777E-2},{"$f":"'Tab 1.2_2013_GDP_P_Constant'!J28/'Tab 1.2_2013_GDP_P_Constant'!I28-1","v":2.7424134527615607E-2},{"$f":"'Tab 1.2_2013_GDP_P_Constant'!K28/'Tab 1.2_2013_GDP_P_Constant'!J28-1","v":2.7424300986038874E-2},{"$f":"'Tab 1.2_2013_GDP_P_Constant'!L28/'Tab 1.2_2013_GDP_P_Constant'!K28-1","v":6.9915659457778112E-2},{"$f":"'Tab 1.2_2013_GDP_P_Constant'!M28/'Tab 1.2_2013_GDP_P_Constant'!L28-1","v":0.30503527560937815},{"$f":"'Tab 1.2_2013_GDP_P_Constant'!N28/'Tab 1.2_2013_GDP_P_Constant'!M28-1","v":0.23624372541400618},{"$f":"'Tab 1.2_2013_GDP_P_Constant'!O28/'Tab 1.2_2013_GDP_P_Constant'!N28-1","v":4.062305608314265E-2},{"$f":"'Tab 1.2_2013_GDP_P_Constant'!P28/'Tab 1.2_2013_GDP_P_Constant'!O28-1","v":2.3105603422187482E-2},{"$f":"'Tab 1.2_2013_GDP_P_Constant'!Q28/'Tab 1.2_2013_GDP_P_Constant'!P28-1","v":-1.6177780474580405E-2}]
["S ","Other service activities",null,{"$f":"'Tab 1.2_2013_GDP_P_Constant'!D29/'Tab 1.2_2013_GDP_P_Constant'!C29-1","v":2.7424236246573086E-2},{"$f":"'Tab 1.2_2013_GDP_P_Constant'!E29/'Tab 1.2_2013_GDP_P_Constant'!D29-1","v":2.7423945372113234E-2},{"$f":"'Tab 1.2_2013_GDP_P_Constant'!F29/'Tab 1.2_2013_GDP_P_Constant'!E29-1","v":2.7424467685736031E-2},{"$f":"'Tab 1.2_2013_GDP_P_Constant'!G29/'Tab 1.2_2013_GDP_P_Constant'!F29-1","v":2.7424536521309717E-2},{"$f":"'Tab 1.2_2013_GDP_P_Constant'!H29/'Tab 1.2_2013_GDP_P_Constant'!G29-1","v":2.7424318484404964E-2},{"$f":"'Tab 1.2_2013_GDP_P_Constant'!I29/'Tab 1.2_2013_GDP_P_Constant'!H29-1","v":2.7423947156480777E-2},{"$f":"'Tab 1.2_2013_GDP_P_Constant'!J29/'Tab 1.2_2013_GDP_P_Constant'!I29-1","v":2.7424134527615385E-2},{"$f":"'Tab 1.2_2013_GDP_P_Constant'!K29/'Tab 1.2_2013_GDP_P_Constant'!J29-1","v":2.7424300986038874E-2},{"$f":"'Tab 1.2_2013_GDP_P_Constant'!L29/'Tab 1.2_2013_GDP_P_Constant'!K29-1","v":6.9915659457778112E-2},{"$f":"'Tab 1.2_2013_GDP_P_Constant'!M29/'Tab 1.2_2013_GDP_P_Constant'!L29-1","v":0.27260287098052571},{"$f":"'Tab 1.2_2013_GDP_P_Constant'!N29/'Tab 1.2_2013_GDP_P_Constant'!M29-1","v":-5.3601142203298147E-2},{"$f":"'Tab 1.2_2013_GDP_P_Constant'!O29/'Tab 1.2_2013_GDP_P_Constant'!N29-1","v":1.5083916148341814E-2},{"$f":"'Tab 1.2_2013_GDP_P_Constant'!P29/'Tab 1.2_2013_GDP_P_Constant'!O29-1","v":-0.13053902873632317},{"$f":"'Tab 1.2_2013_GDP_P_Constant'!Q29/'Tab 1.2_2013_GDP_P_Constant'!P29-1","v":-2.0857304150881162E-2}]
[null,"GDP basic price (Gross Value Added)",null,{"$f":"'Tab 1.2_2013_GDP_P_Constant'!D30/'Tab 1.2_2013_GDP_P_Constant'!C30-1","v":-2.4435077271917627E-2},{"$f":"'Tab 1.2_2013_GDP_P_Constant'!E30/'Tab 1.2_2013_GDP_P_Constant'!D30-1","v":-6.665917840422475E-3},{"$f":"'Tab 1.2_2013_GDP_P_Constant'!F30/'Tab 1.2_2013_GDP_P_Constant'!E30-1","v":3.0037026967593139E-2},{"$f":"'Tab 1.2_2013_GDP_P_Constant'!G30/'Tab 1.2_2013_GDP_P_Constant'!F30-1","v":6.2911908205235179E-2},{"$f":"'Tab 1.2_2013_GDP_P_Constant'!H30/'Tab 1.2_2013_GDP_P_Constant'!G30-1","v":6.680270991587145E-2},{"$f":"'Tab 1.2_2013_GDP_P_Constant'!I30/'Tab 1.2_2013_GDP_P_Constant'!H30-1","v":5.8669258388280188E-2},{"$f":"'Tab 1.2_2013_GDP_P_Constant'!J30/'Tab 1.2_2013_GDP_P_Constant'!I30-1","v":-8.3874791456777453E-2},{"$f":"'Tab 1.2_2013_GDP_P_Constant'!K30/'Tab 1.2_2013_GDP_P_Constant'!J30-1","v":5.1977478361099338E-2},{"$f":"'Tab 1.2_2013_GDP_P_Constant'!L30/'Tab 1.2_2013_GDP_P_Constant'!K30-1","v":2.7370617530708241E-2},{"$f":"'Tab 1.2_2013_GDP_P_Constant'!M30/'Tab 1.2_2013_GDP_P_Constant'!L30-1","v":-1.4581160429366746E-2},{"$f":"'Tab 1.2_2013_GDP_P_Constant'!N30/'Tab 1.2_2013_GDP_P_Constant'!M30-1","v":4.0472814606616225E-2},{"$f":"'Tab 1.2_2013_GDP_P_Constant'!O30/'Tab 1.2_2013_GDP_P_Constant'!N30-1","v":1.9413978762399475E-2},{"$f":"'Tab 1.2_2013_GDP_P_Constant'!P30/'Tab 1.2_2013_GDP_P_Constant'!O30-1","v":4.8067069756526859E-2},{"$f":"'Tab 1.2_2013_GDP_P_Constant'!Q30/'Tab 1.2_2013_GDP_P_Constant'!P30-1","v":6.5646922282194486E-2}]
[null,"Taxes less subsidies on products (+)",null,{"$f":"'Tab 1.2_2013_GDP_P_Constant'!D31/'Tab 1.2_2013_GDP_P_Constant'!C31-1","v":-9.4167614961725432E-3},{"$f":"'Tab 1.2_2013_GDP_P_Constant'!E31/'Tab 1.2_2013_GDP_P_Constant'!D31-1","v":1.1240996193623731E-2},{"$f":"'Tab 1.2_2013_GDP_P_Constant'!F31/'Tab 1.2_2013_GDP_P_Constant'!E31-1","v":3.6310258320079614E-2},{"$f":"'Tab 1.2_2013_GDP_P_Constant'!G31/'Tab 1.2_2013_GDP_P_Constant'!F31-1","v":5.734641975230903E-2},{"$f":"'Tab 1.2_2013_GDP_P_Constant'!H31/'Tab 1.2_2013_GDP_P_Constant'!G31-1","v":6.4496958432861851E-2},{"$f":"'Tab 1.2_2013_GDP_P_Constant'!I31/'Tab 1.2_2013_GDP_P_Constant'!H31-1","v":6.5246327035853424E-2},{"$f":"'Tab 1.2_2013_GDP_P_Constant'!J31/'Tab 1.2_2013_GDP_P_Constant'!I31-1","v":-4.3286667473796614E-2},{"$f":"'Tab 1.2_2013_GDP_P_Constant'!K31/'Tab 1.2_2013_GDP_P_Constant'!J31-1","v":5.862230501751986E-2},{"$f":"'Tab 1.2_2013_GDP_P_Constant'!L31/'Tab 1.2_2013_GDP_P_Constant'!K31-1","v":4.7827768219967703E-2},{"$f":"'Tab 1.2_2013_GDP_P_Constant'!M31/'Tab 1.2_2013_GDP_P_Constant'!L31-1","v":-7.072740518517584E-3},{"$f":"'Tab 1.2_2013_GDP_P_Constant'!N31/'Tab 1.2_2013_GDP_P_Constant'!M31-1","v":4.2058796649055319E-2},{"$f":"'Tab 1.2_2013_GDP_P_Constant'!O31/'Tab 1.2_2013_GDP_P_Constant'!N31-1","v":1.9701869791922899E-2},{"$f":"'Tab 1.2_2013_GDP_P_Constant'!P31/'Tab 1.2_2013_GDP_P_Constant'!O31-1","v":5.0400327047764648E-2},{"$f":"'Tab 1.2_2013_GDP_P_Constant'!Q31/'Tab 1.2_2013_GDP_P_Constant'!P31-1","v":6.3060607789724665E-2}]
[]
[]
[null,"2018* Provisional data"]

{"sheet":"Tab 1.5_2013_Deflator","index":6,"n_rows":34,"n_cols":17,"rows_kept":34,"cut":false,"hidden":false,"merged":[[0,0,0,13]]}
["GDP Deflator, 2013 base year"]
[]
["ISIC Rev.4","Industry",2004,2005,2006,2007,2008,2009,2010,2011,2012,2013,2014,2015,2016,2017,"2018*"]
[null,"Gross Domestic Product (GDP) market price",{"$f":"Tab1.1_2013_GDP_P_Current!D4/'Tab 1.2_2013_GDP_P_Constant'!C4*100","v":69.76426846015157},{"$f":"Tab1.1_2013_GDP_P_Current!E4/'Tab 1.2_2013_GDP_P_Constant'!D4*100","v":72.634234579695828},{"$f":"Tab1.1_2013_GDP_P_Current!F4/'Tab 1.2_2013_GDP_P_Constant'!E4*100","v":73.580806720929061},{"$f":"Tab1.1_2013_GDP_P_Current!G4/'Tab 1.2_2013_GDP_P_Constant'!F4*100","v":76.82927075829636},{"$f":"Tab1.1_2013_GDP_P_Current!H4/'Tab 1.2_2013_GDP_P_Constant'!G4*100","v":78.731444896763207},{"$f":"Tab1.1_2013_GDP_P_Current!I4/'Tab 1.2_2013_GDP_P_Constant'!H4*100","v":82.284835436718609},{"$f":"Tab1.1_2013_GDP_P_Current!J4/'Tab 1.2_2013_GDP_P_Constant'!I4*100","v":86.929263811921544},{"$f":"Tab1.1_2013_GDP_P_Current!K4/'Tab 1.2_2013_GDP_P_Constant'!J4*100","v":90.903777105310084},{"$f":"Tab1.1_2013_GDP_P_Current!L4/'Tab 1.2_2013_GDP_P_Constant'!K4*100","v":94.399173062191579},{"$f":"Tab1.1_2013_GDP_P_Current!M4/'Tab 1.2_2013_GDP_P_Constant'!L4*100","v":100},{"$f":"Tab1.1_2013_GDP_P_Current!N4/'Tab 1.2_2013_GDP_P_Constant'!M4*100","v":105.21172325349472},{"$f":"Tab1.1_2013_GDP_P_Current!O4/'Tab 1.2_2013_GDP_P_Constant'!N4*100","v":115.43868392830596},{"$f":"Tab1.1_2013_GDP_P_Current!P4/'Tab 1.2_2013_GDP_P_Constant'!O4*100","v":124.46670776413143},{"$f":"Tab1.1_2013_GDP_P_Current!Q4/'Tab 1.2_2013_GDP_P_Constant'!P4*100","v":129.34794200880461},{"$f":"Tab1.1_2013_GDP_P_Current!R4/'Tab 1.2_2013_GDP_P_Constant'!Q4*100","v":136.0774171344591}]
["A","Agriculture, forestry and fishing",{"$f":"Tab1.1_2013_GDP_P_Current!D5/'Tab 1.2_2013_GDP_P_Constant'!C5*100","v":68.605067373571742},{"$f":"Tab1.1_2013_GDP_P_Current!E5/'Tab 1.2_2013_GDP_P_Constant'!D5*100","v":73.157267867636605},{"$f":"Tab1.1_2013_GDP_P_Current!F5/'Tab 1.2_2013_GDP_P_Constant'!E5*100","v":70.564912768846497},{"$f":"Tab1.1_2013_GDP_P_Current!G5/'Tab 1.2_2013_GDP_P_Constant'!F5*100","v":72.95316745157065},{"$f":"Tab1.1_2013_GDP_P_Current!H5/'Tab 1.2_2013_GDP_P_Constant'!G5*100","v":76.63178777823002},{"$f":"Tab1.1_2013_GDP_P_Current!I5/'Tab 1.2_2013_GDP_P_Constant'!H5*100","v":79.22840234533777},{"$f":"Tab1.1_2013_GDP_P_Current!J5/'Tab 1.2_2013_GDP_P_Constant'!I5*100","v":87.926026351199837},{"$f":"Tab1.1_2013_GDP_P_Current!K5/'Tab 1.2_2013_GDP_P_Constant'!J5*100","v":90.352960431491653},{"$f":"Tab1.1_2013_GDP_P_Current!L5/'Tab 1.2_2013_GDP_P_Constant'!K5*100","v":93.364015285953201},{"$f":"Tab1.1_2013_GDP_P_Current!M5/'Tab 1.2_2013_GDP_P_Constant'!L5*100","v":100},{"$f":"Tab1.1_2013_GDP_P_Current!N5/'Tab 1.2_2013_GDP_P_Constant'!M5*100","v":101.40226312933227},{"$f":"Tab1.1_2013_GDP_P_Current!O5/'Tab 1.2_2013_GDP_P_Constant'!N5*100","v":110.13490981017424},{"$f":"Tab1.1_2013_GDP_P_Current!P5/'Tab 1.2_2013_GDP_P_Constant'!O5*100","v":119.44183154486132},{"$f":"Tab1.1_2013_GDP_P_Current!Q5/'Tab 1.2_2013_GDP_P_Constant'!P5*100","v":130.72121976209692},{"$f":"Tab1.1_2013_GDP_P_Current!R5/'Tab 1.2_2013_GDP_P_Constant'!Q5*100","v":137.36226155574894}]
[null,"Crop",{"$f":"Tab1.1_2013_GDP_P_Current!D6/'Tab 1.2_2013_GDP_P_Constant'!C6*100","v":66.351325252212916},{"$f":"Tab1.1_2013_GDP_P_Current!E6/'Tab 1.2_2013_GDP_P_Constant'!D6*100","v":72.40748922506495},{"$f":"Tab1.1_2013_GDP_P_Current!F6/'Tab 1.2_2013_GDP_P_Constant'!E6*100","v":66.702497113853283},{"$f":"Tab1.1_2013_GDP_P_Current!G6/'Tab 1.2_2013_GDP_P_Constant'!F6*100","v":66.841438212727738},{"$f":"Tab1.1_2013_GDP_P_Current!H6/'Tab 1.2_2013_GDP_P_Constant'!G6*100","v":73.444569300289174},{"$f":"Tab1.1_2013_GDP_P_Current!I6/'Tab 1.2_2013_GDP_P_Constant'!H6*100","v":76.327550657070176},{"$f":"Tab1.1_2013_GDP_P_Current!J6/'Tab 1.2_2013_GDP_P_Constant'!I6*100","v":87.871614234396674},{"$f":"Tab1.1_2013_GDP_P_Current!K6/'Tab 1.2_2013_GDP_P_Constant'!J6*100","v":89.59934154678237},{"$f":"Tab1.1_2013_GDP_P_Current!L6/'Tab 1.2_2013_GDP_P_Constant'!K6*100","v":93.432755175869204},{"$f":"Tab1.1_2013_GDP_P_Current!M6/'Tab 1.2_2013_GDP_P_Constant'!L6*100","v":100},{"$f":"Tab1.1_2013_GDP_P_Current!N6/'Tab 1.2_2013_GDP_P_Constant'!M6*100","v":97.783847116251621},{"$f":"Tab1.1_2013_GDP_P_Current!O6/'Tab 1.2_2013_GDP_P_Constant'!N6*100","v":103.46157978980335},{"$f":"Tab1.1_2013_GDP_P_Current!P6/'Tab 1.2_2013_GDP_P_Constant'!O6*100","v":108.58412780380415},{"$f":"Tab1.1_2013_GDP_P_Current!Q6/'Tab 1.2_2013_GDP_P_Constant'!P6*100","v":121.92685818743045},{"$f":"Tab1.1_2013_GDP_P_Current!R6/'Tab 1.2_2013_GDP_P_Constant'!Q6*100","v":125.9585107274936}]
[null,"Livestock",{"$f":"Tab1.1_2013_GDP_P_Current!D7/'Tab 1.2_2013_GDP_P_Constant'!C7*100","v":68.025470718775608},{"$f":"Tab1.1_2013_GDP_P_Current!E7/'Tab 1.2_2013_GDP_P_Constant'!D7*100","v":68.578309775924367},{"$f":"Tab1.1_2013_GDP_P_Current!F7/'Tab 1.2_2013_GDP_P_Constant'!E7*100","v":72.524531442651607},{"$f":"Tab1.1_2013_GDP_P_Current!G7/'Tab 1.2_2013_GDP_P_Constant'!F7*100","v":76.089420096221474},{"$f":"Tab1.1_2013_GDP_P_Current!H7/'Tab 1.2_2013_GDP_P_Constant'!G7*100","v":78.096380896970174},{"$f":"Tab1.1_2013_GDP_P_Current!I7/'Tab 1.2_2013_GDP_P_Constant'!H7*100","v":82.784024974640971},{"$f":"Tab1.1_2013_GDP_P_Current!J7/'Tab 1.2_2013_GDP_P_Constant'!I7*100","v":84.980714760687221},{"$f":"Tab1.1_2013_GDP_P_Current!K7/'Tab 1.2_2013_GDP_P_Constant'!J7*100","v":87.459749341012696},{"$f":"Tab1.1_2013_GDP_P_Current!L7/'Tab 1.2_2013_GDP_P_Constant'!K7*100","v":89.985279921118718},{"$f":"Tab1.1_2013_GDP_P_Current!M7/'Tab 1.2_2013_GDP_P_Constant'!L7*100","v":100},{"$f":"Tab1.1_2013_GDP_P_Current!N7/'Tab 1.2_2013_GDP_P_Constant'!M7*100","v":111.76195364683947},{"$f":"Tab1.1_2013_GDP_P_Current!O7/'Tab 1.2_2013_GDP_P_Constant'!N7*100","v":133.77148093987964},{"$f":"Tab1.1_2013_GDP_P_Current!P7/'Tab 1.2_2013_GDP_P_Constant'!O7*100","v":151.32140130219997},{"$f":"Tab1.1_2013_GDP_P_Current!Q7/'Tab 1.2_2013_GDP_P_Constant'!P7*100","v":168.64051830469541},{"$f":"Tab1.1_2013_GDP_P_Current!R7/'Tab 1.2_2013_GDP_P_Constant'!Q7*100","v":181.26492116517196}]
[null,"Forestry and logging",{"$f":"Tab1.1_2013_GDP_P_Current!D8/'Tab 1.2_2013_GDP_P_Constant'!C8*100","v":89.564778739712679},{"$f":"Tab1.1_2013_GDP_P_Current!E8/'Tab 1.2_2013_GDP_P_Constant'!D8*100","v":91.200592541629177},{"$f":"Tab1.1_2013_GDP_P_Current!F8/'Tab 1.2_2013_GDP_P_Constant'!E8*100","v":90.242919587248508},{"$f":"Tab1.1_2013_GDP_P_Current!G8/'Tab 1.2_2013_GDP_P_Constant'!F8*100","v":94.870077035725544},{"$f":"Tab1.1_2013_GDP_P_Current!H8/'Tab 1.2_2013_GDP_P_Constant'!G8*100","v":95.255354634183973},{"$f":"Tab1.1_2013_GDP_P_Current!I8/'Tab 1.2_2013_GDP_P_Constant'!H8*100","v":93.806635018797166},{"$f":"Tab1.1_2013_GDP_P_Current!J8/'Tab 1.2_2013_GDP_P_Constant'!I8*100","v":97.984002495049964},{"$f":"Tab1.1_2013_GDP_P_Current!K8/'Tab 1.2_2013_GDP_P_Constant'!J8*100","v":97.984002495049964},{"$f":"Tab1.1_2013_GDP_P_Current!L8/'Tab 1.2_2013_GDP_P_Constant'!K8*100","v":97.984002495049964},{"$f":"Tab1.1_2013_GDP_P_Current!M8/'Tab 1.2_2013_GDP_P_Constant'!L8*100","v":100},{"$f":"Tab1.1_2013_GDP_P_Current!N8/'Tab 1.2_2013_GDP_P_Constant'!M8*100","v":105.18996873420747},{"$f":"Tab1.1_2013_GDP_P_Current!O8/'Tab 1.2_2013_GDP_P_Constant'!N8*100","v":104.87084863601828},{"$f":"Tab1.1_2013_GDP_P_Current!P8/'Tab 1.2_2013_GDP_P_Constant'!O8*100","v":125.87868261903689},{"$f":"Tab1.1_2013_GDP_P_Current!Q8/'Tab 1.2_2013_GDP_P_Constant'!P8*100","v":143.56648250173674},{"$f":"Tab1.1_2013_GDP_P_Current!R8/'Tab 1.2_2013_GDP_P_Constant'!Q8*100","v":176.88512189850871}]
[null,"Fishing and aquaculture",{"$f":"Tab1.1_2013_GDP_P_Current!D9/'Tab 1.2_2013_GDP_P_Constant'!C9*100","v":75.45915673878801},{"$f":"Tab1.1_2013_GDP_P_Current!E9/'Tab 1.2_2013_GDP_P_Constant'!D9*100","v":76.941077669042556},{"$f":"Tab1.1_2013_GDP_P_Current!F9/'Tab 1.2_2013_GDP_P_Constant'!E9*100","v":76.822307469171065},{"$f":"Tab1.1_2013_GDP_P_Current!G9/'Tab 1.2_2013_GDP_P_Constant'!F9*100","v":80.568769759145312},{"$f":"Tab1.1_2013_GDP_P_Current!H9/'Tab 1.2_2013_GDP_P_Constant'!G9*100","v":83.361331641286512},{"$f":"Tab1.1_2013_GDP_P_Current!I9/'Tab 1.2_2013_GDP_P_Constant'!H9*100","v":86.491285453998799},{"$f":"Tab1.1_2013_GDP_P_Current!J9/'Tab 1.2_2013_GDP_P_Constant'!I9*100","v":88.834382780051953},{"$f":"Tab1.1_2013_GDP_P_Current!K9/'Tab 1.2_2013_GDP_P_Constant'!J9*100","v":93.825129427031627},{"$f":"Tab1.1_2013_GDP_P_Current!L9/'Tab 1.2_2013_GDP_P_Constant'!K9*100","v":95.43847649862343},{"$f":"Tab1.1_2013_GDP_P_Current!M9/'Tab 1.2_2013_GDP_P_Constant'!L9*100","v":100},{"$f":"Tab1.1_2013_GDP_P_Current!N9/'Tab 1.2_2013_GDP_P_Constant'!M9*100","v":99.474629725319062},{"$f":"Tab1.1_2013_GDP_P_Current!O9/'Tab 1.2_2013_GDP_P_Constant'!N9*100","v":110.24459292441682},{"$f":"Tab1.1_2013_GDP_P_Current!P9/'Tab 1.2_2013_GDP_P_Constant'!O9*100","v":121.59038310039369},{"$f":"Tab1.1_2013_GDP_P_Current!Q9/'Tab 1.2_2013_GDP_P_Constant'!P9*100","v":124.2956760704882},{"$f":"Tab1.1_2013_GDP_P_Current!R9/'Tab 1.2_2013_GDP_P_Constant'!Q9*100","v":131.8612825458882}]
[null,"Industry",{"$f":"Tab1.1_2013_GDP_P_Current!D10/'Tab 1.2_2013_GDP_P_Constant'!C10*100","v":67.759130001342101},{"$f":"Tab1.1_2013_GDP_P_Current!E10/'Tab 1.2_2013_GDP_P_Constant'!D10*100","v":70.425452434810339},{"$f":"Tab1.1_2013_GDP_P_Current!F10/'Tab 1.2_2013_GDP_P_Constant'!E10*100","v":72.001031837604316},{"$f":"Tab1.1_2013_GDP_P_Current!G10/'Tab 1.2_2013_GDP_P_Constant'!F10*100","v":73.990294082846034},{"$f":"Tab1.1_2013_GDP_P_Current!H10/'Tab 1.2_2013_GDP_P_Constant'!G10*100","v":76.47832639526402},{"$f":"Tab1.1_2013_GDP_P_Current!I10/'Tab 1.2_2013_GDP_P_Constant'!H10*100","v":78.569697229187184},{"$f":"Tab1.1_2013_GDP_P_Current!J10/'Tab 1.2_2013_GDP_P_Constant'!I10*100","v":82.228699235414609},{"$f":"Tab1.1_2013_GDP_P_Current!K10/'Tab 1.2_2013_GDP_P_Constant'!J10*100","v":88.565918919947904},{"$f":"Tab1.1_2013_GDP_P_Current!L10/'Tab 1.2_2013_GDP_P_Constant'!K10*100","v":95.602276650172087},{"$f":"Tab1.1_2013_GDP_P_Current!M10/'Tab 1.2_2013_GDP_P_Constant'!L10*100","v":100},{"$f":"Tab1.1_2013_GDP_P_Current!N10/'Tab 1.2_2013_GDP_P_Constant'!M10*100","v":105.17510043924882},{"$f":"Tab1.1_2013_GDP_P_Current!O10/'Tab 1.2_2013_GDP_P_Constant'!N10*100","v":127.05115432319612},{"$f":"Tab1.1_2013_GDP_P_Current!P10/'Tab 1.2_2013_GDP_P_Constant'!O10*100","v":143.04648675169554},{"$f":"Tab1.1_2013_GDP_P_Current!Q10/'Tab 1.2_2013_GDP_P_Constant'!P10*100","v":138.07597836965761},{"$f":"Tab1.1_2013_GDP_P_Current!R10/'Tab 1.2_2013_GDP_P_Constant'!Q10*100","v":131.34368260390897}]
["B","Mining and quarrying",{"$f":"Tab1.1_2013_GDP_P_Current!D11/'Tab 1.2_2013_GDP_P_Constant'!C11*100","v":70.875668227123683},{"$f":"Tab1.1_2013_GDP_P_Current!E11/'Tab 1.2_2013_GDP_P_Constant'!D11*100","v":75.044825181660386},{"$f":"Tab1.1_2013_GDP_P_Current!F11/'Tab 1.2_2013_GDP_P_Constant'!E11*100","v":79.21398213619706},{"$f":"Tab1.1_2013_GDP_P_Current!G11/'Tab 1.2_2013_GDP_P_Constant'!F11*100","v":81.298560613465412},{"$f":"Tab1.1_2013_GDP_P_Current!H11/'Tab 1.2_2013_GDP_P_Constant'!G11*100","v":83.383139090733792},{"$f":"Tab1.1_2013_GDP_P_Current!I11/'Tab 1.2_2013_GDP_P_Constant'!H11*100","v":85.467717568002115},{"$f":"Tab1.1_2013_GDP_P_Current!J11/'Tab 1.2_2013_GDP_P_Constant'!I11*100","v":87.552296045270452},{"$f":"Tab1.1_2013_GDP_P_Current!K11/'Tab 1.2_2013_GDP_P_Constant'!J11*100","v":91.404597071262359},{"$f":"Tab1.1_2013_GDP_P_Current!L11/'Tab 1.2_2013_GDP_P_Constant'!K11*100","v":94.96676163342832},{"$f":"Tab1.1_2013_GDP_P_Current!M11/'Tab 1.2_2013_GDP_P_Constant'!L11*100","v":100},{"$f":"Tab1.1_2013_GDP_P_Current!N11/'Tab 1.2_2013_GDP_P_Constant'!M11*100","v":96.211032067859506},{"$f":"Tab1.1_2013_GDP_P_Current!O11/'Tab 1.2_2013_GDP_P_Constant'!N11*100","v":97.333712351039551},{"$f":"Tab1.1_2013_GDP_P_Current!P11/'Tab 1.2_2013_GDP_P_Constant'!O11*100","v":103.00184737886123},{"$f":"Tab1.1_2013_GDP_P_Current!Q11/'Tab 1.2_2013_GDP_P_Constant'!P11*100","v":133.25306869964885},{"$f":"Tab1.1_2013_GDP_P_Current!R11/'Tab 1.2_2013_GDP_P_Constant'!Q11*100","v":110.48641431379245}]
["C ","Manufacturing",{"$f":"Tab1.1_2013_GDP_P_Current!D12/'Tab 1.2_2013_GDP_P_Constant'!C12*100","v":67.450616627550559},{"$f":"Tab1.1_2013_GDP_P_Current!E12/'Tab 1.2_2013_GDP_P_Constant'!D12*100","v":69.872412146613584},{"$f":"Tab1.1_2013_GDP_P_Current!F12/'Tab 1.2_2013_GDP_P_Constant'!E12*100","v":71.289553850736056},{"$f":"Tab1.1_2013_GDP_P_Current!G12/'Tab 1.2_2013_GDP_P_Constant'!F12*100","v":72.314608084505366},{"$f":"Tab1.1_2013_GDP_P_Current!H12/'Tab 1.2_2013_GDP_P_Constant'!G12*100","v":73.744722585235124},{"$f":"Tab1.1_2013_GDP_P_Current!I12/'Tab 1.2_2013_GDP_P_Constant'!H12*100","v":74.179969108499506},{"$f":"Tab1.1_2013_GDP_P_Current!J12/'Tab 1.2_2013_GDP_P_Constant'!I12*100","v":77.87565728343688},{"$f":"Tab1.1_2013_GDP_P_Current!K12/'Tab 1.2_2013_GDP_P_Constant'!J12*100","v":86.831357871031727},{"$f":"Tab1.1_2013_GDP_P_Current!L12/'Tab 1.2_2013_GDP_P_Constant'!K12*100","v":96.990626741942449},{"$f":"Tab1.1_2013_GDP_P_Current!M12/'Tab 1.2_2013_GDP_P_Constant'!L12*100","v":100},{"$f":"Tab1.1_2013_GDP_P_Current!N12/'Tab 1.2_2013_GDP_P_Constant'!M12*100","v":116.58167032425382},{"$f":"Tab1.1_2013_GDP_P_Current!O12/'Tab 1.2_2013_GDP_P_Constant'!N12*100","v":126.44690189358143},{"$f":"Tab1.1_2013_GDP_P_Current!P12/'Tab 1.2_2013_GDP_P_Constant'!O12*100","v":131.55252802800536},{"$f":"Tab1.1_2013_GDP_P_Current!Q12/'Tab 1.2_2013_GDP_P_Constant'!P12*100","v":124.44076769334185},{"$f":"Tab1.1_2013_GDP_P_Current!R12/'Tab 1.2_2013_GDP_P_Constant'!Q12*100","v":137.44557856162189}]
["D ","Electricity, gas, steam and air conditioning supply",{"$f":"Tab1.1_2013_GDP_P_Current!D13/'Tab 1.2_2013_GDP_P_Constant'!C13*100","v":66.273329172828284},{"$f":"Tab1.1_2013_GDP_P_Current!E13/'Tab 1.2_2013_GDP_P_Constant'!D13*100","v":72.452740298665717},{"$f":"Tab1.1_2013_GDP_P_Current!F13/'Tab 1.2_2013_GDP_P_Constant'!E13*100","v":74.881267691055754},{"$f":"Tab1.1_2013_GDP_P_Current!G13/'Tab 1.2_2013_GDP_P_Constant'!F13*100","v":76.330926826541884},{"$f":"Tab1.1_2013_GDP_P_Current!H13/'Tab 1.2_2013_GDP_P_Constant'!G13*100","v":79.599188021265164},{"$f":"Tab1.1_2013_GDP_P_Current!I13/'Tab 1.2_2013_GDP_P_Constant'!H13*100","v":83.078915755486165},{"$f":"Tab1.1_2013_GDP_P_Current!J13/'Tab 1.2_2013_GDP_P_Constant'!I13*100","v":85.155068069026186},{"$f":"Tab1.1_2013_GDP_P_Current!K13/'Tab 1.2_2013_GDP_P_Constant'!J13*100","v":88.775537242868438},{"$f":"Tab1.1_2013_GDP_P_Current!L13/'Tab 1.2_2013_GDP_P_Constant'!K13*100","v":93.54953752745395},{"$f":"Tab1.1_2013_GDP_P_Current!M13/'Tab 1.2_2013_GDP_P_Constant'!L13*100","v":100},{"$f":"Tab1.1_2013_GDP_P_Current!N13/'Tab 1.2_2013_GDP_P_Constant'!M13*100","v":99.679218757054741},{"$f":"Tab1.1_2013_GDP_P_Current!O13/'Tab 1.2_2013_GDP_P_Constant'!N13*100","v":111.56401412061831},{"$f":"Tab1.1_2013_GDP_P_Current!P13/'Tab 1.2_2013_GDP_P_Constant'!O13*100","v":111.60813595819022},{"$f":"Tab1.1_2013_GDP_P_Current!Q13/'Tab 1.2_2013_GDP_P_Constant'!P13*100","v":110.32719543217885},{"$f":"Tab1.1_2013_GDP_P_Current!R13/'Tab 1.2_2013_GDP_P_Constant'!Q13*100","v":195.48375891757283}]
["E ","Water supply, sewerage, waste management and remediation activities",{"$f":"Tab1.1_2013_GDP_P_Current!D14/'Tab 1.2_2013_GDP_P_Constant'!C14*100","v":66.273329172828284},{"$f":"Tab1.1_2013_GDP_P_Current!E14/'Tab 1.2_2013_GDP_P_Constant'!D14*100","v":72.452740298665731},{"$f":"Tab1.1_2013_GDP_P_Current!F14/'Tab 1.2_2013_GDP_P_Constant'!E14*100","v":74.88126769105574},{"$f":"Tab1.1_2013_GDP_P_Current!G14/'Tab 1.2_2013_GDP_P_Constant'!F14*100","v":76.330926826541884},{"$f":"Tab1.1_2013_GDP_P_Current!H14/'Tab 1.2_2013_GDP_P_Constant'!G14*100","v":79.599188021265149},{"$f":"Tab1.1_2013_GDP_P_Current!I14/'Tab 1.2_2013_GDP_P_Constant'!H14*100","v":83.07891575548615},{"$f":"Tab1.1_2013_GDP_P_Current!J14/'Tab 1.2_2013_GDP_P_Constant'!I14*100","v":85.155068069026171},{"$f":"Tab1.1_2013_GDP_P_Current!K14/'Tab 1.2_2013_GDP_P_Constant'!J14*100","v":88.775537242868424},{"$f":"Tab1.1_2013_GDP_P_Current!L14/'Tab 1.2_2013_GDP_P_Constant'!K14*100","v":93.549537527453936},{"$f":"Tab1.1_2013_GDP_P_Current!M14/'Tab 1.2_2013_GDP_P_Constant'!L14*100","v":100},{"$f":"Tab1.1_2013_GDP_P_Current!N14/'Tab 1.2_2013_GDP_P_Constant'!M14*100","v":100},{"$f":"Tab1.1_2013_GDP_P_Current!O14/'Tab 1.2_2013_GDP_P_Constant'!N14*100","v":110.0508246032569},{"$f":"Tab1.1_2013_GDP_P_Current!P14/'Tab 1.2_2013_GDP_P_Constant'!O14*100","v":110.05082460325686},{"$f":"Tab1.1_2013_GDP_P_Current!Q14/'Tab 1.2_2013_GDP_P_Constant'!P14*100","v":110.0508246032569},{"$f":"Tab1.1_2013_GDP_P_Current!R14/'Tab 1.2_2013_GDP_P_Constant'!Q14*100","v":110.05082460325688}]
["F ","Construction",{"$f":"Tab1.1_2013_GDP_P_Current!D15/'Tab 1.2_2013_GDP_P_Constant'!C15*100","v":68.310080861056477},{"$f":"Tab1.1_2013_GDP_P_Current!E15/'Tab 1.2_2013_GDP_P_Constant'!D15*100","v":70.467380890940689},{"$f":"Tab1.1_2013_GDP_P_Current!F15/'Tab 1.2_2013_GDP_P_Constant'!E15*100","v":71.916040896827681},{"$f":"Tab1.1_2013_GDP_P_Current!G15/'Tab 1.2_2013_GDP_P_Constant'!F15*100","v":75.796366064292116},{"$f":"Tab1.1_2013_GDP_P_Current!H15/'Tab 1.2_2013_GDP_P_Constant'!G15*100","v":79.143096324368699},{"$f":"Tab1.1_2013_GDP_P_Current!I15/'Tab 1.2_2013_GDP_P_Constant'!H15*100","v":82.783678755289657},{"$f":"Tab1.1_2013_GDP_P_Current!J15/'Tab 1.2_2013_GDP_P_Constant'!I15*100","v":86.922862693054157},{"$f":"Tab1.1_2013_GDP_P_Current!K15/'Tab 1.2_2013_GDP_P_Constant'!J15*100","v":90.74746865154853},{"$f":"Tab1.1_2013_GDP_P_Current!L15/'Tab 1.2_2013_GDP_P_Constant'!K15*100","v":94.608158173145654},{"$f":"Tab1.1_2013_GDP_P_Current!M15/'Tab 1.2_2013_GDP_P_Constant'!L15*100","v":100},{"$f":"Tab1.1_2013_GDP_P_Current!N15/'Tab 1.2_2013_GDP_P_Constant'!M15*100","v":94.683405324493691},{"$f":"Tab1.1_2013_GDP_P_Current!O15/'Tab 1.2_2013_GDP_P_Constant'!N15*100","v":133.5056181060535},{"$f":"Tab1.1_2013_GDP_P_Current!P15/'Tab 1.2_2013_GDP_P_Constant'!O15*100","v":156.45289174774871},{"$f":"Tab1.1_2013_GDP_P_Current!Q15/'Tab 1.2_2013_GDP_P_Constant'!P15*100","v":149.6411709977659},{"$f":"Tab1.1_2013_GDP_P_Current!R15/'Tab 1.2_2013_GDP_P_Constant'!Q15*100","v":124.27525063018716}]
[null,"Services",{"$f":"Tab1.1_2013_GDP_P_Current!D16/'Tab 1.2_2013_GDP_P_Constant'!C16*100","v":71.150604883065157},{"$f":"Tab1.1_2013_GDP_P_Current!E16/'Tab 1.2_2013_GDP_P_Constant'!D16*100","v":73.585312177671668},{"$f":"Tab1.1_2013_GDP_P_Current!F16/'Tab 1.2_2013_GDP_P_Constant'!E16*100","v":74.91801818564673},{"$f":"Tab1.1_2013_GDP_P_Current!G16/'Tab 1.2_2013_GDP_P_Constant'!F16*100","v":77.98635551294214},{"$f":"Tab1.1_2013_GDP_P_Current!H16/'Tab 1.2_2013_GDP_P_Constant'!G16*100","v":80.836617416136122},{"$f":"Tab1.1_2013_GDP_P_Current!I16/'Tab 1.2_2013_GDP_P_Constant'!H16*100","v":84.00909939386797},{"$f":"Tab1.1_2013_GDP_P_Current!J16/'Tab 1.2_2013_GDP_P_Constant'!I16*100","v":88.215849414929664},{"$f":"Tab1.1_2013_GDP_P_Current!K16/'Tab 1.2_2013_GDP_P_Constant'!J16*100","v":92.04356745768392},{"$f":"Tab1.1_2013_GDP_P_Current!L16/'Tab 1.2_2013_GDP_P_Constant'!K16*100","v":95.433417288346249},{"$f":"Tab1.1_2013_GDP_P_Current!M16/'Tab 1.2_2013_GDP_P_Constant'!L16*100","v":100},{"$f":"Tab1.1_2013_GDP_P_Current!N16/'Tab 1.2_2013_GDP_P_Constant'!M16*100","v":104.77656941273412},{"$f":"Tab1.1_2013_GDP_P_Current!O16/'Tab 1.2_2013_GDP_P_Constant'!N16*100","v":110.25272827073631},{"$f":"Tab1.1_2013_GDP_P_Current!P16/'Tab 1.2_2013_GDP_P_Constant'!O16*100","v":116.38565122848088},{"$f":"Tab1.1_2013_GDP_P_Current!Q16/'Tab 1.2_2013_GDP_P_Constant'!P16*100","v":124.22951535153707},{"$f":"Tab1.1_2013_GDP_P_Current!R16/'Tab 1.2_2013_GDP_P_Constant'!Q16*100","v":134.02075375525337}]
["G","Wholesale and retail trade; repair of motors and motocycles",{"$f":"Tab1.1_2013_GDP_P_Current!D17/'Tab 1.2_2013_GDP_P_Constant'!C17*100","v":69.261832080211846},{"$f":"Tab1.1_2013_GDP_P_Current!E17/'Tab 1.2_2013_GDP_P_Constant'!D17*100","v":71.193287339079376},{"$f":"Tab1.1_2013_GDP_P_Current!F17/'Tab 1.2_2013_GDP_P_Constant'!E17*100","v":72.65737973062356},{"$f":"Tab1.1_2013_GDP_P_Current!G17/'Tab 1.2_2013_GDP_P_Constant'!F17*100","v":76.558452345475246},{"$f":"Tab1.1_2013_GDP_P_Current!H17/'Tab 1.2_2013_GDP_P_Constant'!G17*100","v":79.960445771723982},{"$f":"Tab1.1_2013_GDP_P_Current!I17/'Tab 1.2_2013_GDP_P_Constant'!H17*100","v":83.607847004248953},{"$f":"Tab1.1_2013_GDP_P_Current!J17/'Tab 1.2_2013_GDP_P_Constant'!I17*100","v":88.051604072524768},{"$f":"Tab1.1_2013_GDP_P_Current!K17/'Tab 1.2_2013_GDP_P_Constant'!J17*100","v":91.925874651715844},{"$f":"Tab1.1_2013_GDP_P_Current!L17/'Tab 1.2_2013_GDP_P_Constant'!K17*100","v":95.510983763132771},{"$f":"Tab1.1_2013_GDP_P_Current!M17/'Tab 1.2_2013_GDP_P_Constant'!L17*100","v":100},{"$f":"Tab1.1_2013_GDP_P_Current!N17/'Tab 1.2_2013_GDP_P_Constant'!M17*100","v":105.49577661204135},{"$f":"Tab1.1_2013_GDP_P_Current!O17/'Tab 1.2_2013_GDP_P_Constant'!N17*100","v":112.78240948754308},{"$f":"Tab1.1_2013_GDP_P_Current!P17/'Tab 1.2_2013_GDP_P_Constant'!O17*100","v":121.25266799906424},{"$f":"Tab1.1_2013_GDP_P_Current!Q17/'Tab 1.2_2013_GDP_P_Constant'!P17*100","v":130.62096738248198},{"$f":"Tab1.1_2013_GDP_P_Current!R17/'Tab 1.2_2013_GDP_P_Constant'!Q17*100","v":138.65845693392339}]
["H ","Transport and storage",{"$f":"Tab1.1_2013_GDP_P_Current!D18/'Tab 1.2_2013_GDP_P_Constant'!C18*100","v":53.254564703395722},{"$f":"Tab1.1_2013_GDP_P_Current!E18/'Tab 1.2_2013_GDP_P_Constant'!D18*100","v":60.997939108607682},{"$f":"Tab1.1_2013_GDP_P_Current!F18/'Tab 1.2_2013_GDP_P_Constant'!E18*100","v":60.751136334725807},{"$f":"Tab1.1_2013_GDP_P_Current!G18/'Tab 1.2_2013_GDP_P_Constant'!F18*100","v":61.02733271883514},{"$f":"Tab1.1_2013_GDP_P_Current!H18/'Tab 1.2_2013_GDP_P_Constant'!G18*100","v":62.843051870929159},{"$f":"Tab1.1_2013_GDP_P_Current!I18/'Tab 1.2_2013_GDP_P_Constant'!H18*100","v":64.091868620536729},{"$f":"Tab1.1_2013_GDP_P_Current!J18/'Tab 1.2_2013_GDP_P_Constant'!I18*100","v":72.622924585253841},{"$f":"Tab1.1_2013_GDP_P_Current!K18/'Tab 1.2_2013_GDP_P_Constant'!J18*100","v":81.791663387234735},{"$f":"Tab1.1_2013_GDP_P_Current!L18/'Tab 1.2_2013_GDP_P_Constant'!K18*100","v":88.672890047877402},{"$f":"Tab1.1_2013_GDP_P_Current!M18/'Tab 1.2_2013_GDP_P_Constant'!L18*100","v":100},{"$f":"Tab1.1_2013_GDP_P_Current!N18/'Tab 1.2_2013_GDP_P_Constant'!M18*100","v":110.3571363370132},{"$f":"Tab1.1_2013_GDP_P_Current!O18/'Tab 1.2_2013_GDP_P_Constant'!N18*100","v":116.22459558527751},{"$f":"Tab1.1_2013_GDP_P_Current!P18/'Tab 1.2_2013_GDP_P_Constant'!O18*100","v":115.32177159514316},{"$f":"Tab1.1_2013_GDP_P_Current!Q18/'Tab 1.2_2013_GDP_P_Constant'!P18*100","v":117.27249976318109},{"$f":"Tab1.1_2013_GDP_P_Current!R18/'Tab 1.2_2013_GDP_P_Constant'!Q18*100","v":120.02728769320387}]
["I ","Accommodation and food service activities",{"$f":"Tab1.1_2013_GDP_P_Current!D19/'Tab 1.2_2013_GDP_P_Constant'!C19*100","v":66.116291677580278},{"$f":"Tab1.1_2013_GDP_P_Current!E19/'Tab 1.2_2013_GDP_P_Constant'!D19*100","v":69.361644100253898},{"$f":"Tab1.1_2013_GDP_P_Current!F19/'Tab 1.2_2013_GDP_P_Constant'!E19*100","v":68.66918937349908},{"$f":"Tab1.1_2013_GDP_P_Current!G19/'Tab 1.2_2013_GDP_P_Constant'!F19*100","v":70.476790805087774},{"$f":"Tab1.1_2013_GDP_P_Current!H19/'Tab 1.2_2013_GDP_P_Constant'!G19*100","v":73.834147078779012},{"$f":"Tab1.1_2013_GDP_P_Current!I19/'Tab 1.2_2013_GDP_P_Constant'!H19*100","v":77.408954296110963},{"$f":"Tab1.1_2013_GDP_P_Current!J19/'Tab 1.2_2013_GDP_P_Constant'!I19*100","v":82.405533207053054},{"$f":"Tab1.1_2013_GDP_P_Current!K19/'Tab 1.2_2013_GDP_P_Constant'!J19*100","v":88.857152438000327},{"$f":"Tab1.1_2013_GDP_P_Current!L19/'Tab 1.2_2013_GDP_P_Constant'!K19*100","v":93.59937528463459},{"$f":"Tab1.1_2013_GDP_P_Current!M19/'Tab 1.2_2013_GDP_P_Constant'!L19*100","v":100},{"$f":"Tab1.1_2013_GDP_P_Current!N19/'Tab 1.2_2013_GDP_P_Constant'!M19*100","v":104.68337121330175},{"$f":"Tab1.1_2013_GDP_P_Current!O19/'Tab 1.2_2013_GDP_P_Constant'!N19*100","v":112.69970423594739},{"$f":"Tab1.1_2013_GDP_P_Current!P19/'Tab 1.2_2013_GDP_P_Constant'!O19*100","v":122.00901249038039},{"$f":"Tab1.1_2013_GDP_P_Current!Q19/'Tab 1.2_2013_GDP_P_Constant'!P19*100","v":132.52950233099659},{"$f":"Tab1.1_2013_GDP_P_Current!R19/'Tab 1.2_2013_GDP_P_Constant'!Q19*100","v":165.86476610865986}]
["J ","Information and Communication",{"$f":"Tab1.1_2013_GDP_P_Current!D20/'Tab 1.2_2013_GDP_P_Constant'!C20*100","v":86.289558068074157},{"$f":"Tab1.1_2013_GDP_P_Current!E20/'Tab 1.2_2013_GDP_P_Constant'!D20*100","v":86.717342235443255},{"$f":"Tab1.1_2013_GDP_P_Current!F20/'Tab 1.2_2013_GDP_P_Constant'!E20*100","v":86.373988710694277},{"$f":"Tab1.1_2013_GDP_P_Current!G20/'Tab 1.2_2013_GDP_P_Constant'!F20*100","v":87.082017363947756},{"$f":"Tab1.1_2013_GDP_P_Current!H20/'Tab 1.2_2013_GDP_P_Constant'!G20*100","v":87.607887234274514},{"$f":"Tab1.1_2013_GDP_P_Current!I20/'Tab 1.2_2013_GDP_P_Constant'!H20*100","v":89.421370500024011},{"$f":"Tab1.1_2013_GDP_P_Current!J20/'Tab 1.2_2013_GDP_P_Constant'!I20*100","v":91.684266066157917},{"$f":"Tab1.1_2013_GDP_P_Current!K20/'Tab 1.2_2013_GDP_P_Constant'!J20*100","v":94.056080955150648},{"$f":"Tab1.1_2013_GDP_P_Current!L20/'Tab 1.2_2013_GDP_P_Constant'!K20*100","v":96.802045958450634},{"$f":"Tab1.1_2013_GDP_P_Current!M20/'Tab 1.2_2013_GDP_P_Constant'!L20*100","v":100},{"$f":"Tab1.1_2013_GDP_P_Current!N20/'Tab 1.2_2013_GDP_P_Constant'!M20*100","v":98.850897574300063},{"$f":"Tab1.1_2013_GDP_P_Current!O20/'Tab 1.2_2013_GDP_P_Constant'!N20*100","v":99.704614918706326},{"$f":"Tab1.1_2013_GDP_P_Current!P20/'Tab 1.2_2013_GDP_P_Constant'!O20*100","v":100.3903081529987},{"$f":"Tab1.1_2013_GDP_P_Current!Q20/'Tab 1.2_2013_GDP_P_Constant'!P20*100","v":99.953499709966437},{"$f":"Tab1.1_2013_GDP_P_Current!R20/'Tab 1.2_2013_GDP_P_Constant'!Q20*100","v":99.148058059239048}]
["K ","Financial and insurance activities",{"$f":"Tab1.1_2013_GDP_P_Current!D21/'Tab 1.2_2013_GDP_P_Constant'!C21*100","v":68.043123071371099},{"$f":"Tab1.1_2013_GDP_P_Current!E21/'Tab 1.2_2013_GDP_P_Constant'!D21*100","v":70.191992309776111},{"$f":"Tab1.1_2013_GDP_P_Current!F21/'Tab 1.2_2013_GDP_P_Constant'!E21*100","v":71.635493034761694},{"$f":"Tab1.1_2013_GDP_P_Current!G21/'Tab 1.2_2013_GDP_P_Constant'!F21*100","v":75.481699176042639},{"$f":"Tab1.1_2013_GDP_P_Current!H21/'Tab 1.2_2013_GDP_P_Constant'!G21*100","v":78.83584540721526},{"$f":"Tab1.1_2013_GDP_P_Current!I21/'Tab 1.2_2013_GDP_P_Constant'!H21*100","v":82.431947916777702},{"$f":"Tab1.1_2013_GDP_P_Current!J21/'Tab 1.2_2013_GDP_P_Constant'!I21*100","v":86.594218386369235},{"$f":"Tab1.1_2013_GDP_P_Current!K21/'Tab 1.2_2013_GDP_P_Constant'!J21*100","v":90.747468651548559},{"$f":"Tab1.1_2013_GDP_P_Current!L21/'Tab 1.2_2013_GDP_P_Constant'!K21*100","v":94.608158173145668},{"$f":"Tab1.1_2013_GDP_P_Current!M21/'Tab 1.2_2013_GDP_P_Constant'!L21*100","v":100},{"$f":"Tab1.1_2013_GDP_P_Current!N21/'Tab 1.2_2013_GDP_P_Constant'!M21*100","v":107.82946765618236},{"$f":"Tab1.1_2013_GDP_P_Current!O21/'Tab 1.2_2013_GDP_P_Constant'!N21*100","v":99.257143569127933},{"$f":"Tab1.1_2013_GDP_P_Current!P21/'Tab 1.2_2013_GDP_P_Constant'!O21*100","v":98.293211411328073},{"$f":"Tab1.1_2013_GDP_P_Current!Q21/'Tab 1.2_2013_GDP_P_Constant'!P21*100","v":118.29093633797648},{"$f":"Tab1.1_2013_GDP_P_Current!R21/'Tab 1.2_2013_GDP_P_Constant'!Q21*100","v":194.70935279793798}]
["L ","Real estate activities",{"$f":"Tab1.1_2013_GDP_P_Current!D22/'Tab 1.2_2013_GDP_P_Constant'!C22*100","v":80.928681021647037},{"$f":"Tab1.1_2013_GDP_P_Current!E22/'Tab 1.2_2013_GDP_P_Constant'!D22*100","v":83.561157937678558},{"$f":"Tab1.1_2013_GDP_P_Current!F22/'Tab 1.2_2013_GDP_P_Constant'!E22*100","v":89.021549123811738},{"$f":"Tab1.1_2013_GDP_P_Current!G22/'Tab 1.2_2013_GDP_P_Constant'!F22*100","v":91.829774355262899},{"$f":"Tab1.1_2013_GDP_P_Current!H22/'Tab 1.2_2013_GDP_P_Constant'!G22*100","v":93.051797438689761},{"$f":"Tab1.1_2013_GDP_P_Current!I22/'Tab 1.2_2013_GDP_P_Constant'!H22*100","v":96.199923130431856},{"$f":"Tab1.1_2013_GDP_P_Current!J22/'Tab 1.2_2013_GDP_P_Constant'!I22*100","v":97.393828075917625},{"$f":"Tab1.1_2013_GDP_P_Current!K22/'Tab 1.2_2013_GDP_P_Constant'!J22*100","v":97.934933253268369},{"$f":"Tab1.1_2013_GDP_P_Current!L22/'Tab 1.2_2013_GDP_P_Constant'!K22*100","v":97.945265760162187},{"$f":"Tab1.1_2013_GDP_P_Current!M22/'Tab 1.2_2013_GDP_P_Constant'!L22*100","v":100},{"$f":"Tab1.1_2013_GDP_P_Current!N22/'Tab 1.2_2013_GDP_P_Constant'!M22*100","v":92.779447680483671},{"$f":"Tab1.1_2013_GDP_P_Current!O22/'Tab 1.2_2013_GDP_P_Constant'!N22*100","v":102.67614109471633},{"$f":"Tab1.1_2013_GDP_P_Current!P22/'Tab 1.2_2013_GDP_P_Constant'!O22*100","v":106.70736718009701},{"$f":"Tab1.1_2013_GDP_P_Current!Q22/'Tab 1.2_2013_GDP_P_Constant'!P22*100","v":110.75929103246311},{"$f":"Tab1.1_2013_GDP_P_Current!R22/'Tab 1.2_2013_GDP_P_Constant'!Q22*100","v":113.79973620338133}]
["M ","Professional, scientific and technical activities",{"$f":"Tab1.1_2013_GDP_P_Current!D23/'Tab 1.2_2013_GDP_P_Constant'!C23*100","v":80.92868102164708},{"$f":"Tab1.1_2013_GDP_P_Current!E23/'Tab 1.2_2013_GDP_P_Constant'!D23*100","v":83.561157937678601},{"$f":"Tab1.1_2013_GDP_P_Current!F23/'Tab 1.2_2013_GDP_P_Constant'!E23*100","v":89.021549123811766},{"$f":"Tab1.1_2013_GDP_P_Current!G23/'Tab 1.2_2013_GDP_P_Constant'!F23*100","v":91.829774355262899},{"$f":"Tab1.1_2013_GDP_P_Current!H23/'Tab 1.2_2013_GDP_P_Constant'!G23*100","v":93.051797438689761},{"$f":"Tab1.1_2013_GDP_P_Current!I23/'Tab 1.2_2013_GDP_P_Constant'!H23*100","v":96.19992313043187},{"$f":"Tab1.1_2013_GDP_P_Current!J23/'Tab 1.2_2013_GDP_P_Constant'!I23*100","v":97.393828075917639},{"$f":"Tab1.1_2013_GDP_P_Current!K23/'Tab 1.2_2013_GDP_P_Constant'!J23*100","v":97.934933253268397},{"$f":"Tab1.1_2013_GDP_P_Current!L23/'Tab 1.2_2013_GDP_P_Constant'!K23*100","v":97.945265760162215},{"$f":"Tab1.1_2013_GDP_P_Current!M23/'Tab 1.2_2013_GDP_P_Constant'!L23*100","v":100},{"$f":"Tab1.1_2013_GDP_P_Current!N23/'Tab 1.2_2013_GDP_P_Constant'!M23*100","v":103.85511369328462},{"$f":"Tab1.1_2013_GDP_P_Current!O23/'Tab 1.2_2013_GDP_P_Constant'!N23*100","v":108.63841520402464},{"$f":"Tab1.1_2013_GDP_P_Current!P23/'Tab 1.2_2013_GDP_P_Constant'!O23*100","v":114.98371131168589},{"$f":"Tab1.1_2013_GDP_P_Current!Q23/'Tab 1.2_2013_GDP_P_Constant'!P23*100","v":122.25529236571036},{"$f":"Tab1.1_2013_GDP_P_Current!R23/'Tab 1.2_2013_GDP_P_Constant'!Q23*100","v":129.5252684527911}]
["N ","Administrative and support service activities",{"$f":"Tab1.1_2013_GDP_P_Current!D24/'Tab 1.2_2013_GDP_P_Constant'!C24*100","v":80.928681021647108},{"$f":"Tab1.1_2013_GDP_P_Current!E24/'Tab 1.2_2013_GDP_P_Constant'!D24*100","v":83.561157937678615},{"$f":"Tab1.1_2013_GDP_P_Current!F24/'Tab 1.2_2013_GDP_P_Constant'!E24*100","v":89.021549123811781},{"$f":"Tab1.1_2013_GDP_P_Current!G24/'Tab 1.2_2013_GDP_P_Constant'!F24*100","v":91.829774355262899},{"$f":"Tab1.1_2013_GDP_P_Current!H24/'Tab 1.2_2013_GDP_P_Constant'!G24*100","v":93.051797438689789},{"$f":"Tab1.1_2013_GDP_P_Current!I24/'Tab 1.2_2013_GDP_P_Constant'!H24*100","v":96.19992313043187},{"$f":"Tab1.1_2013_GDP_P_Current!J24/'Tab 1.2_2013_GDP_P_Constant'!I24*100","v":97.393828075917668},{"$f":"Tab1.1_2013_GDP_P_Current!K24/'Tab 1.2_2013_GDP_P_Constant'!J24*100","v":97.934933253268412},{"$f":"Tab1.1_2013_GDP_P_Current!L24/'Tab 1.2_2013_GDP_P_Constant'!K24*100","v":97.945265760162229},{"$f":"Tab1.1_2013_GDP_P_Current!M24/'Tab 1.2_2013_GDP_P_Constant'!L24*100","v":100},{"$f":"Tab1.1_2013_GDP_P_Current!N24/'Tab 1.2_2013_GDP_P_Constant'!M24*100","v":102.81956241300465},{"$f":"Tab1.1_2013_GDP_P_Current!O24/'Tab 1.2_2013_GDP_P_Constant'!N24*100","v":105.07668321047427},{"$f":"Tab1.1_2013_GDP_P_Current!P24/'Tab 1.2_2013_GDP_P_Constant'!O24*100","v":114.28103607280995},{"$f":"Tab1.1_2013_GDP_P_Current!Q24/'Tab 1.2_2013_GDP_P_Constant'!P24*100","v":128.36807364806364},{"$f":"Tab1.1_2013_GDP_P_Current!R24/'Tab 1.2_2013_GDP_P_Constant'!Q24*100","v":130.00201275629374}]
["O","Public administration and defence; compulsory social security",{"$f":"Tab1.1_2013_GDP_P_Current!D25/'Tab 1.2_2013_GDP_P_Constant'!C25*100","v":68.043123071371141},{"$f":"Tab1.1_2013_GDP_P_Current!E25/'Tab 1.2_2013_GDP_P_Constant'!D25*100","v":70.191992309776168},{"$f":"Tab1.1_2013_GDP_P_Current!F25/'Tab 1.2_2013_GDP_P_Constant'!E25*100","v":71.635493034761708},{"$f":"Tab1.1_2013_GDP_P_Current!G25/'Tab 1.2_2013_GDP_P_Constant'!F25*100","v":75.481699176042653},{"$f":"Tab1.1_2013_GDP_P_Current!H25/'Tab 1.2_2013_GDP_P_Constant'!G25*100","v":78.835845407215274},{"$f":"Tab1.1_2013_GDP_P_Current!I25/'Tab 1.2_2013_GDP_P_Constant'!H25*100","v":82.434243600966113},{"$f":"Tab1.1_2013_GDP_P_Current!J25/'Tab 1.2_2013_GDP_P_Constant'!I25*100","v":86.594218386369249},{"$f":"Tab1.1_2013_GDP_P_Current!K25/'Tab 1.2_2013_GDP_P_Constant'!J25*100","v":90.747468651548573},{"$f":"Tab1.1_2013_GDP_P_Current!L25/'Tab 1.2_2013_GDP_P_Constant'!K25*100","v":94.608158173145668},{"$f":"Tab1.1_2013_GDP_P_Current!M25/'Tab 1.2_2013_GDP_P_Constant'!L25*100","v":100},{"$f":"Tab1.1_2013_GDP_P_Current!N25/'Tab 1.2_2013_GDP_P_Constant'!M25*100","v":105.94799935696624},{"$f":"Tab1.1_2013_GDP_P_Current!O25/'Tab 1.2_2013_GDP_P_Constant'!N25*100","v":113.16142115915765},{"$f":"Tab1.1_2013_GDP_P_Current!P25/'Tab 1.2_2013_GDP_P_Constant'!O25*100","v":121.34162573441483},{"$f":"Tab1.1_2013_GDP_P_Current!Q25/'Tab 1.2_2013_GDP_P_Constant'!P25*100","v":131.09044218614255},{"$f":"Tab1.1_2013_GDP_P_Current!R25/'Tab 1.2_2013_GDP_P_Constant'!Q25*100","v":139.63880828607614}]
["P ","Education",{"$f":"Tab1.1_2013_GDP_P_Current!D26/'Tab 1.2_2013_GDP_P_Constant'!C26*100","v":93.299451360883197},{"$f":"Tab1.1_2013_GDP_P_Current!E26/'Tab 1.2_2013_GDP_P_Constant'!D26*100","v":96.225475416764226},{"$f":"Tab1.1_2013_GDP_P_Current!F26/'Tab 1.2_2013_GDP_P_Constant'!E26*100","v":94.891368640216285},{"$f":"Tab1.1_2013_GDP_P_Current!G26/'Tab 1.2_2013_GDP_P_Constant'!F26*100","v":94.935071274960222},{"$f":"Tab1.1_2013_GDP_P_Current!H26/'Tab 1.2_2013_GDP_P_Constant'!G26*100","v":95.059871582424904},{"$f":"Tab1.1_2013_GDP_P_Current!I26/'Tab 1.2_2013_GDP_P_Constant'!H26*100","v":95.664895197395836},{"$f":"Tab1.1_2013_GDP_P_Current!J26/'Tab 1.2_2013_GDP_P_Constant'!I26*100","v":96.070991107262131},{"$f":"Tab1.1_2013_GDP_P_Current!K26/'Tab 1.2_2013_GDP_P_Constant'!J26*100","v":98.639883290419377},{"$f":"Tab1.1_2013_GDP_P_Current!L26/'Tab 1.2_2013_GDP_P_Constant'!K26*100","v":99.521323819261909},{"$f":"Tab1.1_2013_GDP_P_Current!M26/'Tab 1.2_2013_GDP_P_Constant'!L26*100","v":100},{"$f":"Tab1.1_2013_GDP_P_Current!N26/'Tab 1.2_2013_GDP_P_Constant'!M26*100","v":99.867006710412312},{"$f":"Tab1.1_2013_GDP_P_Current!O26/'Tab 1.2_2013_GDP_P_Constant'!N26*100","v":100.73444207519944},{"$f":"Tab1.1_2013_GDP_P_Current!P26/'Tab 1.2_2013_GDP_P_Constant'!O26*100","v":101.55454832070218},{"$f":"Tab1.1_2013_GDP_P_Current!Q26/'Tab 1.2_2013_GDP_P_Constant'!P26*100","v":101.44220264820207},{"$f":"Tab1.1_2013_GDP_P_Current!R26/'Tab 1.2_2013_GDP_P_Constant'!Q26*100","v":101.53025125095073}]
["Q ","Human health and social work activities",{"$f":"Tab1.1_2013_GDP_P_Current!D27/'Tab 1.2_2013_GDP_P_Constant'!C27*100","v":97.372912830532499},{"$f":"Tab1.1_2013_GDP_P_Current!E27/'Tab 1.2_2013_GDP_P_Constant'!D27*100","v":98.110936141536712},{"$f":"Tab1.1_2013_GDP_P_Current!F27/'Tab 1.2_2013_GDP_P_Constant'!E27*100","v":97.861653357947489},{"$f":"Tab1.1_2013_GDP_P_Current!G27/'Tab 1.2_2013_GDP_P_Constant'!F27*100","v":98.128018239112663},{"$f":"Tab1.1_2013_GDP_P_Current!H27/'Tab 1.2_2013_GDP_P_Constant'!G27*100","v":98.412965763908986},{"$f":"Tab1.1_2013_GDP_P_Current!I27/'Tab 1.2_2013_GDP_P_Constant'!H27*100","v":99.095480023054336},{"$f":"Tab1.1_2013_GDP_P_Current!J27/'Tab 1.2_2013_GDP_P_Constant'!I27*100","v":99.185111788383338},{"$f":"Tab1.1_2013_GDP_P_Current!K27/'Tab 1.2_2013_GDP_P_Constant'!J27*100","v":99.251888280541749},{"$f":"Tab1.1_2013_GDP_P_Current!L27/'Tab 1.2_2013_GDP_P_Constant'!K27*100","v":99.573231697972105},{"$f":"Tab1.1_2013_GDP_P_Current!M27/'Tab 1.2_2013_GDP_P_Constant'!L27*100","v":100},{"$f":"Tab1.1_2013_GDP_P_Current!N27/'Tab 1.2_2013_GDP_P_Constant'!M27*100","v":122.1626431861544},{"$f":"Tab1.1_2013_GDP_P_Current!O27/'Tab 1.2_2013_GDP_P_Constant'!N27*100","v":128.29769897210033},{"$f":"Tab1.1_2013_GDP_P_Current!P27/'Tab 1.2_2013_GDP_P_Constant'!O27*100","v":131.4242343544008},{"$f":"Tab1.1_2013_GDP_P_Current!Q27/'Tab 1.2_2013_GDP_P_Constant'!P27*100","v":132.77745712190872},{"$f":"Tab1.1_2013_GDP_P_Current!R27/'Tab 1.2_2013_GDP_P_Constant'!Q27*100","v":134.24422879869761}]
["R","Arts, entertainment and recreation",{"$f":"Tab1.1_2013_GDP_P_Current!D28/'Tab 1.2_2013_GDP_P_Constant'!C28*100","v":88.013883923094426},{"$f":"Tab1.1_2013_GDP_P_Current!E28/'Tab 1.2_2013_GDP_P_Constant'!D28*100","v":89.144961257906814},{"$f":"Tab1.1_2013_GDP_P_Current!F28/'Tab 1.2_2013_GDP_P_Constant'!E28*100","v":90.18839023459752},{"$f":"Tab1.1_2013_GDP_P_Current!G28/'Tab 1.2_2013_GDP_P_Constant'!F28*100","v":91.10824550931126},{"$f":"Tab1.1_2013_GDP_P_Current!H28/'Tab 1.2_2013_GDP_P_Constant'!G28*100","v":91.498446217835848},{"$f":"Tab1.1_2013_GDP_P_Current!I28/'Tab 1.2_2013_GDP_P_Constant'!H28*100","v":92.308961458541432},{"$f":"Tab1.1_2013_GDP_P_Current!J28/'Tab 1.2_2013_GDP_P_Constant'!I28*100","v":93.41291132029184},{"$f":"Tab1.1_2013_GDP_P_Current!K28/'Tab 1.2_2013_GDP_P_Constant'!J28*100","v":94.828555357868922},{"$f":"Tab1.1_2013_GDP_P_Current!L28/'Tab 1.2_2013_GDP_P_Constant'!K28*100","v":97.249324807229698},{"$f":"Tab1.1_2013_GDP_P_Current!M28/'Tab 1.2_2013_GDP_P_Constant'!L28*100","v":100},{"$f":"Tab1.1_2013_GDP_P_Current!N28/'Tab 1.2_2013_GDP_P_Constant'!M28*100","v":101.7860184804137},{"$f":"Tab1.1_2013_GDP_P_Current!O28/'Tab 1.2_2013_GDP_P_Constant'!N28*100","v":103.93581228235691},{"$f":"Tab1.1_2013_GDP_P_Current!P28/'Tab 1.2_2013_GDP_P_Constant'!O28*100","v":108.33294267561915},{"$f":"Tab1.1_2013_GDP_P_Current!Q28/'Tab 1.2_2013_GDP_P_Constant'!P28*100","v":114.7463952217571},{"$f":"Tab1.1_2013_GDP_P_Current!R28/'Tab 1.2_2013_GDP_P_Constant'!Q28*100","v":124.07360866292834}]
["S ","Other service activities",{"$f":"Tab1.1_2013_GDP_P_Current!D29/'Tab 1.2_2013_GDP_P_Constant'!C29*100","v":88.013883923094454},{"$f":"Tab1.1_2013_GDP_P_Current!E29/'Tab 1.2_2013_GDP_P_Constant'!D29*100","v":89.144961257906814},{"$f":"Tab1.1_2013_GDP_P_Current!F29/'Tab 1.2_2013_GDP_P_Constant'!E29*100","v":90.188390234597534},{"$f":"Tab1.1_2013_GDP_P_Current!G29/'Tab 1.2_2013_GDP_P_Constant'!F29*100","v":91.108245509311274},{"$f":"Tab1.1_2013_GDP_P_Current!H29/'Tab 1.2_2013_GDP_P_Constant'!G29*100","v":91.498446217835877},{"$f":"Tab1.1_2013_GDP_P_Current!I29/'Tab 1.2_2013_GDP_P_Constant'!H29*100","v":92.308961458541461},{"$f":"Tab1.1_2013_GDP_P_Current!J29/'Tab 1.2_2013_GDP_P_Constant'!I29*100","v":93.41291132029184},{"$f":"Tab1.1_2013_GDP_P_Current!K29/'Tab 1.2_2013_GDP_P_Constant'!J29*100","v":94.82855535786895},{"$f":"Tab1.1_2013_GDP_P_Current!L29/'Tab 1.2_2013_GDP_P_Constant'!K29*100","v":97.249324807229698},{"$f":"Tab1.1_2013_GDP_P_Current!M29/'Tab 1.2_2013_GDP_P_Constant'!L29*100","v":100},{"$f":"Tab1.1_2013_GDP_P_Current!N29/'Tab 1.2_2013_GDP_P_Constant'!M29*100","v":103.59577249069403},{"$f":"Tab1.1_2013_GDP_P_Current!O29/'Tab 1.2_2013_GDP_P_Constant'!N29*100","v":108.4059699793863},{"$f":"Tab1.1_2013_GDP_P_Current!P29/'Tab 1.2_2013_GDP_P_Constant'!O29*100","v":114.86004292531445},{"$f":"Tab1.1_2013_GDP_P_Current!Q29/'Tab 1.2_2013_GDP_P_Constant'!P29*100","v":121.80815174106054},{"$f":"Tab1.1_2013_GDP_P_Current!R29/'Tab 1.2_2013_GDP_P_Constant'!Q29*100","v":128.6681653222555}]
[null,"GDP basic price (Gross Value Added)",{"$f":"Tab1.1_2013_GDP_P_Current!D30/'Tab 1.2_2013_GDP_P_Constant'!C30*100","v":69.856166659823018},{"$f":"Tab1.1_2013_GDP_P_Current!E30/'Tab 1.2_2013_GDP_P_Constant'!D30*100","v":73.040574106630345},{"$f":"Tab1.1_2013_GDP_P_Current!F30/'Tab 1.2_2013_GDP_P_Constant'!E30*100","v":73.292072409534711},{"$f":"Tab1.1_2013_GDP_P_Current!G30/'Tab 1.2_2013_GDP_P_Constant'!F30*100","v":76.126351121695023},{"$f":"Tab1.1_2013_GDP_P_Current!H30/'Tab 1.2_2013_GDP_P_Constant'!G30*100","v":78.929148119760555},{"$f":"Tab1.1_2013_GDP_P_Current!I30/'Tab 1.2_2013_GDP_P_Constant'!H30*100","v":81.706820854205915},{"$f":"Tab1.1_2013_GDP_P_Current!J30/'Tab 1.2_2013_GDP_P_Constant'!I30*100","v":87.444068285644178},{"$f":"Tab1.1_2013_GDP_P_Current!K30/'Tab 1.2_2013_GDP_P_Constant'!J30*100","v":91.108257414841901},{"$f":"Tab1.1_2013_GDP_P_Current!L30/'Tab 1.2_2013_GDP_P_Constant'!K30*100","v":94.840880436510517},{"$f":"Tab1.1_2013_GDP_P_Current!M30/'Tab 1.2_2013_GDP_P_Constant'!L30*100","v":100},{"$f":"Tab1.1_2013_GDP_P_Current!N30/'Tab 1.2_2013_GDP_P_Constant'!M30*100","v":103.98938617969944},{"$f":"Tab1.1_2013_GDP_P_Current!O30/'Tab 1.2_2013_GDP_P_Constant'!N30*100","v":113.03125980104151},{"$f":"Tab1.1_2013_GDP_P_Current!P30/'Tab 1.2_2013_GDP_P_Constant'!O30*100","v":122.3447003061406},{"$f":"Tab1.1_2013_GDP_P_Current!Q30/'Tab 1.2_2013_GDP_P_Constant'!P30*100","v":128.16853197570254},{"$f":"Tab1.1_2013_GDP_P_Current!R30/'Tab 1.2_2013_GDP_P_Constant'!Q30*100","v":134.2631398296536}]
[null,"Taxes less subsidies on products (+)",{"$f":"Tab1.1_2013_GDP_P_Current!D31/'Tab 1.2_2013_GDP_P_Constant'!C31*100","v":68.352372021678988},{"$f":"Tab1.1_2013_GDP_P_Current!E31/'Tab 1.2_2013_GDP_P_Constant'!D31*100","v":66.486004500092122},{"$f":"Tab1.1_2013_GDP_P_Current!F31/'Tab 1.2_2013_GDP_P_Constant'!E31*100","v":77.872217675145492},{"$f":"Tab1.1_2013_GDP_P_Current!G31/'Tab 1.2_2013_GDP_P_Constant'!F31*100","v":87.213408133696205},{"$f":"Tab1.1_2013_GDP_P_Current!H31/'Tab 1.2_2013_GDP_P_Constant'!G31*100","v":75.795428531537709},{"$f":"Tab1.1_2013_GDP_P_Current!I31/'Tab 1.2_2013_GDP_P_Constant'!H31*100","v":90.8873061591664},{"$f":"Tab1.1_2013_GDP_P_Current!J31/'Tab 1.2_2013_GDP_P_Constant'!I31*100","v":79.314841200082512},{"$f":"Tab1.1_2013_GDP_P_Current!K31/'Tab 1.2_2013_GDP_P_Constant'!J31*100","v":88.007639678583288},{"$f":"Tab1.1_2013_GDP_P_Current!L31/'Tab 1.2_2013_GDP_P_Constant'!K31*100","v":88.182361210058374},{"$f":"Tab1.1_2013_GDP_P_Current!M31/'Tab 1.2_2013_GDP_P_Constant'!L31*100","v":100},{"$f":"Tab1.1_2013_GDP_P_Current!N31/'Tab 1.2_2013_GDP_P_Constant'!M31*100","v":121.95208054402762},{"$f":"Tab1.1_2013_GDP_P_Current!O31/'Tab 1.2_2013_GDP_P_Constant'!N31*100","v":148.35906553493959},{"$f":"Tab1.1_2013_GDP_P_Current!P31/'Tab 1.2_2013_GDP_P_Constant'!O31*100","v":153.4759595133134},{"$f":"Tab1.1_2013_GDP_P_Current!Q31/'Tab 1.2_2013_GDP_P_Constant'!P31*100","v":145.43544595154566},{"$f":"Tab1.1_2013_GDP_P_Current!R31/'Tab 1.2_2013_GDP_P_Constant'!Q31*100","v":160.88490725061467}]
[]
[]
[null,"2018* Provisional data"]