{"text_format":"2","workbook":"xlsx","n_sheets":7,"sheets":["Table list","T.1.","T.2","T.3","T.1.1","T.1.2","T.1.3"],"not_rendered":{"charts":0,"images":0,"macros":0,"external_links":25,"defined_names":250,"comments":0,"pivot_tables":0},"unopened":[],"bounds":{"document_bytes":16777216,"sheet_cells":100000,"run_cost":"one","rows_first":2000,"rows_last":500,"rows_between":2000,"halvings":0,"cell_chars":16384,"cell_head_chars":4096},"cells_cut":0,"cells_raw":0,"read":"whole","date_system":"1900"}

{"sheet":"Table list","index":0,"n_rows":13,"n_cols":2,"rows_kept":13,"cut":false,"hidden":false,"merged":[[1,0,1,1]]}
["QUARTERLY GDP BY PRODUCTION APPROACH"]
[]
[]
[null,"Not Seasonally Adjusted Data"]
[null,"Main Economic Activities"]
["Table 1","QGDP at Current prices "]
["Table 2","QGDP at Constant Prices (base year 2013)"]
["Table 3","QGDP (2013=100), Real Growth Rates, comparison with corresponding quarter of previous year"]
[]
[null,"Detailed  Economic Activities"]
["Table 1.1","QGDP at Current prices"]
["Table 1.2","QGDP at Constant Prices (base year 2013)"]
["Table 1.3","QGDP (2013=100), Real Growth Rates, comparison with corresponding quarter of previous year"]

{"sheet":"T.1.","index":1,"n_rows":66,"n_cols":9,"rows_kept":66,"cut":false,"hidden":false,"merged":[[4,5,6,5],[4,6,6,6],[4,7,6,7],[13,0,13,1],[5,3,6,3],[5,4,6,4],[4,0,6,1],[4,2,4,4],[5,2,6,2],[9,0,9,1],[10,0,10,1],[11,0,11,1],[12,0,12,1],[19,0,19,1],[14,0,14,1],[15,0,15,1],[16,0,16,1],[17,0,17,1],[18,0,18,1]]}
["Table 1: Quarterly Gross Value Added at Current Prices (Main Economic Activities)"]
[]
["Non-Seasonally Adjusted"]
[{"$nulls":7},"              (D'000)"]
["ISIC Rev.4",null,"Gross value added by main industries",null,null,"Gross value added","Net Taxes","Gross domestic product"]
[null,null,"Agriculture, forestry and fishing","Industry","Services"]
[]
[null,null,1,2,3,"4=1+2+3",5,"6=4+5","Deflator"]
[]
[2013,null,12970404.906372989,5883544.6488688737,27267449.156443447,46121398.711685307,3342197.8694699993,49463596.581155308]
[2014,null,11523423.632768717,6780409.7912325142,28958193.717691038,47262027.141692281,4047052.1972400001,51309079.338932276]
[2015,null,13010201.236767648,10042816.759178851,30397588.340229586,53450606.33617609,5130455.2650000006,58581061.601176083]
[2016,null,14076528.855379641,13480415.600798614,31421024.709443517,58977969.165621772,5411970.103379501,64389939.269001268]
[2017,null,14731188.512645517,12550369.898807073,37473714.536627561,64755272.948080167,5386915.29727,70142188.245350152]
[2018,null,15985864.548822053,13925510.508670548,44167774.503517836,74079149.56101042,6366650.3794799997,80445799.94049044]
[2019,null,18162426.274161406,15691523.889398422,49731583.626456924,83585533.790016741,7208230.66065,90793764.450666741]
[2020,null,19826989.52823814,15729512.424673043,50354891.215618722,85911393.168529898,7418415.9566200003,93329809.125149906]
[2021,null,24873070.983904831,16753581.212774646,56322856.920253366,97949509.116932839,7537528.4096714985,105487037.52660435]
["2022*",null,29651805.670603059,18563523.676540922,67173073.381365314,115388402.72850931,7175660.4882917553,122564063.21680105]
["2023*",null,34364342.647360452,24438969.536346585,78696412.465247452,137499724.64895448,9509412.1498393398,147009136.79879382]
[]
[2013,"Q1",2320993.1417176682,1375760.9954541458,6734143.5411682725,10430897.678340087,743443.3134562542,11174340.991796341]
[null,"Q2",2657817.161535372,1702036.9799827347,7555381.3429149939,11915235.4844331,783798.21276344568,12699033.697196545]
[null,"Q3",6018985.0803183587,1343539.7941538296,6385500.1057094354,13748024.980181623,1018338.0257769184,14766363.005958542]
[null,"Q4",1972609.5228015906,1462206.8792781644,6592424.1666507404,10027240.568730496,796618.31747338094,10823858.886203878]
[2014,"Q1",2249124.114909396,1602440.0860932148,7416017.1671409244,11267581.368143534,972255.2289074969,12239836.597051032]
[null,"Q2",2417183.8127495386,1961721.8000675072,7567836.0360886836,11946741.64890573,1013092.5309195417,12959834.179825272]
[null,"Q3",4948596.0551681342,1751388.6325707007,7128461.1896458566,13828445.877384692,1133112.3044734511,14961558.181858143]
[null,"Q4",1908519.6499416502,1464859.2725010915,6845879.324815575,10219258.247258317,928592.1329395104,11147850.380197827]
[2015,"Q1",2556959.2769235899,2731651.0638130167,7983079.2737952312,13271689.614531837,1206125.783491625,14477815.398023462]
[null,"Q2",2775286.1298140753,2907159.2166900458,8453951.6521724109,14136396.998676533,1299797.2956382597,15436194.294314792]
[null,"Q3",5491640.7892462686,2291390.2767578745,6529357.2526632808,14312388.318667423,1386285.2890999909,15698673.607767414]
[null,"Q4",2186315.0407837145,2112616.2019179137,7431200.1615986656,11730131.404300295,1238246.8967701243,12968378.301070418]
[2016,"Q1",2970700.0020639179,4244175.2014963366,8168112.3659385331,15382987.569498789,1353917.7562178634,16736905.325716652]
[null,"Q2",3013596.8914348646,4448516.9487410383,8054830.5060670702,15516944.346242974,1404813.2897941347,16921757.636037108]
[null,"Q3",5609602.2489142912,2450848.7612112351,7154944.7337842211,15215395.743909746,1372300.4442280333,16587696.188137779]
[null,"Q4",2482629.7129665688,2336874.6893500052,8043137.1036536898,12862641.505970264,1280938.6131394687,14143580.119109733]
[2017,"Q1",3483170.3665814782,2938807.1762337578,8196889.02017048,14618866.562985715,1098753.4136015044,15717619.976587219]
[null,"Q2",3344468.9119055644,4354305.3115408756,9547757.5056121815,17246531.729058623,1370768.8365466276,18617300.565605249]
[null,"Q3",5301857.8675255775,2478301.8743794058,9763404.6831081845,17543564.42501317,1421368.6372551981,18964933.062268369]
[null,"Q4",2601691.3666328965,2778955.5366530349,9965663.3277367204,15346310.231022652,1496024.4098666699,16842334.640889321]
[2018,"Q1",3661779.1929931846,3065483.8828101,10228911.032066531,16956174.107869819,1619136.3826991084,18575310.490568928]
[null,"Q2",3679070.4114383049,5329760.4744129647,10368119.918616904,19376950.804468174,1614201.204113011,20991152.008581184]
[null,"Q3",5839987.8970444724,3139893.0691789361,11590595.44139348,20570476.407616887,1571027.0405268697,22141503.448143758]
[null,"Q4",2805027.04734609,2390373.0822685491,11980148.111440916,17175548.241055556,1562285.7521410107,18737833.993196566]
[2019,"Q1",4423200.8054201463,3580398.2088194871,12852015.058755295,20855614.072994929,1721472.9203938518,22577086.993388779]
[null,"Q2",4579277.7722739754,5409821.1731785806,13227948.660110543,23217047.6055631,1890072.2104577054,25107119.816020805]
[null,"Q3",5906521.6262249062,3659093.4557630401,11435530.73899571,21001145.820983656,1820324.8938327443,22821470.714816399]
[null,"Q4",3253426.0702423789,3042211.0516373133,12216089.168595372,18511726.290475063,1776360.6359656986,20288086.92644076]
[2020,"Q1",4966607.1901277229,4004861.7611205475,14916333.959991924,23887802.911240194,2077345.9256656051,25965148.8369058]
[null,"Q2",4779193.0099734729,5226544.1512972824,12181623.765163489,22187360.926434245,1799002.4360700604,23986363.362504303]
[null,"Q3",6369019.4050015556,3382264.3848128417,11855971.797812365,21607255.587626763,1750292.0653976507,23357547.653024413]
[null,"Q4",3712169.9231353905,3115842.127442373,11400961.692650946,18228973.743228711,1791775.5294866846,20020749.272715397]
[2021,"Q1",6100630.0769691728,3832721.0267902808,14194374.229102097,24127725.33286155,1863846.0850517852,25991571.417913336]
[null,"Q2",6115343.9352053627,4968845.4178783018,13917998.81489002,25002188.167973682,2028304.6160358912,27030492.784009572]
[null,"Q3",8057605.8720708694,4313107.4895284921,13373150.857627453,25743864.219226815,2012655.5710031593,27756519.790229972]
[null,"Q4",4599491.0996594289,3638907.2785775699,14837333.0186338,23075731.396870799,1632722.1375806634,24708453.534451462]
["2022*","Q1",7149128.8063942287,4178699.1260896646,16592455.371938206,27920283.304422103,1859691.122048985,29779974.426471088]
[null,"Q2",6981668.5986429416,5377411.1029629922,16791405.227358714,29150484.928964648,1606988.3553012072,30757473.284265857]
[null,"Q3",10017127.981821958,4623361.7456917139,16240292.977626225,30880782.705139898,1674906.9588577803,32555689.66399768]
[null,"Q4",5503880.2837439328,4384051.7017965503,17548919.804442164,27436851.789982647,2034074.0520837824,29470925.84206643]
["2023*","Q1",{"$f":"'[23]T.1.'!C61","v":8319998.4156837128},{"$f":"'[23]T.1.'!D61","v":5428523.9843652053},{"$f":"'[23]T.1.'!E61","v":19120847.318053842},{"$f":"'[23]T.1.'!F61","v":32869369.718102761},{"$f":"'[23]T.1.'!G61","v":2240445.8450519517},{"$f":"'[23]T.1.'!H61","v":35109815.563154712}]
[null,"Q2",{"$f":"'[23]T.1.'!C62","v":7950454.4138775524},{"$f":"'[23]T.1.'!D62","v":8360551.7356403731},{"$f":"'[23]T.1.'!E62","v":18846814.595607068},{"$f":"'[23]T.1.'!F62","v":35157820.745124996},{"$f":"'[23]T.1.'!G62","v":2489540.8450099449},{"$f":"'[23]T.1.'!H62","v":37647361.590134941}]
[null,"Q3",{"$f":"'[24]T.1.'!C63","v":10782997.431900516},{"$f":"'[24]T.1.'!D63","v":5204100.9363972321},{"$f":"'[24]T.1.'!E63","v":19788587.993739828},{"$f":"'[24]T.1.'!F63","v":35775686.362037577},{"$f":"'[24]T.1.'!G63","v":2368934.1290567201},{"$f":"'[24]T.1.'!H63","v":38144620.491094299}]
[null,"Q4",{"$f":"'[25]T.1.'!C64","v":7310892.3858986739},{"$f":"'[25]T.1.'!D64","v":5445792.879943775},{"$f":"'[25]T.1.'!E64","v":20940162.557846706},{"$f":"'[25]T.1.'!F64","v":33696847.823689155},{"$f":"'[25]T.1.'!G64","v":2410491.3307207231},{"$f":"'[25]T.1.'!H64","v":36107339.154409878}]
["* preliminary"]

{"sheet":"T.2","index":2,"n_rows":61,"n_cols":8,"rows_kept":61,"cut":false,"hidden":false,"merged":[[4,0,6,1],[4,2,4,4],[4,5,6,5],[4,6,6,6],[4,7,6,7],[5,2,6,2],[5,3,6,3],[5,4,6,4],[9,0,9,1],[10,0,10,1],[11,0,11,1],[12,0,12,1],[13,0,13,1],[18,0,18,1],[14,0,14,1],[15,0,15,1],[16,0,16,1],[17,0,17,1]]}
["Table 2.Quarterly Gross Value Added at Constant Prices (Main Economic Activities) (2013 base year prices) "]
[]
["Non-Seasonally Adjusted"]
[{"$nulls":7},"              (D'000)"]
["ISIC Rev.4",null,"Gross value added by industry",null,null,"Gross value added","Net Taxes","Gross domestic product"]
[null,null,"Agriculture, forestry and fishing","Industry","Services"]
[]
[null,null,1,2,3,"4=1+2+3",5,"6=4+5"]
[]
[2014,null,11364069.476507945,6446782.3305279501,27638043.390807532,45448895.197843432,3318559.3711776962,48767454.569021121]
[2015,null,11812967.62233855,7904545.8600334059,27570826.424889326,47288339.907261275,3458133.984937876,50746473.892199159]
[2016,null,11785258.709878895,9423800.5468797963,26997335.477171294,48206394.733929984,3526265.6904321471,51732660.42436213]
[2017,null,11269163.904265281,9089466.5726772305,30164904.395373952,50523534.872316465,3703990.6344872382,54227525.506803706]
[2018,null,11685136.938651098,9273805.6127941459,33216983.56365037,54175926.115095608,3974901.4315413986,58150827.546637014]
[2019,null,11672049.278522996,10643674.732579425,35258896.879639365,57574620.890741795,4194381.9621149842,61769002.85285677]
[2020,null,12908210.151131999,11518685.850215176,33509127.61534594,57936023.616693124,4198335.0860278988,62134358.702721022]
[2021,null,14673865.657447044,11850418.748856254,34415956.460750893,60940240.867054194,4459880.3362794295,65400121.203333616]
["2022*",null,15208869.235798853,12213827.613311488,36489286.430164441,63911983.279274791,4696111.6198958755,68608094.899170667]
["2023*",null,15712491.218395591,13548347.441974638,37655959.367499955,66916798.027870171,4906418.3100362867,71823216.337906465]
[]
[2014,"Q1",2160713.9296972859,1643109.7758617916,7105148.2773259748,10908971.982885053,798102.57615175471,11707074.559036808]
[null,"Q2",2391641.5375615386,1918883.1173807061,7255953.9273336995,11566478.582275946,842714.77686713869,12409193.359143084]
[null,"Q3",5033974.4475691365,1599821.3708502294,6821587.6116499491,13455383.430069316,990796.75105562154,14446180.181124937]
[null,"Q4",1777739.561679984,1284968.066435222,6455353.5744979102,9518061.2026131153,686945.26710318134,10205006.469716297]
[2015,"Q1",2232684.1942376471,2248142.6213842733,7406622.4598727617,11887449.275494682,872769.24820311554,12760218.523697797]
[null,"Q2",2494182.9783829255,2286462.0286719282,7670176.2977046333,12450821.304759488,913441.54383430572,13364262.848593794]
[null,"Q3",5194441.5366067803,1752072.6189841009,5871790.5542352647,12818304.709826145,938080.82549952576,13756385.535325671]
[null,"Q4",1891658.9131111966,1617868.5909931026,6622237.1130766664,10131764.617180966,733842.36740092898,10865606.984581895]
[2016,"Q1",2352276.4952295339,2953583.2650063829,7165123.5773719884,12470983.337607905,917685.14523617271,13388668.482844077]
[null,"Q2",2485750.4796745842,3008790.1218640814,6959237.5031152256,12453778.104653891,915005.50082738616,13368783.605481278]
[null,"Q3",4959778.9839264397,1755408.345620905,6111031.177022553,12826218.506569898,940579.4708485296,13766797.977418426]
[null,"Q4",1987452.7510483367,1706018.814388427,6761943.2196615264,10455414.785098292,752995.57352005877,11208410.358618351]
[2017,"Q1",2575499.5363150882,2118576.5453215763,6779213.6021284731,11473289.683765136,840436.83553266688,12313726.519297803]
[null,"Q2",2507192.3385999687,3111998.0947249052,7724548.3965871036,13343738.829911977,983576.58532721573,14327315.415239193]
[null,"Q3",4150618.0037293378,1839679.8040226628,7773413.9617655808,13763711.769517582,1008922.7383685854,14772634.507886168]
[null,"Q4",2035854.0256208861,2019212.1286080875,7887728.4348927969,11942794.58912177,871054.47525877028,12813849.06438054]
[2018,"Q1",2760606.081750541,2133607.4753463152,7914698.7751212372,12808912.332218092,934255.66696265631,13743167.999180749]
[null,"Q2",2665231.1338426378,3509993.5155208949,7852169.2232264644,14027393.872589996,1034203.4512457657,15061597.323835762]
[null,"Q3",4128024.2082972131,2057364.0663473769,8609044.4903339166,14794432.764978508,1090492.3401935671,15884925.105172075]
[null,"Q4",2131275.5147607066,1572840.555579558,8841071.0749687534,12545187.145309018,915949.97313940956,13461137.118448427]
[2019,"Q1",3004214.2154954742,2363351.6982603655,9384896.9383303039,14752462.852086144,1065741.1600273349,15818204.012113478]
[null,"Q2",2794074.7073081434,3721454.56495518,9413375.8877701461,15928905.16003347,1170318.9886681598,17099224.148701631]
[null,"Q3",3656291.1524278698,2518898.2701748619,8031595.3154536914,14206784.738056425,1039989.4423540834,15246774.180410508]
[null,"Q4",2217469.2032915079,2039970.1991890187,8429028.7380852234,12686468.140565749,918332.37106540566,13604800.511631155]
[2020,"Q1",3286854.8055645898,2887856.4081471968,9929453.4263233654,16104164.640035152,1179560.534815751,17283725.174850903]
[null,"Q2",3103787.2347235261,3833960.1017029625,8239312.5072271721,15177059.84365366,1102768.4705426914,16279828.314196352]
[null,"Q3",4069954.9110548263,2470441.1960406927,7962707.32843176,14503103.43552728,1037668.8312449724,15540772.266772252]
[null,"Q4",2447613.1997890556,2326428.1443243227,7377654.3533636443,12151695.697477024,878337.24942448363,13030032.946901508]
[2021,"Q1",3689788.6453193221,2822101.2776045352,8845855.2041240986,15357745.127047956,1125342.5336451735,16483087.66069313]
[null,"Q2",3633296.325202757,3521881.6297596153,8614986.012280127,15770163.9672425,1156173.4029080772,16926337.370150577]
[null,"Q3",4585922.0586003391,3030502.301007227,8220356.2544606039,15836780.614068169,1161724.3199198807,16998504.93398805]
[null,"Q4",2764858.6283246242,2475933.5404848745,8734758.9898860604,13975551.15869556,1016640.079806298,14992191.238501858]
["2022*","Q1",3972379.8832310615,2821961.0745014716,9521299.0179651119,16315639.975697644,1203043.3071255183,17518683.282823164]
[null,"Q2",3632904.8443809119,3576623.3759212806,9216635.6170395594,16426163.837341752,1209906.3440865583,17636070.18142831]
[null,"Q3",4634924.7464415003,3103467.3379974822,8674927.0318982396,16413319.116337223,1203148.3984818999,17616467.514819123]
[null,"Q4",2968659.7617453784,2711775.8248912543,9076424.763261538,14756860.349898171,1080013.5702018994,15836873.920100071]
["2023*","Q1",{"$f":"[23]T.2!C56","v":4060247.265592996},{"$f":"[23]T.2!D56","v":3281063.9174981285},{"$f":"[23]T.2!E56","v":9725405.798139032},{"$f":"[23]T.2!F56","v":17066716.981230155},{"$f":"[23]T.2!G56","v":1258500.4100110631},{"$f":"[23]T.2!H56","v":18325217.391241219}]
[null,"Q2",{"$f":"[23]T.2!C57","v":3506893.0134883989},{"$f":"[23]T.2!D57","v":4464289.1847004574},{"$f":"[23]T.2!E57","v":9160609.1212572251},{"$f":"[23]T.2!F57","v":17131791.319446079},{"$f":"[23]T.2!G57","v":1260365.3729344197},{"$f":"[23]T.2!H57","v":18392156.692380499}]
[null,"Q3",{"$f":"[24]T.2!C58","v":5066228.822099925},{"$f":"[24]T.2!D58","v":2810192.2812371999},{"$f":"[24]T.2!E58","v":9329464.7363437377},{"$f":"[24]T.2!F58","v":17205885.839680862},{"$f":"[24]T.2!G58","v":1260716.0359792532},{"$f":"[24]T.2!H58","v":18466601.875660114}]
[null,"Q4",{"$f":"[25]T.2!C59","v":3079122.117214269},{"$f":"[25]T.2!D59","v":2992802.0585388523},{"$f":"[25]T.2!E59","v":9440479.7117599584},{"$f":"[25]T.2!F59","v":15512403.887513079},{"$f":"[25]T.2!G59","v":1126836.4911115507},{"$f":"[25]T.2!H59","v":16639240.378624629}]
["* preliminary"]

{"sheet":"T.3","index":3,"n_rows":62,"n_cols":8,"rows_kept":62,"cut":false,"hidden":false,"merged":[[5,0,7,1],[5,2,5,4],[5,5,7,5],[5,6,7,6],[5,7,7,7],[6,2,7,2],[6,3,7,3],[6,4,7,4],[19,0,19,1],[16,0,16,1],[17,0,17,1],[18,0,18,1],[10,0,10,1],[11,0,11,1],[12,0,12,1],[13,0,13,1],[14,0,14,1],[15,0,15,1]]}
["Table 3.Quarterly Gross Value Added at Constant Prices (Main Economic Activities) "]
["Real Growth Rates, comparison with corresponding quarter of previous year"]
[]
["Non-Seasonally Adjusted"]
[{"$nulls":7},"              (in %)"]
["ISIC Rev.4",null,"Gross value added by industry",null,null,"Gross value added","Net Taxes","Gross domestic product"]
[null,null,"Agriculture, forestry and fishing","Industry","Services"]
[]
[null,null,1,2,3,"4=1+2+3",5,"6=4+5"]
[]
[2014,null,-12.384620537758025,9.5731011706924107,1.3591085555449354,-1.4581160429366804,-0.70727405185174064,-1.4073825201772792]
[2015,null,3.9501531274388668,22.61226538706596,-0.24320450245967606,4.0472814606615941,4.2058796649055381,4.0580738541051318]
[2016,null,-0.23456351820736643,19.220012303653959,-2.0800644089519125,1.9413978762399751,1.9701869791923343,1.9433597184662261]
[2017,null,-4.3791555053518039,-3.5477615696489266,11.732894606881203,4.8067069756526877,5.0400327047764364,4.8226112130639365]
[2018,null,3.6912501931787034,2.0280512463848481,10.117980578597425,7.229088883051233,7.3140248933611076,7.2348904051339389]
[2019,null,-0.11200262518799775,14.771380563502518,6.147196695558705,6.2734410269715113,5.5216597028539383,6.2220529936877824]
[2020,null,10.590778389563397,8.220949433539289,-4.9626319004433981,0.62771186394287781,9.4248066786022378E-2,0.59148736905238763]
[2021,null,13.678546333243617,2.8799543885024121,2.7062144255574765,5.1854046287972437,6.229737381419497,5.2559687889231839]
["2022*",null,3.6459620855278274,3.0666331051829587,6.0243276161103978,4.8764861607680388,5.2968076675688849,4.9051494657987433]
["2023*",null,3.3113703247004338,10.926303128829957,3.1973026920336451,4.7014888201251779,4.478315405652026,4.6862129657745015]
[]
[2014,"Q1",-6.9056305742362838,19.432792562882085,5.5093084055843917,4.5832517898981564,7.3521762461472093,4.7674719039948172]
[null,"Q2",-10.014820726797808,12.740389306945104,-3.9631012915328228,-2.9269828750996538,7.5168025576340938,-2.2823810453975426]
[null,"Q3",-16.365061876796062,19.075101296706109,6.8293398907095337,-2.128607931205849,-2.7045317000987836,-2.1683255701109658]
[null,"Q4",-9.8787904483419169,-12.121322594955814,-2.0792137867316427,-5.0779610065927301,-13.767327208599411,-5.7174841523143982]
[2015,"Q1",3.3308557672159935,36.822423821631105,4.2430385796290011,8.9694729635821773,9.3555232475735579,8.9957910436989152]
[null,"Q2",4.2874920514190222,19.155878123153784,5.7087238221087375,7.6457386419984061,8.3927289408760117,7.6964671418147788]
[null,"Q3",3.1876818348796263,9.5167654906970682,-13.923401874845311,-4.7347496528375643,-5.3205589844668708,-4.7749276082028729]
[null,"Q4",6.4081012701071529,25.907299430515678,2.5851959409014569,6.4477775620875661,6.8269049287595749,6.4732983445522763]
[2016,"Q1",5.3564360468239585,31.378820761279883,-3.2605804306774644,4.9088248335675218,5.1463656774721755,4.9250720744252732]
[null,"Q2",-0.33808661118392536,31.591519305120983,-9.2688716268772424,2.3747830139313919E-2,0.17121588169895574,3.3827207221975186E-2]
[null,"Q3",-4.5175703880119471,0.19038746457542288,4.0744066154527019,6.1738247942315638E-2,0.26635714973421898,7.5691700163659448E-2]
[null,"Q4",5.0640121891524643,5.4485403750384194,2.1096512281172863,3.194410649537744,2.6099891434403304,3.1549399359178665]
[2017,"Q1",9.4896599756982454,-28.270972739378735,-5.3859500269088016,-8.0001201736361338,-8.417735658522119,-8.0287443439478636]
[null,"Q2",0.86259095998208579,3.4302150924665256,10.997050943142767,7.1461103432179698,7.4940625425557386,7.1699253877137465]
[null,"Q3",-16.314456406614411,4.8006755016280778,27.202983205086227,7.3091945413800374,7.2660811380883104,7.3062489339758514]
[null,"Q4",2.4353421507514526,18.358139522156108,16.648841592722263,14.225928235227798,15.678565172278084,14.323518272399241]
[2018,"Q1",7.1872094257991961,0.70948250880675801,16.749511663657501,11.641148138557682,11.163103217688857,11.608520602132558]
[null,"Q2",6.3034172851261587,12.789063768085995,1.6521461202281671,5.1234144447244887,5.1472215457129238,5.1250488128121532]
[null,"Q3",-0.54434774319929602,11.832725556301881,10.749852415920216,7.4886848309600396,8.0848214360674149,7.5293990160802053]
[null,"Q4",4.6870496577336525,-22.106224834149984,12.086402922528023,5.0439832293183997,5.1541550104890774,5.0514724406048686]
[2019,"Q1",8.8244438551137847,10.767876733125874,18.575541596484157,15.173423546505703,14.073823441943787,15.09867312293953]
[null,"Q2",4.8342363943401523,6.0245424528342397,19.88248877680428,13.555698975267887,13.161388821361413,13.528623698106827]
[null,"Q3",-11.427574841280546,22.433278162911051,-6.7074711430353773,-3.9720889354620539,-4.6312015204544394,-4.0173366920929823]
[null,"Q4",4.044230224287972,29.699745594195548,-4.6605477253782368,1.1261768646437389,0.26010131512211387,1.0672455968510945]
[2020,"Q1",9.4081370300187075,22.193256732500416,5.8024770178237759,9.1625500196251437,10.67983287663364,9.2647759607547044]
[null,"Q2",11.08461869703423,3.023160293484267,-12.472288311235047,-4.7200062328591912,-5.7719748871495256,-4.7920059259969179]
[null,"Q3",11.313753237410353,-1.9237408158926996,-0.85771237613757023,2.0857548202098997,-0.22313794877169357,1.9282641881027018]
[null,"Q4",10.378678367029082,14.042261266815757,-12.473256615808069,-4.2152980416886692,-4.3551902231783117,-4.2247408496601082]
[2021,"Q1",12.258948556917446,-2.2769529107179238,-10.912969482555866,-4.6349471063627021,-4.5964577120280126,-4.6323203248033593]
[null,"Q2",17.060096277069633,-8.1398466250269195,4.5595248963239356,3.9078986951273578,4.8428055201019902,3.9712277272018639]
[null,"Q3",12.677465938112505,22.670489217234916,3.2356950394105297,9.1958054665311835,11.955210076616567,9.3800529484148001]
[null,"Q4",12.961420070904566,6.4263921722789235,18.394798285767891,15.00906134110329,15.745982590677457,15.058736225735657]
["2022*","Q1",7.6587378052187489,-4.9680393888138497E-3,7.6357095866333964,6.2372102201556174,6.9046331367800491,6.2827768889417399]
[null,"Q2",-1.0774811267921791E-2,1.5543323687855235,6.983756025857943,4.1597530086680479,4.6474811687700708,4.1930678548883122]
[null,"Q3",1.068546024441531,2.40768789273001,5.5298184575756295,3.6405031825527772,3.5657408433074806,3.635393719805748]
[null,"Q4",7.3711231139600244,9.5253883252534308,3.9115649758750095,5.5905429584183679,6.2336210871871174,5.6341509267101628]
["2023*","Q1",{"$f":"[23]T.3!C57","v":2.2119581949565372},{"$f":"[23]T.3!D57","v":16.268928977971896},{"$f":"[23]T.3!E57","v":2.1436862742027643},{"$f":"[23]T.3!F57","v":4.6034173752991023},{"$f":"[23]T.3!G57","v":4.6097345421463558},{"$f":"[23]T.3!H57","v":4.6038511878849278}]
[null,"Q2",{"$f":"[23]T.3!C58","v":-3.4686245935513114},{"$f":"[23]T.3!D58","v":24.818542951856884},{"$f":"[23]T.3!E58","v":-0.607884461427048},{"$f":"[23]T.3!F58","v":4.2957533426046552},{"$f":"[23]T.3!G58","v":4.1704904759348551},{"$f":"[23]T.3!H58","v":4.2871597990599355}]
[null,"Q3",{"$f":"[24]T.3!C59","v":9.3055248845099783},{"$f":"[24]T.3!D59","v":-9.4499160074782225},{"$f":"[24]T.3!E59","v":7.5451666859988933},{"$f":"[24]T.3!F59","v":4.828802253376935},{"$f":"[24]T.3!G59","v":4.7847495429483615},{"$f":"[24]T.3!H59","v":4.8257935941235246}]
[null,"Q4",{"$f":"[25]T.3!C60","v":3.7209503390158005},{"$f":"[25]T.3!D60","v":10.363180874616276},{"$f":"[25]T.3!E60","v":4.0109950558065322},{"$f":"[25]T.3!F60","v":5.1199477375288893},{"$f":"[25]T.3!G60","v":4.3354011654592455},{"$f":"[25]T.3!H60","v":5.0664446946578181}]
["* preliminary"]

{"sheet":"T.1.1","index":4,"n_rows":72,"n_cols":16,"rows_kept":72,"cut":false,"hidden":false,"merged":[[4,13,6,13],[4,14,6,14],[4,15,6,15],[5,6,6,6],[5,9,6,9],[4,2,4,12],[5,2,6,2],[5,3,5,4],[5,10,6,10],[5,11,6,11],[5,12,6,12],[19,0,19,1],[9,0,9,1],[5,5,6,5],[5,7,6,7],[5,8,6,8],[4,0,6,1],[18,0,18,1],[10,0,10,1],[11,0,11,1],[12,0,12,1],[13,0,13,1],[14,0,14,1],[15,0,15,1],[16,0,16,1],[17,0,17,1]]}
["Table 1.1. Quarterly Gross Value Added at Current Prices"]
[]
["Non-Seasonally Adjusted"]
[{"$nulls":14},"              (D'000)"]
["ISIC Rev.4",null,"Gross value added by industry",{"$nulls":10},"Gross value added","Net Taxes","Gross domestic product"]
[null,null,"Agriculture, forestry and fishing","Mining and quarrying; manufacturing; electricity, gas, steam and air conditioning supply; water supply; sewerage, waste management and remediation activities",null,"Construction","Wholesale and retail trade; repair of motor vehicles and motorcycles; transportation and storage; accommodation and food service activities","Information and communication","Financial and insurance activities","Real estate activities","Professional, scientific and technical activities; administrative and support service activities","Public administration and defence; compulsory social security; education; human health and social work activities","Arts, entertainment and recreation, repair of household goods and other services"]
[null,null,null,"Total","of which: Manufacturing"]
[null,null,1,2,"2a",3,4,5,6,7,8,9,10,"11=1+2+..10",12,"13=11+12"]
[]
[2013,null,12970404.906372989,3695979.3513067658,2775502.628618055,2187565.2975621088,18219720.837515041,1765095.1279806169,1193253.2590400684,1119592.4122963257,699457.02857689466,3345296.9643133655,925033.5267211285,46121398.711685307,3342197.8694699993,49463596.581155308]
[2014,null,11523423.632768717,4470265.7018285869,3341134.8954064311,2310144.0894039273,19628672.574612048,1683136.5203237121,1346759.3482873794,1149392.9795751455,785330.92297115515,3143244.5871993806,1221656.7847222169,47262027.141692281,4047052.1972400001,51309079.338932276]
[2015,null,13010201.236767648,5002306.5285810214,3719460.5911399741,5040510.2305978304,20541262.725027326,1858931.3224216513,1269761.7221514918,1284650.3076595112,824551.07744100608,3331569.3918542955,1286861.7936743051,53450606.336176082,5130455.2650000006,58581061.601176083]
[2016,null,14076528.855379641,4953545.1059143823,3596987.4548837105,8526870.4948842339,21317294.170661505,1821550.4090269571,1164430.3710229499,1337181.6930380831,891245.1909122623,3502017.1362349777,1387305.7385467796,58977969.165621772,5411970.103379501,64389939.269001275]
[2017,null,14731188.512645517,4511126.0947885392,3134859.3268259871,8039243.8040185347,26352222.880159639,2320360.266190432,1417064.8222845527,1424663.2720447765,966462.16668755002,3651122.6019298849,1341818.5273307341,64755272.948080167,5386915.29727,70142188.245350152]
[2018,null,15985864.548822053,5434047.9647913026,3423342.9294988336,8491462.5438792482,31372392.515766442,2548622.3540916145,2449718.8769141994,1504918.4031532221,944307.22010577423,4011861.0024328567,1335954.1310537192,74079149.561010435,6366650.3794799997,80445799.94049044]
[2019,null,18162426.274161406,5809553.4781371718,3438520.583023102,9881970.4112612493,35138934.075715698,2906126.9449143228,2759729.6678436836,1598996.0175072136,976039.75787564646,4950781.5750675937,1400975.5875327694,83585533.79001677,7208230.66065,90793764.450666755]
[2020,null,19826989.52823814,5055085.5866811313,2439066.1105633518,10674426.837991912,34257632.345255911,3168308.291401898,3344417.3217250407,1917749.3548637459,698054.36521054292,5813094.3434882201,1155635.1936733604,85911393.168529928,7418415.9566200003,93329809.125149906]
[2021,null,24873070.983904831,4718038.3469652729,2006439.2540089784,12035542.865809372,38460095.069550671,3161666.5418020887,3917655.4354485753,1988007.2088615461,749909.94070425746,6822225.0631681224,1223297.6607181062,97949509.116932839,7537528.4096714985,105487037.52660435]
["2022*",null,29651805.670603059,5308374.5431496166,2345125.9962170394,13255149.133391306,46033562.456553765,3759801.3577314415,4647898.777252499,2478493.0905440161,812379.93714452907,8174676.9857197674,1266260.7764192836,115388402.72850928,7175660.4882917553,122564063.21680105]
["2023*",null,34364342.647360452,6811299.3133405354,2212048.342361053,17627670.223006047,52319953.539306901,4795826.4384807069,5006160.2238848936,2870555.168207441,1121021.2199099478,11008000.844498746,1574895.0309588097,137499724.64895448,9509412.1498393398,147009136.79879382]
[]
[2013,"Q1",2320993.1417176682,833529.96157061134,609444.22121744638,542231.03388353449,4673158.6037111813,340975.69025419123,251070.57059273726,282950.49192624929,159967.39082298323,752730.1792558328,273290.61460509768,10430897.678340085,743443.3134562542,11174340.991796339]
[null,"Q2",2657817.161535372,896678.19943907368,668476.23267400917,805358.78054366109,5311387.3667177223,411916.0026320538,306832.45339268463,278360.51580914133,163701.32937354883,871451.77654093585,211731.89844890797,11915235.4844331,783798.21276344568,12699033.697196545]
[null,"Q3",6018985.0803183587,925022.6280276546,701477.56334330956,418517.16612617503,4013037.9458903037,513653.76639290719,316045.21904642711,281659.49019221822,189797.12414596375,883268.56326366705,188037.99677794817,13748024.980181625,1018338.0257769184,14766363.005958544]
[null,"Q4",1972609.5228015906,1040748.5622694261,796104.61138329003,421458.31700873817,4222136.9211958367,498549.66870146466,319305.01600821957,276621.91436871677,185991.18423439882,837846.44525292981,251973.01688917476,10027240.568730496,796618.31747338094,10823858.886203878]
[2014,"Q1",2249124.114909396,961175.98882822343,690294.75133094075,641264.09726499149,5118270.0098058861,453146.08085394005,309989.44918135792,281523.77849571983,193050.46220888544,706702.00158865913,353335.38500647643,11267581.368143538,972255.2289074969,12239836.597051036]
[null,"Q2",2417183.8127495386,1196098.4821799055,911796.16241523752,765623.31788760168,5234286.5453745294,418075.15603776014,352826.64895851311,282217.4122190146,187972.16335786122,822152.50539909047,270305.60474191344,11946741.64890573,1013092.5309195417,12959834.179825272]
[null,"Q3",4948596.0551681342,1165601.4356114422,888516.56807619287,585787.19695925864,4824707.3812195109,418834.46173029247,307791.80698795873,287448.94710562436,209718.2467830237,829552.6098499553,250407.73596948994,13828445.877384689,1133112.3044734511,14961558.181858139]
[null,"Q4",1908519.6499416502,1147389.7952090155,850527.41358406004,317469.47729207587,4451408.638212122,393080.82170171948,376151.44315954961,298202.84175478679,194590.05062138473,784837.4703616756,347608.05900433694,10219258.24725832,928592.1329395104,11147850.38019783]
[2015,"Q1",2556959.2769235899,1251471.7407640531,954532.40383680246,1480179.3230489639,5512783.6802452421,459811.77512876189,325269.76778033638,319903.48174976069,206018.7739515765,779448.55281770951,379843.2421218449,13271689.614531839,1206125.783491625,14477815.398023464]
[null,"Q2",2775286.1298140753,1131431.0551922498,808436.24103237374,1775728.161497796,5966818.5424441509,497402.82053031528,347829.28135524172,333308.89159049321,198902.5573600631,830246.65437686327,279442.90451528365,14136396.998676531,1299797.2956382597,15436194.294314791]
[null,"Q3",5491640.7892462686,1174949.9359070708,846693.8439742286,1116440.3408508038,4067101.0555105642,469779.78289310087,309967.86841376475,317793.73432417156,206554.10618587365,895845.92662832048,262314.77870748454,14312388.318667421,1386285.2890999909,15698673.607767412]
[null,"Q4",2186315.0407837145,1444453.796717647,1109798.1022965692,668162.40520026663,4994559.4468273697,431936.94386947347,286694.80460214888,313644.19999508577,213075.63994349286,826028.25803140225,365260.86832969205,11730131.404300293,1238246.8967701243,12968378.301070418]
[2016,"Q1",2970700.0020639179,1551868.8960018004,1209184.6948986845,2692306.3054945362,5675138.7615979584,414960.27461646002,272557.97733710508,340256.59967659239,225192.80720490104,815162.80471888813,424843.14078662917,15382987.569498785,1353917.7562178634,16736905.325716648]
[null,"Q2",3013596.8914348646,1172857.0311430304,835936.50206577487,3275659.9175980077,5652900.4537353404,429254.73029084055,281895.83361836214,332536.65337699367,212450.16072878346,840426.29432264599,305366.37999410479,15516944.346242975,1404813.2897941347,16921757.636037111]
[null,"Q3",5609602.2489142912,1169480.6992558597,837117.16822717409,1281368.0619553754,4674442.8076006491,465987.56615160918,290866.97103908181,327608.49593147775,226281.39652565878,901352.46769058937,268405.02884515631,15215395.743909748,1372300.4442280333,16587696.188137781]
[null,"Q4",2482629.7129665688,1059338.4795136913,714749.0896920769,1277536.2098363137,5314812.1477275593,511347.83796804713,319109.58902840089,336779.94405301946,227320.82645291902,945075.56950285425,388691.18892088922,12862641.505970264,1280938.6131394687,14143580.119109733]
[2017,"Q1",3483170.3665814782,1059182.0874218184,739319.4804278292,1879625.0888119393,5577492.9157266626,508170.91601774417,303899.99183973431,353396.42098332988,228575.9705252391,832505.86843620334,392846.93664156715,14618866.562985716,1098753.4136015044,15717619.976587221]
[null,"Q2",3344468.9119055644,1061700.5300905395,718621.7285116408,3292604.7814503359,6796849.0381352575,615482.0549984636,352522.8403147849,363301.33406486909,246387.28423534011,880977.4784854264,292237.4753780404,17246531.729058623,1370768.8365466276,18617300.565605249]
[null,"Q3",5301857.8675255775,1081502.743731292,743557.81485761318,1396799.1306481136,6946820.9759965772,578310.5181194077,387200.92427551799,358029.16455689108,246070.19279654106,998198.31247140944,248774.59489183882,17543564.425013166,1421368.6372551981,18964933.062268365]
[null,"Q4",2601691.3666328965,1308740.7335448891,933360.30302890402,1470214.8031081457,7031059.9503011405,618396.77705481648,373441.06585451576,349936.35243968648,245428.71913042985,939440.94253684592,407959.52041928761,15346310.231022656,1496024.4098666699,16842334.640889324]
[2018,"Q1",3661779.1929931846,1414740.1645756883,1006199.7757530895,1650743.7182344117,6969576.2735666456,597941.75455761934,580547.12109723059,386471.80949408241,255052.05426320646,1019929.7763288209,419392.2427589263,16956174.107869819,1619136.3826991084,18575310.490568928]
[null,"Q2",3679070.4114383049,1406606.2823539339,925316.49651985255,3923154.1920590312,7240922.3991414933,639595.05584299017,605528.84169503371,367658.91777470498,254799.21360681925,956119.67097248416,303495.81958337716,19376950.804468174,1614201.204113011,20991152.008581184]
[null,"Q3",5839987.8970444724,1309289.5418786476,758060.6517885077,1830603.5273002882,8434980.1421804335,643093.02335303964,642808.67176351231,367160.56324729358,234832.13197340796,1022424.8888816057,245296.01999418798,20570476.407616891,1571027.0405268697,22141503.448143762]
[null,"Q4",2805027.04734609,1303411.9759830323,733766.00543738413,1086961.1062855171,8726913.7008778695,667992.52033796557,620834.24235842284,383627.11263714131,199623.82026234054,1013386.6662499462,367770.04871722788,17175548.241055552,1562285.7521410107,18737833.993196562]
[2019,"Q1",4423200.8054201463,1522476.1143184365,971146.58145937684,2057922.0945010509,9026276.6913438458,678085.07207804499,686143.24835689156,379999.27535147069,252838.68763919527,1380764.4053685653,447907.67861728271,20855614.072994933,1721472.9203938518,22577086.993388783]
[null,"Q2",4579277.7722739754,1440176.9596724843,846404.6351943987,3969644.213506096,9686121.0492164902,735631.7025448354,631209.18449303403,397310.76233494194,271922.38638509833,1199242.9975132947,306510.57762285043,23217047.6055631,1890072.2104577054,25107119.816020805]
[null,"Q3",5906521.6262249062,1368567.0602810453,746677.8876046295,2290526.3954819948,7993196.9400549475,748800.9155861825,629816.56971930317,410140.4867251885,242836.27968730632,1151942.4298358678,258797.11738691392,21001145.820983659,1820324.8938327443,22821470.714816403]
[null,"Q4",3253426.0702423789,1478333.3438652055,874291.47876469675,1563877.7077721076,8433339.3951004129,743609.25470525993,812560.66527445498,411545.49309561239,208442.40416404649,1218831.7423498661,387760.21390572225,18511726.290475067,1776360.6359656986,20288086.926440764]
[2020,"Q1",4966607.1901277229,1413175.6729292974,725439.14558235661,2591686.0881912499,10842554.954881651,799885.10157788964,879522.41913521639,463815.23214666784,209216.67905554123,1324616.2413007515,396723.33189420518,23887802.911240194,2077345.9256656051,25965148.8369058]
[null,"Q2",4779193.0099734729,1312780.719776524,617482.40993138717,3913763.4315207582,8348504.3456363175,789468.17385712347,751012.61730335525,484696.96563401161,150353.03686150102,1406820.5505202587,250768.07535092041,22187360.926434245,1799002.4360700604,23986363.362504303]
[null,"Q3",6369019.4050015556,1141776.0665447526,549061.56788633612,2240488.3182680891,7846871.7925544651,760721.2056683097,745381.77310985408,486370.50876886223,169367.27506697786,1627747.2537294521,219511.98891444594,21607255.587626766,1750292.0653976507,23357547.653024416]
[null,"Q4",3712169.9231353905,1187353.127430557,547082.98716327175,1928489.0000118157,7219701.2521834811,818233.81029857509,968500.51217661472,482866.6483142043,169117.37422652286,1453910.2979377578,288631.79751378874,18228973.743228711,1791775.5294866846,20020749.272715397]
[2021,"Q1",6100630.0769691728,1215519.1162787317,542384.69466467877,2617201.9105115491,9730135.0665566996,784279.16090866644,1026421.9312375719,483562.19076513045,142946.91305765844,1628009.0542308295,399019.91234554327,24127725.33286155,1863846.0850517852,25991571.417913336]
[null,"Q2",6115343.9352053627,1156245.3010227564,427223.81485047122,3812600.1168555459,9599604.1126955524,835636.92459642969,896033.07388627634,487097.74794571084,171431.12350897788,1669317.4336751124,258878.39858195823,25002188.167973682,2028304.6160358912,27030492.784009572]
[null,"Q3",8057605.8720708694,1140133.7562189843,474180.80973754212,3172973.7333095074,9114044.9551522434,774592.284277951,877084.02057627798,488081.96428541676,212361.297536553,1670724.8137717661,236261.52202724182,25743864.219226815,2012655.5710031593,27756519.790229972]
[null,"Q4",4599491.0996594289,1206140.1734448008,562649.93475628621,2432767.1051327693,10016310.935146173,767158.17201904149,1118116.4097484495,529265.3058652879,223170.60660106817,1854173.7614904149,329137.82776336285,23075731.396870799,1632722.1375806634,24708453.534451462]
["2022*","Q1",7149128.8063942287,1236965.7173747905,632838.47121760866,2941733.4087148742,11497700.951090446,899456.90173136967,1176546.8794635339,560763.42708330625,183552.41038140064,1860479.6237187437,413955.17846940417,27920283.304422092,1859691.122048985,29779974.426471077]
[null,"Q2",6981668.5986429416,1374666.5149664539,570702.41575165,4002744.5879965383,11756530.745690051,944706.16768698988,1145756.2700582561,539724.03303576447,187861.86677479491,1957531.5893990379,259294.55471381571,29150484.928964645,1606988.3553012072,30757473.284265853]
[null,"Q3",10017127.981821958,1207458.1586006184,499634.33371341252,3415903.5870910953,10848110.131656379,934872.73546836793,1160303.3482413099,702275.38928848167,215724.70998688214,2138230.2352085649,240776.42777624057,30880782.705139894,1674906.9588577803,32555689.663997672]
[null,"Q4",5503880.2837439328,1489284.1522077532,641950.77553436847,2894767.5495887967,11931220.628116893,980765.55284471402,1165292.2794893994,675730.24113646382,225240.95000145142,2218435.5373934209,352234.61545982299,27436851.789982647,2034074.0520837824,29470925.84206643]
["2023*","Q1",{"$f":"'[23]T.1.1'!C61","v":8319998.4156837128},{"$f":"'[23]T.1.1'!D61","v":1492414.4476315957},{"$f":"'[23]T.1.1'!E61","v":630434.66541019082},{"$f":"'[23]T.1.1'!F61","v":3936109.5367336096},{"$f":"'[23]T.1.1'!G61","v":12892996.053449528},{"$f":"'[23]T.1.1'!H61","v":1167229.6428553876},{"$f":"'[23]T.1.1'!I61","v":1179989.2936717051},{"$f":"'[23]T.1.1'!J61","v":715637.59737358929},{"$f":"'[23]T.1.1'!K61","v":239698.49005524997},{"$f":"'[23]T.1.1'!L61","v":2415702.8698836672},{"$f":"'[23]T.1.1'!M61","v":509593.37076471461},{"$f":"'[23]T.1.1'!N61","v":32869369.718102757},{"$f":"'[23]T.1.1'!O61","v":2240445.8450519517},{"$f":"'[23]T.1.1'!P61","v":35109815.563154712}]
[null,"Q2",{"$f":"'[23]T.1.1'!C62","v":7950454.4138775524},{"$f":"'[23]T.1.1'!D62","v":1837315.9753175799},{"$f":"'[23]T.1.1'!E62","v":578412.86372210656},{"$f":"'[23]T.1.1'!F62","v":6523235.7603227934},{"$f":"'[23]T.1.1'!G62","v":12543065.373412887},{"$f":"'[23]T.1.1'!H62","v":1248402.0977493697},{"$f":"'[23]T.1.1'!I62","v":1187643.0890009778},{"$f":"'[23]T.1.1'!J62","v":725073.11537229444},{"$f":"'[23]T.1.1'!K62","v":253714.30078067767},{"$f":"'[23]T.1.1'!L62","v":2628543.9518196126},{"$f":"'[23]T.1.1'!M62","v":260372.66747124659},{"$f":"'[23]T.1.1'!N62","v":35157820.745124981},{"$f":"'[23]T.1.1'!O62","v":2489540.8450099449},{"$f":"'[23]T.1.1'!P62","v":37647361.590134926}]
[null,"Q3",{"$f":"'[24]T.1.1'!C63","v":10782997.431900516},{"$f":"'[24]T.1.1'!D63","v":1682584.4834543038},{"$f":"'[24]T.1.1'!E63","v":484459.05290269887},{"$f":"'[24]T.1.1'!F63","v":3521516.4529429283},{"$f":"'[24]T.1.1'!G63","v":12914485.018590087},{"$f":"'[24]T.1.1'!H63","v":1298437.0044219843},{"$f":"'[24]T.1.1'!I63","v":1339926.4777660829},{"$f":"'[24]T.1.1'!J63","v":708716.48169755843},{"$f":"'[24]T.1.1'!K63","v":285144.81707184989},{"$f":"'[24]T.1.1'!L63","v":2855272.6178269899},{"$f":"'[24]T.1.1'!M63","v":386605.57636527519},{"$f":"'[24]T.1.1'!N63","v":35775686.362037577},{"$f":"'[24]T.1.1'!O63","v":2368934.1290567201},{"$f":"'[24]T.1.1'!P63","v":38144620.491094299}]
[null,"Q4",{"$f":"'[25]T.1.1'!C64","v":7310892.3858986739},{"$f":"'[25]T.1.1'!D64","v":1798984.4069370567},{"$f":"'[25]T.1.1'!E64","v":518741.76032605686},{"$f":"'[25]T.1.1'!F64","v":3646808.4730067179},{"$f":"'[25]T.1.1'!G64","v":13969407.093854396},{"$f":"'[25]T.1.1'!H64","v":1081757.6934539652},{"$f":"'[25]T.1.1'!I64","v":1298601.3634461272},{"$f":"'[25]T.1.1'!J64","v":721127.97376399918},{"$f":"'[25]T.1.1'!K64","v":342463.61200217041},{"$f":"'[25]T.1.1'!L64","v":3108481.4049684764},{"$f":"'[25]T.1.1'!M64","v":418323.41635757335},{"$f":"'[25]T.1.1'!N64","v":33696847.823689155},{"$f":"'[25]T.1.1'!O64","v":2410491.3307207231},{"$f":"'[25]T.1.1'!P64","v":36107339.154409878}]
["* preliminary"]
["Deflator"]
["Q4/22",null,{"$f":"C61/'T.1.2'!C56*100","v":185.39949760049331},{"$f":"D61/'T.1.2'!D56*100","v":184.13933552992444},{"$f":"E61/'T.1.2'!E56*100","v":197.27345473471075},{"$f":"F61/'T.1.2'!F56*100","v":152.11642570391965},{"$f":"G61/'T.1.2'!G56*100","v":197.4688466131997},{"$f":"H61/'T.1.2'!H56*100","v":105.91986968214542},{"$f":"I61/'T.1.2'!I56*100","v":241.74183703013745},{"$f":"J61/'T.1.2'!J56*100","v":192.25900870837685},{"$f":"K61/'T.1.2'!K56*100","v":178.13212782876937},{"$f":"L61/'T.1.2'!L56*100","v":237.5226007054338},{"$f":"M61/'T.1.2'!M56*100","v":164.2479910412616},{"$f":"N61/'T.1.2'!N56*100","v":185.92607871478549},{"$f":"O61/'T.1.2'!O56*100","v":188.33782354267359},{"$f":"P61/'T.1.2'!P56*100","v":186.09055038735954}]
["Q1/23",null,{"$f":"C62/'T.1.2'!C57*100","v":204.91358952909934},{"$f":"D62/'T.1.2'!D57*100","v":180.47198755345255},{"$f":"E62/'T.1.2'!E57*100","v":198.70980405318656},{"$f":"F62/'T.1.2'!F57*100","v":160.38826500171842},{"$f":"G62/'T.1.2'!G57*100","v":204.74746240896687},{"$f":"H62/'T.1.2'!H57*100","v":106.20921579590159},{"$f":"I62/'T.1.2'!I57*100","v":204.02974569837414},{"$f":"J62/'T.1.2'!J57*100","v":191.76379849338664},{"$f":"K62/'T.1.2'!K57*100","v":182.82828723413104},{"$f":"L62/'T.1.2'!L57*100","v":251.78531956787964},{"$f":"M62/'T.1.2'!M57*100","v":177.35655652814137},{"$f":"N62/'T.1.2'!N57*100","v":192.59339540376882},{"$f":"O62/'T.1.2'!O57*100","v":178.02503894553809},{"$f":"P62/'T.1.2'!P57*100","v":191.59290072016231}]
["Q2/23",null,{"$f":"C63/'T.1.2'!C58*100","v":226.70935164825647},{"$f":"D63/'T.1.2'!D58*100","v":212.11212554915613},{"$f":"E63/'T.1.2'!E58*100","v":202.0820796494252},{"$f":"F63/'T.1.2'!F58*100","v":181.29724031891931},{"$f":"G63/'T.1.2'!G58*100","v":218.78140400872451},{"$f":"H63/'T.1.2'!H58*100","v":105.77978442139498},{"$f":"I63/'T.1.2'!I58*100","v":200.87094342581287},{"$f":"J63/'T.1.2'!J58*100","v":190.67782126585917},{"$f":"K63/'T.1.2'!K58*100","v":192.42363364021153},{"$f":"L63/'T.1.2'!L58*100","v":262.68767878017962},{"$f":"M63/'T.1.2'!M58*100","v":181.72871206927562},{"$f":"N63/'T.1.2'!N58*100","v":205.21975834026054},{"$f":"O63/'T.1.2'!O58*100","v":197.52532864448051},{"$f":"P63/'T.1.2'!P58*100","v":204.69247962492329}]
["Q3/23",null,{"$f":"C64/'T.1.2'!C59*100","v":212.84071072476789},{"$f":"D64/'T.1.2'!D59*100","v":215.1510169638577},{"$f":"E64/'T.1.2'!E59*100","v":202.62964279162117},{"$f":"F64/'T.1.2'!F59*100","v":173.63245277878588},{"$f":"G64/'T.1.2'!G59*100","v":226.03353478512264},{"$f":"H64/'T.1.2'!H59*100","v":104.72676724228958},{"$f":"I64/'T.1.2'!I59*100","v":233.61784846553911},{"$f":"J64/'T.1.2'!J59*100","v":188.96703999776921},{"$f":"K64/'T.1.2'!K59*100","v":194.81553085827906},{"$f":"L64/'T.1.2'!L59*100","v":266.78779056282576},{"$f":"M64/'T.1.2'!M59*100","v":183.3162259137996},{"$f":"N64/'T.1.2'!N59*100","v":207.92702389975383},{"$f":"O64/'T.1.2'!O59*100","v":187.90386268202462},{"$f":"P64/'T.1.2'!P59*100","v":206.5600414625865}]
["Q4/23",null,{"$f":"C65/'T.1.2'!C60*100","v":237.43431106632937},{"$f":"D65/'T.1.2'!D60*100","v":208.86089103817031},{"$f":"E65/'T.1.2'!E60*100","v":203.88884640574179},{"$f":"F65/'T.1.2'!F60*100","v":171.09353271688201},{"$f":"G65/'T.1.2'!G60*100","v":229.94328563155278},{"$f":"H65/'T.1.2'!H60*100","v":103.45449322250704},{"$f":"I65/'T.1.2'!I60*100","v":290.51501445962595},{"$f":"J65/'T.1.2'!J60*100","v":188.57171936260571},{"$f":"K65/'T.1.2'!K60*100","v":197.18575782213401},{"$f":"L65/'T.1.2'!L60*100","v":285.11485301926956},{"$f":"M65/'T.1.2'!M60*100","v":184.81822848197135},{"$f":"N65/'T.1.2'!N60*100","v":217.22518358881757},{"$f":"O65/'T.1.2'!O60*100","v":213.91669064097582},{"$f":"P65/'T.1.2'!P60*100","v":217.0011270514168}]

{"sheet":"T.1.2","index":5,"n_rows":61,"n_cols":16,"rows_kept":61,"cut":false,"hidden":false,"merged":[[4,13,6,13],[4,14,6,14],[4,15,6,15],[17,0,17,1],[5,2,6,2],[5,12,6,12],[9,0,9,1],[10,0,10,1],[11,0,11,1],[12,0,12,1],[5,11,6,11],[5,5,6,5],[5,6,6,6],[5,7,6,7],[5,8,6,8],[5,9,6,9],[18,0,18,1],[14,0,14,1],[15,0,15,1],[16,0,16,1],[5,10,6,10],[4,0,6,1],[4,2,4,12],[5,3,5,4],[13,0,13,1]]}
["Table 1.2. Quarterly Gross Value Added at Constant Prices by Economic Activities (2013 base year prices) "]
[]
["Non-Seasonally Adjusted"]
[{"$nulls":14},"              (D'000)"]
["ISIC Rev.4",null,"Gross value added by industry",{"$nulls":10},"Gross value added","Net Taxes","Gross domestic product"]
[null,null,"Agriculture, forestry and fishing","Mining and quarrying; manufacturing; electricity, gas, steam and air conditioning supply; water supply; sewerage, waste management and remediation activities",null,"Construction","Wholesale and retail trade; repair of motor vehicles and motorcycles; transportation and storage; accommodation and food service activities","Information and communication","Financial and insurance activities","Real estate activities","Professional, scientific and technical activities; administrative and support service activities","Public administration and defence; compulsory social security; education; human health and social work activities","Arts, entertainment and recreation, repair of household goods and other services"]
[null,null,null,"Total","of which: Manufacturing"]
[null,null,1,2,"2a",3,4,5,6,7,8,9,10,"11=1+2+..10",12,"13=11+12"]
[]
[2014,null,11364069.476507945,4006920.6868885686,2865917.8463591943,2439861.6436393806,18525369.779106524,1702702.313915363,1248971.526578953,1238844.3866722032,762705.5556431982,2975337.7185243694,1184112.1103669237,45448895.197843425,3318559.3711776962,48767454.569021121]
[2015,null,11812967.62233855,4129041.6512189289,2941519.7489538314,3775504.2088144762,18165203.260765046,1864438.5958837729,1279264.8231582064,1251167.3052403205,781102.48026981857,3028395.71095757,1201254.2486145943,47288339.907261282,3458133.984937876,50746473.892199159]
[2016,null,11785258.709878895,3973680.4502616827,2734259.4694326012,5450120.0966181131,17663340.962701157,1814468.3909634419,1184649.8392957703,1253129.6838963651,779144.85462179896,3074446.8800729131,1228154.8656198485,48206394.733929984,3526265.6904321471,51732660.42436213]
[2017,null,11269163.904265281,3717119.0092258886,2519157.8169552847,5372347.5634513432,20361877.556089103,2321439.7424036046,1197948.774566944,1286269.7646080218,757640.87052772916,3116922.0863223379,1122805.6008562176,50523534.872316465,3703990.6344872382,54227525.506803706]
[2018,null,11685136.938651098,3795575.4830412767,2488810.4893199038,5478230.1297528679,22880713.402761094,2578979.6282371697,1352323.67972488,1323576.0383135136,726566.68730964919,3301981.8688345728,1052842.2584694906,54175926.115095615,3974901.4315413986,58150827.546637021]
[2019,null,11672049.278522996,3850156.4783343864,2359970.9759631427,6793518.25424504,23903038.37371406,2929043.1587592955,1453637.1518258872,1345701.0102450238,704400.24165817455,3891590.5657825773,1031486.3776543518,57574620.89074178,4194381.9621149842,61769002.852856763]
[2020,null,12908210.151131999,3363436.8086640732,1660571.6875279967,8155249.041551102,22155544.846543014,2977269.9457025025,1478837.9290605304,1389894.9449061835,475323.81096252997,4202398.073460496,829858.06471068633,57936023.616693109,4198335.0860278988,62134358.702721015]
[2021,null,14673865.657447044,2892402.4250652832,1192271.5482738377,8958016.3237909693,23116505.610611401,3035453.5887174383,1675751.0427574962,1404183.7316539804,473885.13793462695,3859151.5669628088,851025.78211313719,60940240.867054187,4459880.3362794295,65400121.203333609]
["2022*",null,15208869.235798853,2970225.648975471,1205692.9279188956,9243601.9643360171,24465902.242338974,3587535.2141834972,1881322.7362267496,1453944.2885858179,470961.16451252025,3807418.4644043306,822202.31991256587,63911983.279274806,4696111.6198958755,68608094.899170682]
["2023*",null,15712491.218395591,3336530.6025463482,1097000.4718584693,10211816.839428291,23818852.697890565,4564649.8480806323,2190143.2085928852,1510911.3026183823,582999.95023605984,4120561.2273952439,867841.13268618425,66916798.027870178,4906418.3100362867,71823216.337906465]
[]
[2014,"Q1",2160713.9296972859,890374.49245323695,613337.20910000755,752735.28340855462,4827958.7298572101,443715.71521214303,308143.38264171878,302650.66671320226,181692.2136327739,694221.5893899746,346765.97987895203,10908971.982885052,798102.57615175471,11707074.559036806]
[null,"Q2",2391641.5375615386,1085956.2242906655,796001.67141711223,832926.89309004066,4997595.2364476947,423279.52558620158,293921.1390427482,314458.16593674844,182622.42689442151,780745.82582517364,263331.60760071169,11566478.582275942,842714.77686713869,12409193.35914308]
[null,"Q3",5033974.4475691365,1032249.3298469333,759163.91100436519,567572.04100329615,4565313.0957438676,429366.31768675253,298247.33086543751,306848.79085762025,206105.94255764585,774380.00376955851,241326.13016906602,13455383.430069316,990796.75105562154,14446180.181124937]
[null,"Q4",1777739.561679984,998340.64029773267,697415.05483770906,286627.42613748938,4134502.7170577501,406340.7554302658,348659.67402904842,314886.76316463231,192284.97255835697,725990.2995396629,332688.39271819399,9518061.2026131172,686945.26710318134,10205006.469716299]
[2015,"Q1",2232684.1942376471,1044984.7290816155,767947.84417866508,1203157.8923026579,5001367.3701213682,464921.42359516595,344735.17585429014,319489.13412488962,200003.09346715885,717055.53425454022,359050.72845534934,11887449.275494682,872769.24820311554,12760218.523697797]
[null,"Q2",2494182.9783829255,949678.24385229021,648738.74991860206,1336783.7848196379,5321758.6800659373,499618.87265738205,310092.36455490516,324685.82278050692,190615.23726516363,759871.23377252859,263534.08660820918,12450821.304759488,913441.54383430572,13364262.848593794]
[null,"Q3",5194441.5366067803,963539.172702351,663719.27364499995,788533.44628174999,3554720.6193195945,468746.63141302904,291006.36274332966,306929.35499709955,194104.12228745542,812001.55064493907,244281.91282981803,12818304.709826147,938080.82549952576,13756385.535325672]
[null,"Q4",1891658.9131111966,1170839.5055826721,861113.88121156453,447029.0854104305,4287356.5912581449,431151.66821819596,333430.9200056814,300062.99333782436,196380.02725004061,739467.39228556212,334387.52072121773,10131764.617180964,733842.36740092898,10865606.984581893]
[2016,"Q1",2352276.4952295339,1227364.8882105632,917062.71176109649,1726218.37679582,4807418.6655839849,412506.7699057695,310891.75399148703,320973.67037151172,204352.2231017944,725720.28683010058,383260.20758733823,12470983.337607905,917685.14523617271,13388668.482844077]
[null,"Q2",2485750.4796745842,938899.95006663294,634510.49734556768,2069890.1717974483,4738708.9496669034,428495.65184277378,273035.80586223956,313893.6747726351,189494.37305240938,742811.27042390639,272797.77749435708,12453778.104653887,915005.50082738616,13368783.605481274]
[null,"Q3",4959778.9839264397,938117.64651712705,633830.70727389178,817290.69910377788,3842454.452130626,464424.21573297487,277797.70032477891,306664.42070506921,195899.30039639908,787935.70050544222,235855.38722726368,12826218.5065699,940579.4708485296,13766797.97741843]
[null,"Q4",1987452.7510483367,869297.96546735952,548855.55305204552,836720.84892106743,4274758.8953196406,509041.75348192384,322924.57911726489,311597.91804714897,189398.9580711961,817979.62231346383,336241.49331088964,10455414.785098292,752995.57352005877,11208410.358618351]
[2017,"Q1",2575499.5363150882,878398.23463608278,583545.96628805378,1240178.3106854933,4392821.0950500928,507515.92624328856,321228.59982322238,322180.39956294961,183680.25969924478,716711.82899985882,335075.49274981621,11473289.683765134,840436.83553266688,12313726.519297801]
[null,"Q2",2507192.3385999687,886687.15715624986,576620.14303043473,2225310.9375686552,5289578.7158505199,615102.83064123511,291566.49497022969,329863.81620931823,194074.43606285463,755144.81678683846,249217.28606610771,13343738.829911977,983576.58532721573,14327315.415239193]
[null,"Q3",4150618.0037293378,902119.09015247447,605293.77990896138,937560.71387018822,5343949.2684975034,580336.3260055522,276761.96541083883,322657.22271658463,190953.33396444799,850717.56713195634,208038.27803869886,13763711.769517586,1008922.7383685854,14772634.507886171]
[null,"Q4",2035854.0256208861,1049914.5272810813,753697.92772783467,969297.60132700636,5335528.4766909853,618484.65951352858,308391.71436265303,311568.3261191693,188932.84080118174,794347.87340368424,330474.54400159483,11942794.589121768,871054.47525877028,12813849.064380538]
[2018,"Q1",2760606.081750541,1063024.2392026118,772592.85866859823,1070583.2361437033,5219017.3623807849,604075.79375403794,368118.37305166805,340334.76282903366,196431.09386388279,851566.58883432427,335154.80040750589,12808912.332218096,934255.66696265631,13743167.999180753]
[null,"Q2",2665231.1338426378,998426.32746204769,677535.61189582176,2511567.1880588471,5341153.3035201607,646287.23182541854,313022.3193664244,323145.41995965492,196632.67571317591,790837.03611895803,241091.23672267175,14027393.87259,1034203.4512457657,15061597.323835766]
[null,"Q3",4128024.2082972131,875766.77450477099,531270.3220155806,1181597.2918426059,6099645.9057400692,651633.78134997166,323757.26617696747,322719.62748389388,180781.87675486773,837446.03928025381,193059.99354789063,14794432.764978504,1090492.3401935671,15884925.105172072]
[null,"Q4",2131275.5147607066,858358.1418718464,507411.69673990319,714482.4137077115,6220896.8311200785,676982.82130774145,347425.72112982027,337376.22804093116,152721.04097772273,822132.20460103685,283536.22779142222,12545187.145309018,915949.97313940956,13461137.118448427]
[2019,"Q1",3004214.2154954742,1025697.0365498682,675047.2752068151,1337654.6617104975,6312330.8465026654,683254.62888335716,406256.29157457472,344530.78149029001,189050.25272765625,1112261.3804357592,337212.75671600492,14752462.852086147,1065741.1600273349,15818204.012113482]
[null,"Q2",2794074.7073081434,956976.76228135184,584883.14373152412,2764477.8026738283,6637714.1910087541,743985.55437784886,327290.20053410006,332241.00358046859,195943.46314265463,950233.61175397283,225967.86337234621,15928905.160033466,1170318.9886681598,17099224.148701627]
[null,"Q3",3656291.1524278698,895001.07856254524,509716.07267776947,1623897.1916123165,5357644.2741026767,752691.30912822671,334087.96413471038,330585.73610080907,172435.76485403138,896174.19380833977,187976.07332489715,14206784.738056421,1039989.4423540834,15246774.180410504]
[null,"Q4",2217469.2032915079,972481.60094062099,590324.48434703413,1067488.5982483977,5595349.0620999616,749111.66636986274,386002.69558250194,338343.48907345603,146970.76093383229,932921.37978450547,280329.68424110342,12686468.140565749,918332.37106540566,13604800.511631155]
[2020,"Q1",3286854.8055645898,962084.72261777078,503125.31752743077,1925771.685529426,7005974.7949899631,734511.34240341815,400561.76612951612,349922.75365116668,144676.34475414574,1007212.4471763878,286593.97721876652,16104164.640035151,1179560.534815751,17283725.174850903]
[null,"Q2",3103787.2347235261,879000.76735744358,422526.81095899438,2954959.3343455191,5478984.8835210493,738293.07286403305,325310.311143086,347537.61419832957,103801.37229018808,1062953.4555694754,182431.79764101128,15177059.84365366,1102768.4705426914,16279828.314196352]
[null,"Q3",4069954.9110548263,741995.77281030477,369446.81193158322,1728445.423230388,5068326.1573940963,717712.29222074151,336425.63815148873,346169.00456909154,114466.66123713891,1222193.914616622,157413.66024258017,14503103.435527276,1037668.8312449724,15540772.266772248]
[null,"Q4",2447613.1997890556,780355.54587855388,365472.74710998847,1546072.5984457687,4602259.0106379036,786753.23821430968,416540.21363643941,346265.57248759567,112379.43268105722,910038.25609801069,203418.62960832837,12151695.697477024,878337.24942448363,13030032.946901508]
[2021,"Q1",3689788.6453193221,773072.86771058897,348328.44664098148,2049028.4098939465,5980763.4058243623,757215.19547906402,426946.35987717129,349385.51552477694,94000.864260953997,954717.95753902709,282825.90561874281,15357745.127047956,1125342.5336451735,16483087.66069313]
[null,"Q2",3633296.325202757,714753.82857318851,249074.35976456737,2807127.8011864265,5798840.5320221754,797634.11461196619,406270.74787146674,350503.58229927521,109091.53336110772,972538.85588310217,180106.64623103233,15770163.9672425,1156173.4029080772,16926337.370150577]
[null,"Q3",4585922.0586003391,693102.85171913612,276372.72723921406,2337399.4492880912,5464892.2989301039,741832.16206722427,395188.53078836866,351998.96327248646,133472.2951945269,968110.45984726888,164861.54436062451,15836780.614068171,1161724.3199198807,16998504.933988053]
[null,"Q4",2764858.6283246242,711472.87706236949,318496.01462907472,1764460.6634225049,5872009.3738347581,738772.11655918392,447345.40422048955,352295.67055744154,137320.44511803833,963784.2936934107,223231.68590273755,13975551.158695556,1016640.079806298,14992191.238501854]
["2022*","Q1",3972379.8832310615,698830.14992522961,335155.21890746715,2123130.924576242,6480684.1932233889,859898.44147027354,501195.06984519196,373128.00076632865,110503.80806633935,918136.61954337254,277752.88505021605,16315639.975697644,1203043.3071255183,17518683.282823164]
[null,"Q2",3632904.8443809119,764441.78686318744,290845.83755643503,2812181.5890580933,6284916.5724147083,904732.01997070643,442580.42855020473,361271.21839039918,110588.70333314703,940821.88550673332,171724.78887366067,16426163.83734175,1209906.3440865583,17636070.18142831]
[null,"Q3",4634924.7464415003,698172.60742102226,254280.23591707973,2405294.7305764598,5658224.0387910511,896954.26225580333,455507.26750378223,368076.36807870073,123422.65331115326,1014470.7175706029,158271.72438714808,16413319.116337225,1203148.3984818999,17616467.514819123]
[null,"Q4",2968659.7617453784,808781.10476603196,325411.63553791388,1902994.7201252221,6042077.437909822,925950.49048671417,482039.97032757092,351468.70135038922,126445.99980188061,933989.24178362195,214452.92160154111,14756860.349898173,1080013.5702018994,15836873.920100072]
["2023*","Q1",{"$f":"'[23]T.1.2'!C56","v":4060247.265592996},{"$f":"'[23]T.1.2'!D56","v":826950.74613148451},{"$f":"'[23]T.1.2'!E56","v":317263.99631567701},{"$f":"'[23]T.1.2'!F56","v":2454113.1713666441},{"$f":"'[23]T.1.2'!G56","v":6297023.6122862361},{"$f":"'[23]T.1.2'!H56","v":1098990.9247596844},{"$f":"'[23]T.1.2'!I56","v":578341.79503224662},{"$f":"'[23]T.1.2'!J56","v":373187.0160041023},{"$f":"'[23]T.1.2'!K56","v":131105.80079344648},{"$f":"'[23]T.1.2'!L56","v":959429.59423907544},{"$f":"'[23]T.1.2'!M56","v":287327.05502424255},{"$f":"'[23]T.1.2'!N56","v":17066716.981230158},{"$f":"'[23]T.1.2'!O56","v":1258500.4100110631},{"$f":"'[23]T.1.2'!P56","v":18325217.391241223}]
[null,"Q2",{"$f":"'[23]T.1.2'!C57","v":3506893.0134883989},{"$f":"'[23]T.1.2'!D57","v":866200.35066867934},{"$f":"'[23]T.1.2'!E57","v":286226.6979464707},{"$f":"'[23]T.1.2'!F57","v":3598088.8340317779},{"$f":"'[23]T.1.2'!G57","v":5733149.6843820866},{"$f":"'[23]T.1.2'!H57","v":1180189.6785647715},{"$f":"'[23]T.1.2'!I57","v":591246.8317945681},{"$f":"'[23]T.1.2'!J57","v":380260.85601289524},{"$f":"'[23]T.1.2'!K57","v":131851.94353780148},{"$f":"'[23]T.1.2'!L57","v":1000634.6563438217},{"$f":"'[23]T.1.2'!M57","v":143275.4706212806},{"$f":"'[23]T.1.2'!N57","v":17131791.319446083},{"$f":"'[23]T.1.2'!O57","v":1260365.3729344197},{"$f":"'[23]T.1.2'!P57","v":18392156.692380503}]
[null,"Q3",{"$f":"'[24]T.1.2'!C58","v":5066228.822099925},{"$f":"'[24]T.1.2'!D58","v":782048.12005929498},{"$f":"'[24]T.1.2'!E58","v":239085.9729249503},{"$f":"'[24]T.1.2'!F58","v":2028144.1611779048},{"$f":"'[24]T.1.2'!G58","v":5713526.1061448958},{"$f":"'[24]T.1.2'!H58","v":1239832.9850266438},{"$f":"'[24]T.1.2'!I58","v":573554.84033735329},{"$f":"'[24]T.1.2'!J58","v":375047.67059161479},{"$f":"'[24]T.1.2'!K58","v":146366.57345316169},{"$f":"'[24]T.1.2'!L58","v":1070241.1125349468},{"$f":"'[24]T.1.2'!M58","v":210895.4482551195},{"$f":"'[24]T.1.2'!N58","v":17205885.839680858},{"$f":"'[24]T.1.2'!O58","v":1260716.0359792532},{"$f":"'[24]T.1.2'!P58","v":18466601.87566011}]
[null,"Q4",{"$f":"'[25]T.1.2'!C59","v":3079122.117214269},{"$f":"'[25]T.1.2'!D59","v":861331.38568688952},{"$f":"'[25]T.1.2'!E59","v":254423.80467137138},{"$f":"'[25]T.1.2'!F59","v":2131470.6728519625},{"$f":"'[25]T.1.2'!G59","v":6075153.2950773481},{"$f":"'[25]T.1.2'!H59","v":1045636.2597295325},{"$f":"'[25]T.1.2'!I59","v":446999.74142871681},{"$f":"'[25]T.1.2'!J59","v":382415.76000976999},{"$f":"'[25]T.1.2'!K59","v":173675.63245165013},{"$f":"'[25]T.1.2'!L59","v":1090255.8642774001},{"$f":"'[25]T.1.2'!M59","v":226343.15878554154},{"$f":"'[25]T.1.2'!N59","v":15512403.887513077},{"$f":"'[25]T.1.2'!O59","v":1126836.4911115507},{"$f":"'[25]T.1.2'!P59","v":16639240.378624627}]
["* preliminary"]

{"sheet":"T.1.3","index":6,"n_rows":61,"n_cols":16,"rows_kept":61,"cut":false,"hidden":false,"merged":[[4,13,6,13],[4,14,6,14],[4,15,6,15],[5,3,5,4],[12,0,12,1],[5,9,6,9],[5,10,6,10],[5,11,6,11],[5,5,6,5],[5,6,6,6],[5,7,6,7],[5,8,6,8],[4,0,6,1],[4,2,4,12],[5,2,6,2],[5,12,6,12],[18,0,18,1],[15,0,15,1],[16,0,16,1],[17,0,17,1],[9,0,9,1],[10,0,10,1],[11,0,11,1],[13,0,13,1],[14,0,14,1]]}
["Table 1.3.Quarterly Gross Value Added at Constant Prices (by Economic Activities) Real Growth Rates, comparison with corresponding quarter of previous year"]
[]
["Non-Seasonally Adjusted"]
[{"$nulls":14},"              (in %)"]
["ISIC Rev.4",null,"Gross value added by industry",{"$nulls":10},"Gross value added","Net Taxes","Gross domestic product"]
[null,null,"Agriculture, forestry and fishing","Mining and quarrying; manufacturing; electricity, gas, steam and air conditioning supply; water supply; sewerage, waste management and remediation activities",null,"Construction","Wholesale and retail trade; repair of motor vehicles and motorcycles; transportation and storage; accommodation and food service activities","Information and communication","Financial and insurance activities","Real estate activities","Professional, scientific and technical activities; ","Public administration and defence; compulsory social security","Arts, entertainment and recreation, repair of household goods and other services"]
[null,null,null,"Total","of which: Manufacturing"]
[null,null,1,2,"2a",3,4,5,6,7,8,9,10,"11=1+2+..10",12,"13=11+12"]
[]
[2014,null,-12.384620537758025,8.4129619250135903,3.2576160011117565,11.533202979515096,1.6775720348148297,-3.5348131143863668,4.6694418906266577,10.651373934491687,9.0425179077817006,-11.059085328914335,28.007480395237621,-1.4581160429366946,-0.70727405185174064,-1.4073825201772792]
[2015,null,3.9501531274388668,3.0477509757047159,2.6379647515256011,54.742553482778874,-1.9441799145498635,9.4987996813428595,2.4254593427145181,0.99471077244974992,2.4120611801635761,1.7832594969930113,1.44767865285651,4.047281460661651,4.2058796649055381,4.0580738541051318]
[2016,null,-0.23456351820736643,-3.7626455260237464,-7.0460271291716907,44.354761514872564,-2.7627673131952264,-2.6801743447412605,-7.3960435829740021,0.15684382478869452,-0.2506234069751514,1.5206456986026353,2.2393774703630527,1.9413978762399466,1.9701869791923343,1.9433597184662261]
[2017,null,-4.3791555053518039,-6.456519195419915,-7.8669071052702009,-1.4269875119821478,15.277611404809079,27.940489565154252,1.1226047419277307,2.6445850846509273,-2.7599468784925705,1.3815560296301896,-8.5778485851180761,4.8067069756526877,5.0400327047764364,4.8226112130639365]
[2018,null,3.6912501931787034,2.1106796317432668,-1.2046616306103317,1.9708807937493589,12.370351603056108,11.093972465850442,12.886603203358376,2.9003460029910997,-4.1014396697521676,5.9372604571770893,-6.2311180433527511,7.2290888830512472,7.3140248933611076,7.2348904051339673]
[2019,null,-0.11200262518799775,1.4380163307772023,-5.1767506569762105,24.009362391490257,4.468064229280543,13.573722207391285,7.4918064084789791,1.6716056570275697,-3.0508480554693733,17.856206374510023,-2.0284027016719222,6.2734410269714687,5.5216597028539383,6.2220529936877682]
[2020,null,10.590778389563397,-12.641555542201559,-29.635927541427066,20.044559186326794,-7.3107589915964297,1.6465031182276988,1.7336360179697436,3.2840827438416653,-32.520776846469175,7.9866445974749354,-19.547355865443194,0.62771186394287781,9.4248066786022378E-2,0.59148736905238763]
[2021,null,13.678546333243617,-14.004555768237566,-28.201139569667859,9.8435655140604297,4.3373375411182025,1.9542615911909706,13.315395137454985,1.0280479686730217,-0.30267219834615844,-8.1678722600174325,2.5507635947155052,5.1854046287972579,6.229737381419497,5.2559687889231839]
["2022*",null,3.6459620855278274,2.6906084449307457,1.1256982240739717,3.1880455473895637,5.8373728904257121,18.187780156419024,12.267436404573502,3.5437354678098103,-0.61702154974737766,-1.3405304679233581,-3.3869082237439727,4.876486160768053,5.2968076675688849,4.905149465798786]
["2023*",null,3.3113703247004338,12.332563140353585,-9.0149368503003871,10.474432789597316,-2.6446992963483353,27.236377500465053,16.415071503654772,3.9181015723768411,23.789389479599251,8.2245428475617928,5.5508007783864741,4.7014888201251779,4.478315405652026,4.6862129657744447]
[]
[2014,"Q1",-6.9056305742362838,6.8197345630520658,0.63877673247674238,38.82187414050415,3.3125373922274832,30.131187616736241,22.731780914920364,6.9624105096405913,13.580782119420149,-7.772850282647255,26.88543306912517,4.5832517898981564,7.3521762461472093,4.7674719039948172]
[null,"Q2",-10.014820726797808,21.108801905744627,19.077034082869531,3.4230846192264295,-5.907912727968494,2.7586990749418163,-4.2079363532685221,12.967949144180182,11.558304134291291,-10.408602421559394,24.370304866583425,-2.9269828750996822,7.5168025576340938,-2.282381045397571]
[null,"Q3",-16.365061876796062,11.591792305438943,8.2235485032645954,35.614996693393437,13.762021623023557,-16.409389791504225,-5.631437246445131,8.9431748414412056,8.5927637128683614,-12.327910674389514,28.339024188842615,-2.1286079312058632,-2.7045317000987836,-2.16832557011098]
[null,"Q4",-9.8787904483419169,-4.0747519150273916,-12.39655632368472,-31.991512666827575,-2.0755888729744498,-18.495431661075727,9.1932968632328738,13.83290578522687,3.3839175495685225,-13.350435076382013,32.033341040052818,-5.0779610065927017,-13.767327208599411,-5.717484152314384]
[2015,"Q1",3.3308557672159935,17.364630044868306,25.208096424726705,59.838115579555193,3.5917589599877715,4.7791204268896195,11.874924231333225,5.5636644037674756,10.077966176026607,3.289143583769885,3.5426625704994592,8.9694729635821915,9.3555232475735579,8.9957910436989437]
[null,"Q2",4.2874920514190222,-12.549122827431702,-18.500328175987335,60.492330828742922,6.4863885185039436,18.035208994684496,5.5018926385573792,3.2524697882438431,4.3766860985605831,-2.6736732188843462,7.6891266241190692E-2,7.6457386419984488,8.3927289408760117,7.6964671418148214]
[null,"Q3",3.1876818348796263,-6.6563527975136481,-12.572335957473669,38.930988370720456,-22.136323516703044,9.1717286857621474,-2.4278400417185253,2.6255322451859797E-2,-5.8231315998245066,4.8582797453762936,1.224808378057233,-4.7347496528375501,-5.3205589844668708,-4.7749276082028587]
[null,"Q4",6.4081012701071529,17.278557871138617,23.472224357409189,55.961727541034293,3.6970316543695674,6.1059375552074329,-4.3677990767863406,-4.7076509910509117,2.1296800458188869,1.8563736670372606,0.51072656582371678,6.4477775620875235,6.8269049287595749,6.4732983445522336]
[2016,"Q1",5.3564360468239585,17.452901851420592,19.417317036928821,43.473968615383086,-3.8779135821145729,-11.273873611605595,-9.8172232580952965,0.46465938526777961,2.1745311831137712,1.2083795691735872,6.7426347346902844,4.9088248335675218,5.1463656774721755,4.9250720744252732]
[null,"Q2",-0.33808661118392536,-1.1349416347515699,-2.1932176203162896,54.841059212632729,-10.955959588754027,-14.235495235861833,-11.950168055848508,-3.3238741117339998,-0.58802445640534984,-2.2451124072594126,3.5151774881858131,2.3747830139271286E-2,0.17121588169895574,3.3827207221960975E-2]
[null,"Q3",-4.5175703880119471,-2.6383490059803734,-4.5031939794315008,3.6469287330334339,8.09441482537963,-0.92212197174075072,-4.5389600055586783,-8.6317677901107004E-2,0.92485316014314378,-2.9637689879264855,-3.4495086046034089,6.1738247942315638E-2,0.26635714973421898,7.5691700163687869E-2]
[null,"Q4",5.0640121891524643,-25.754301821687292,-36.26214081233713,87.173693217936716,-0.29383364015464508,18.065588284888534,-3.1509797856292039,3.844167713256823,-3.5548773857515954,10.617402585560185,0.55443833121320552,3.1944106495377582,2.6099891434403304,3.1549399359178949]
[2017,"Q1",9.4896599756982454,-28.432184831623815,-36.367932224893138,-28.156348735697435,-8.624120330978684,23.032144747399499,3.3249018988192205,0.37595893458835405,-10.115849531155945,-1.2413126646342079,-12.572323941702606,-8.0001201736361338,-8.417735658522119,-8.0287443439478778]
[null,"Q2",0.86259095998208579,-5.5610603565031056,-9.1236243619787842,7.508647941269416,11.624891337171888,43.54937512106477,6.786908057524073,5.0877550967699108,2.4169915637434372,1.6603876184987882,-8.6439455793356501,7.1461103432179982,7.4940625425557386,7.169925387713775]
[null,"Q3",-16.314456406614411,-3.8373178991250683,-4.5022948616149989,14.715696006120666,39.076450614380207,24.958239976707432,-0.37283782865343085,5.2150823283462415,-2.524749410509898,7.9678921244767906,-11.794137719551443,7.3091945413800659,7.2660811380883104,7.3062489339758514]
[null,"Q4",2.4353421507514526,20.777290295004576,37.321727645227043,15.844800876767167,24.814723060352307,21.499789611166165,-4.500389779662612,-9.4968310973087E-3,-0.2461033971681843,-2.8890388299579826,-1.7151212518446357,14.225928235227769,15.678565172278084,14.323518272399212]
[2018,"Q1",7.1872094257991961,21.018485384709251,32.396229826259457,-13.675055681956607,18.807874244222347,19.025977810292673,14.597010743828505,5.6348441092975037,6.9418641859043646,18.815757516190246,2.3668593915601832E-2,11.641148138557739,11.163103217688857,11.6085206021326]
[null,"Q2",6.3034172851261587,12.601870840687894,17.501204230401044,12.863651800631132,0.97502259518502399,5.0697866487907675,7.3588100026326515,-2.0367181605029714,1.3181744603873398,4.7265396700981057,-3.2606282941707576,5.1234144447245029,5.1472215457129238,5.1250488128121958]
[null,"Q3",-0.54434774319929602,-2.9211570773044429,-12.229343890583877,26.028882648575461,14.141164133001524,12.285540668315377,16.980404332787046,1.9340886524659595E-2,-5.3266717047600736,-1.5600392379864871,-7.199773345567678,7.4886848309599969,8.0848214360674149,7.5293990160801627]
[null,"Q4",4.6870496577336525,-18.244950463282024,-32.677047650961171,-26.288643164951907,16.593826802667252,9.4583044048699492,12.657281291696833,8.2832238575787756,-19.166493061714718,3.497753582230942,-14.203307656261146,5.0439832293184281,5.1541550104890774,5.0514724406048828]
[2019,"Q1",8.8244438551137847,-3.5114159467091071,-12.625742312695266,24.946348546311953,20.948646233725853,13.1074338597912,10.360232282552701,1.2329092174942673,-3.757470872376814,30.613553305125521,0.61403157764617333,15.173423546505688,14.073823441943787,15.098673122939516]
[null,"Q2",4.8342363943401523,-4.1514896032498143,-13.674922253170649,10.069832725058504,24.274923669277143,15.116857914163703,4.5581034593810159,2.8147029352757897,-0.35050764987128957,20.155426257886887,-6.2728838907247422,13.555698975267845,13.161388821361413,13.52862369810677]
[null,"Q3",-11.427574841280546,2.1962815463798506,-4.0571152659227607,37.432372503154568,-12.164667311903017,15.508331622847578,3.1908775607513604,2.4374435104067942,-4.6166751062958156,7.0127687962510521,-2.6333369900027179,-3.9720889354620539,-4.6312015204544394,-4.0173366920929823]
[null,"Q4",4.044230224287972,13.295552695510324,16.340338257837146,49.407260104389081,-10.055588221473315,10.654457216918516,11.103661043641296,0.28670100384414354,-3.7652179470995293,13.475834490297373,-1.1309114095563189,1.1261768646437389,0.26010131512211387,1.0672455968510945]
[2020,"Q1",9.4081370300187075,-6.2018619207548653,-25.468135935622044,43.966282229143218,10.988713446026182,7.5018465083551433,-1.4017076321421769,1.5650189912069408,-23.472017272272609,-9.4446265155961413,-15.010932560854656,9.1625500196250869,10.67983287663364,9.264775960754676]
[null,"Q2",11.08461869703423,-8.1481597043192693,-27.758764210010355,6.8903259591180444,-17.456752040593798,-0.76513333899018221,-0.60493390507356537,4.6040706755077423,-47.024835314553691,11.862329686216896,-19.266485544272683,-4.720006232859177,-5.7719748871495256,-4.7920059259969037]
[null,"Q3",11.313753237410353,-17.095544286715409,-27.519097055207283,6.438106559828995,-5.4000994076269961,-4.6471928775155078,0.69971811850000165,4.71383570630843,-33.617795975193374,36.379057002617344,-16.258671937195444,2.0857548202098997,-0.22313794877169357,1.9282641881027018]
[null,"Q4",10.378678367029082,-19.756266326914101,-38.089515715370879,44.832703691885939,-17.74849147819468,5.0248278773784421,7.9112188602347544,2.3414322042472264,-23.536197290526673,-2.4528458863040044,-27.435929534535518,-4.2152980416886692,-4.3551902231783117,-4.2247408496601082]
[2021,"Q1",12.258948556917446,-19.646071750613885,-30.767060510328946,6.4003809636777049,-14.633386775795117,3.0910146331240895,6.5868976968521054,-0.15353049231126192,-35.026790716413657,-5.2118587081129988,-1.314776966561098,-4.6349471063627021,-4.5964577120280126,-4.6323203248033593]
[null,"Q2",17.060096277069633,-18.68564225239912,-41.051229577774727,-5.0028280064921802,5.8378633141176408,8.0375996916419012,24.887141278706878,0.85342362373847891,5.0964269105522106,-8.505979185883902,-1.2745318744018448,3.9078986951273578,4.8428055201019902,3.9712277272018639]
[null,"Q3",12.677465938112505,-6.5893800049543358,-25.192823888707778,35.2313135186875,7.8244005855357983,3.3606599897921825,17.466829507928168,1.684136542106657,16.603641402638885,-20.789127791480951,4.7314090191199938,9.1958054665312261,11.955210076616567,9.3800529484148427]
[null,"Q4",12.961420070904566,-8.8270877524979596,-12.853689598577972,14.125343479748409,27.589719749842118,-6.0986239807577078,7.3954901773150823,1.7414662469980016,22.193573896894378,5.9059096950328183,9.7400401981657865,15.009061341103262,15.745982590677457,15.058736225735629]
["2022*","Q1",7.6587378052187489,-9.6035860119143734,-3.7818409207020238,3.6164708270751049,8.3588123033286905,13.560642549737196,17.390641294934881,6.7954978631242113,17.556161781206441,-3.8316382033862766,-1.7936902057923021,6.2372102201556174,6.9046331367800491,6.2827768889417399]
[null,"Q2",-1.0774811267921791E-2,6.9517582562918818,16.770685602223907,0.18003412133677443,8.3822970766024554,13.426946440328891,8.9373111081641099,3.0720473726656934,1.3723979541872211,-3.2612548264273329,-4.6538301238588389,4.1597530086680194,4.6474811687700708,4.1930678548883122]
[null,"Q3",1.068546024441531,0.7314579198904454,-7.9937306198133626,2.9047359153373549,3.5377044831935081,20.910673346422271,15.2632811977318,4.5674579995193199,-7.5293841832321533,4.7887363731869925,-3.9971844246840362,3.6405031825527772,3.5657408433074806,3.6353937198057196]
[null,"Q4",7.3711231139600244,13.677011568654947,2.1713367173191074,7.8513542168746397,2.8962498737293458,25.33641561883924,7.7556549770612975,-0.23473726081952861,-7.9190285953488058,-3.0914647711894361,-3.9325798511513028,5.5905429584184105,6.2336210871871174,5.6341509267102055]
["2023*","Q1",{"$f":"'[23]T.1.3'!C56","v":2.2119581949565372},{"$f":"'[23]T.1.3'!D56","v":18.333581660717286},{"$f":"'[23]T.1.3'!E56","v":-5.3381900631330126},{"$f":"'[23]T.1.3'!F56","v":15.589346985582779},{"$f":"'[23]T.1.3'!G56","v":-2.8339689986622005},{"$f":"'[23]T.1.3'!H56","v":27.804735042966826},{"$f":"'[23]T.1.3'!I56","v":15.3925546815302},{"$f":"'[23]T.1.3'!J56","v":1.5816351936194906E-2},{"$f":"'[23]T.1.3'!K56","v":18.643694808000674},{"$f":"'[23]T.1.3'!L56","v":4.4974760636646351},{"$f":"'[23]T.1.3'!M56","v":3.4470100903886305},{"$f":"'[23]T.1.3'!N56","v":4.6034173752991308},{"$f":"'[23]T.1.3'!O56","v":4.6097345421463558},{"$f":"'[23]T.1.3'!P56","v":4.6038511878849562}]
[null,"Q2",{"$f":"'[23]T.1.3'!C57","v":-3.4686245935513114},{"$f":"'[23]T.1.3'!D57","v":13.311486309905732},{"$f":"'[23]T.1.3'!E57","v":-1.5881745631199067},{"$f":"'[23]T.1.3'!F57","v":27.946532614805818},{"$f":"'[23]T.1.3'!G57","v":-8.7792237442641152},{"$f":"'[23]T.1.3'!H57","v":30.446325819548633},{"$f":"'[23]T.1.3'!I57","v":33.590821838046821},{"$f":"'[23]T.1.3'!J57","v":5.2563383562914652},{"$f":"'[23]T.1.3'!K57","v":19.227316682246666},{"$f":"'[23]T.1.3'!L57","v":6.3575020690417716},{"$f":"'[23]T.1.3'!M57","v":-16.566809276039024},{"$f":"'[23]T.1.3'!N57","v":4.2957533426046979},{"$f":"'[23]T.1.3'!O57","v":4.1704904759348551},{"$f":"'[23]T.1.3'!P57","v":4.2871597990599639}]
[null,"Q3",{"$f":"'[24]T.1.3'!C58","v":9.3055248845099783},{"$f":"'[24]T.1.3'!D58","v":12.013578268001694},{"$f":"'[24]T.1.3'!E58","v":-5.9754006981039112},{"$f":"'[24]T.1.3'!F58","v":-15.680014785887224},{"$f":"'[24]T.1.3'!G58","v":0.97737500273427713},{"$f":"'[24]T.1.3'!H58","v":38.227001888425661},{"$f":"'[24]T.1.3'!I58","v":25.915628850551968},{"$f":"'[24]T.1.3'!J58","v":1.8939826398807185},{"$f":"'[24]T.1.3'!K58","v":18.589715523426591},{"$f":"'[24]T.1.3'!L58","v":5.4974869159259327},{"$f":"'[24]T.1.3'!M58","v":33.248973606459629},{"$f":"'[24]T.1.3'!N58","v":4.8288022533768924},{"$f":"'[24]T.1.3'!O58","v":4.7847495429483615},{"$f":"'[24]T.1.3'!P58","v":4.8257935941234962}]
[null,"Q4",{"$f":"'[25]T.1.3'!C59","v":3.7209503390158005},{"$f":"'[25]T.1.3'!D59","v":6.4974664481138689},{"$f":"'[25]T.1.3'!E59","v":-21.814779532759417},{"$f":"'[25]T.1.3'!F59","v":12.006126465327554},{"$f":"'[25]T.1.3'!G59","v":0.54742524417179084},{"$f":"'[25]T.1.3'!H59","v":12.925720162414621},{"$f":"'[25]T.1.3'!I59","v":-7.2691542311403055},{"$f":"'[25]T.1.3'!J59","v":8.8050681441841334},{"$f":"'[25]T.1.3'!K59","v":37.351622608679065},{"$f":"'[25]T.1.3'!L59","v":16.731094481919158},{"$f":"'[25]T.1.3'!M59","v":5.5444510129327114},{"$f":"'[25]T.1.3'!N59","v":5.1199477375288609},{"$f":"'[25]T.1.3'!O59","v":4.3354011654592455},{"$f":"'[25]T.1.3'!P59","v":5.0664446946578039}]
["* preliminary"]